BEGIN:VCALENDAR
VERSION:2.0
PRODID:-//jEvents 2.0 for Joomla//EN
CALSCALE:GREGORIAN
METHOD:PUBLISH
BEGIN:VTIMEZONE
TZID:Europe/Lisbon
BEGIN:STANDARD
DTSTART:20151025T010000
RDATE:20160327T020000
TZOFFSETFROM:+0100
TZOFFSETTO:+0000
TZNAME:Europe/Lisbon WET
END:STANDARD
BEGIN:STANDARD
DTSTART:20161030T010000
RDATE:20170326T020000
TZOFFSETFROM:+0100
TZOFFSETTO:+0000
TZNAME:Europe/Lisbon WET
END:STANDARD
BEGIN:STANDARD
DTSTART:20171029T010000
RDATE:20180325T020000
TZOFFSETFROM:+0100
TZOFFSETTO:+0000
TZNAME:Europe/Lisbon WET
END:STANDARD
BEGIN:STANDARD
DTSTART:20181028T010000
RDATE:20190331T020000
TZOFFSETFROM:+0100
TZOFFSETTO:+0000
TZNAME:Europe/Lisbon WET
END:STANDARD
BEGIN:STANDARD
DTSTART:20191027T010000
RDATE:20200329T020000
TZOFFSETFROM:+0100
TZOFFSETTO:+0000
TZNAME:Europe/Lisbon WET
END:STANDARD
BEGIN:STANDARD
DTSTART:20201025T010000
RDATE:20210328T020000
TZOFFSETFROM:+0100
TZOFFSETTO:+0000
TZNAME:Europe/Lisbon WET
END:STANDARD
BEGIN:DAYLIGHT
DTSTART:20150419T000000
RDATE:20151025T010000
TZOFFSETFROM:+0000
TZOFFSETTO:+0100
TZNAME:Europe/Lisbon WEST
END:DAYLIGHT
BEGIN:DAYLIGHT
DTSTART:20160327T020000
RDATE:20161030T010000
TZOFFSETFROM:+0000
TZOFFSETTO:+0100
TZNAME:Europe/Lisbon WEST
END:DAYLIGHT
BEGIN:DAYLIGHT
DTSTART:20170326T020000
RDATE:20171029T010000
TZOFFSETFROM:+0000
TZOFFSETTO:+0100
TZNAME:Europe/Lisbon WEST
END:DAYLIGHT
BEGIN:DAYLIGHT
DTSTART:20180325T020000
RDATE:20181028T010000
TZOFFSETFROM:+0000
TZOFFSETTO:+0100
TZNAME:Europe/Lisbon WEST
END:DAYLIGHT
BEGIN:DAYLIGHT
DTSTART:20190331T020000
RDATE:20191027T010000
TZOFFSETFROM:+0000
TZOFFSETTO:+0100
TZNAME:Europe/Lisbon WEST
END:DAYLIGHT
BEGIN:DAYLIGHT
DTSTART:20200329T020000
RDATE:20201025T010000
TZOFFSETFROM:+0000
TZOFFSETTO:+0100
TZNAME:Europe/Lisbon WEST
END:DAYLIGHT
END:VTIMEZONE
BEGIN:VEVENT
UID:add522c438776d4b5002b97f01879cca
CATEGORIES:Santos
SUMMARY:Santo Expedito
DESCRIPTION;ENCODING=QUOTED-PRINTABLE:\n\nSanto Expedito não tem uma data de nascimento conhecida. Sabe-se que er
 a romano e que foi Senador de Roma, Príncipe-Cônsul do Império Romano na Ar
 mênia, militar, Comandante da XII Legião Romana.\nA XII Legião tinha o nome
  de Fulminata, nome que significa &ldquo;algo que vem como um raio&rdquo;. 
 A Fulminata tinha cerca de 8 mil homens contando soldados, escravos e caval
 eiros. Santo Expedito comandou a XII Legião de 296 a 303 d. C. num tempo em
  que a XII Legião defendia as fronteiras orientais do Império Romano contra
  os bárbaros asiáticos.\nComo grande parte dos soldados romanos, Santo Expe
 dito tinha uma vida devassa, rodeada de luxo, prazeres e fama.\nSanto Exped
 ito tinha soldados que eram cristãos e simpatizava com a mensagem de Jesus,
  admirava os ensinamentos do Mestre de Nazaré e via no Evangelho palavras q
 ue ninguém jamais tinha dito antes na história humana. Por isso, pensava em
  converter-se um dia. Porém esse dia era sempre adiado.\nUma noite Santo Ex
 pedito teve um sonho que mudou sua vida. No sonho, com um corvo representan
 do o espírito do mal, grasnava diante dele a palavra cras (palavra latina q
 ue significa amanhã), deixe a sua conversão para amanhã. O corvo grasnava f
 orte e parecia poderoso. Porém, de repente, Santo Expedito decidiu e pisote
 ou o corvo dizendo: hodie, que significa hoje, em latim. Depois Santo Exped
 ito acordou do sonho decidido e confirmou sua conversão.\nConvertido, Santo
  Expedito continuou ainda durante algum tempo como chefe da XII Legião, con
 seguindo converter seus soldados também ao cristianismo.\nCom a conversão d
 e Santo Expedito e da sua tropa, o imperador Diocleciano começou a persegui
 r Santo Expedito e os seus soldados. A importância do posto de Santo Expedi
 to fazia dele uma influência muito forte a favor do Cristianismo dentro do 
 Império Romano. Por isso tornou-se alvo especial do Imperador.\nPor ordem d
 o imperador Diocleciano, Santo Expedito foi preso forçado a renunciar à sua
  fé. Como Santo Expedito não renunciou foi castigado. Inicialmente foi chic
 oteado 39 vezes com o flagrus (chicote que dilacera a pele e causa hemorrag
 ias). Depois foi decapitado a 19 de abril do ano 303 em Melitene na Arménia
 .\nÉ o padroeiro das causas justas e urgentes.\n\n\nSanto Expedito, rogai p
 or nós!\n
DTSTAMP:20260423T210916Z
DTSTART;TZID=Europe/Lisbon;VALUE=DATE:20160419
DTEND;TZID=Europe/Lisbon;VALUE=DATE:20160420
SEQUENCE:0
RRULE:FREQ=YEARLY;COUNT=100;INTERVAL=1;BYYEARDAY=-257
TRANSP:OPAQUE
END:VEVENT
END:VCALENDAR