BEGIN:VCALENDAR
VERSION:2.0
PRODID:-//jEvents 2.0 for Joomla//EN
CALSCALE:GREGORIAN
METHOD:PUBLISH
BEGIN:VTIMEZONE
TZID:Europe/Lisbon
BEGIN:STANDARD
DTSTART:20151025T010000
RDATE:20160327T020000
TZOFFSETFROM:+0100
TZOFFSETTO:+0000
TZNAME:Europe/Lisbon WET
END:STANDARD
BEGIN:STANDARD
DTSTART:20161030T010000
RDATE:20170326T020000
TZOFFSETFROM:+0100
TZOFFSETTO:+0000
TZNAME:Europe/Lisbon WET
END:STANDARD
BEGIN:STANDARD
DTSTART:20171029T010000
RDATE:20180325T020000
TZOFFSETFROM:+0100
TZOFFSETTO:+0000
TZNAME:Europe/Lisbon WET
END:STANDARD
BEGIN:STANDARD
DTSTART:20181028T010000
RDATE:20190331T020000
TZOFFSETFROM:+0100
TZOFFSETTO:+0000
TZNAME:Europe/Lisbon WET
END:STANDARD
BEGIN:STANDARD
DTSTART:20191027T010000
RDATE:20200329T020000
TZOFFSETFROM:+0100
TZOFFSETTO:+0000
TZNAME:Europe/Lisbon WET
END:STANDARD
BEGIN:STANDARD
DTSTART:20201025T010000
RDATE:20210328T020000
TZOFFSETFROM:+0100
TZOFFSETTO:+0000
TZNAME:Europe/Lisbon WET
END:STANDARD
BEGIN:DAYLIGHT
DTSTART:20150416T000000
RDATE:20151025T010000
TZOFFSETFROM:+0000
TZOFFSETTO:+0100
TZNAME:Europe/Lisbon WEST
END:DAYLIGHT
BEGIN:DAYLIGHT
DTSTART:20160327T020000
RDATE:20161030T010000
TZOFFSETFROM:+0000
TZOFFSETTO:+0100
TZNAME:Europe/Lisbon WEST
END:DAYLIGHT
BEGIN:DAYLIGHT
DTSTART:20170326T020000
RDATE:20171029T010000
TZOFFSETFROM:+0000
TZOFFSETTO:+0100
TZNAME:Europe/Lisbon WEST
END:DAYLIGHT
BEGIN:DAYLIGHT
DTSTART:20180325T020000
RDATE:20181028T010000
TZOFFSETFROM:+0000
TZOFFSETTO:+0100
TZNAME:Europe/Lisbon WEST
END:DAYLIGHT
BEGIN:DAYLIGHT
DTSTART:20190331T020000
RDATE:20191027T010000
TZOFFSETFROM:+0000
TZOFFSETTO:+0100
TZNAME:Europe/Lisbon WEST
END:DAYLIGHT
BEGIN:DAYLIGHT
DTSTART:20200329T020000
RDATE:20201025T010000
TZOFFSETFROM:+0000
TZOFFSETTO:+0100
TZNAME:Europe/Lisbon WEST
END:DAYLIGHT
END:VTIMEZONE
BEGIN:VEVENT
UID:b90cb9ae5aff2db01308f8909878d73a
CATEGORIES:Santos
SUMMARY:São Bento José Labre
DESCRIPTION;ENCODING=QUOTED-PRINTABLE:São Bento José Labre também é conhecido como São Benedito José Labre ou o &
 ldquo;cigano de Cristo&rdquo;, nasceu a 25 de maio de 1748 em Amettes (Fran
 ça) e faleceu a 16 de abril de 1783 em Roma (Itália).\nSão Bento José Labre
  era o mais velho dos quinze filhos de um casal de agricultores pobres. Os 
 seus pais eram modestos agricultores, porém, generosos e tementes a Deus. S
 ão Bento José Labre frequentou a escola local, e aprendeu latim com um tio 
 materno. Ainda muito jovem São Bento José Labre, quis tornar-se monge trapi
 sta, mas não conseguiu o consentimento dos pais.\nQuando completou 18 anos,
  São Bento José Labre conseguiu o consentimento dos pais, e ingressou no co
 nvento trapista de Santa Algegonda. Contudo a sua permanência foi curta poi
 s os monges não o aprovaram. São Bento José Labre percorreu então, a pé, ce
 ntenas de quilómetros debaixo de um rigoroso inverno, até a Normandia, onde
  pediu admissão no convento cisterciense de Montaigne. Não obteve autorizaç
 ão para ingressar. São Bento José Labre tentou ainda por mais duas vezes in
 gressar em conventos, primeiro no dos cartuchos de Neuville e depois nos ci
 stercienses de Sept-fons, sempre com o mesmo resultado.\nPorém para São Ben
 to José Labre o desejo de servir a Deus e anunciar o Evangelho era maior do
  que todas as recusas. Depois de ter caminhado por dois anos (algumas fonte
 s referem quatro anos) São Bento José Labre deciciu que o seu mosteiro,most
 eiro seriam as estradas e, como peregrino, anunciaria o Evangelho nas perif
 erias e ruas das cidades por onde passasse.\nNo embornal (saco para transpo
 rtar ferramentas e provisões) de peregrino São Bento José Labre carregava a
 penas o Novo Testamento, a Imitação de Cristo e um breviário. No peito, um 
 crucifixo; no pescoço, um terço; e nas mãos, um rosário. Alimentava-se apen
 as de pão e ervas, passando a noite ao relento, rezando e meditando. Depois
  de caminhar 30 mil quilómetros São Bento José Labre chegou a Roma, no ano 
 de 1770 e misturou-se aos mendigos.\nDurante a noite, São Bento José Labre 
 dormia nas ruínas do Coliseu e, de dia, percorria as estradas peregrinando 
 nos lugares sagrados e evangelizando sem pedir esmolas. Quando recebia a ca
 ridade alheia, mesmo sem pedir, dividia o que ganhava com os pobres. Uma ve
 z um cidadão que encarou sua atitude como um insulto, bateu-lhe. São Bento 
 José Labre percorreu todos os santuários de Itália, visitando o santuário d
 e Loreto por 11 vezes. \nA vida de São Bento José Labre maltratou a sua saú
 de: o frio, a neve, a pouca alimentação, a maneira insatisfatória de higien
 e e as penitências que se autoimpusera, foram limitando as forças do santo.
  Os seus pés estavam feridos e cansados, as suas pernas deformadas pelas an
 danças e pela artrose, as suas mãos calejadas, porém o seu olhar cansado er
 a como um farol luminoso da Graça. \nTodos tinham São Bento José Labre em g
 rande estima e respeito e apesar da sua aparência descuidada, São Bento Jos
 é Labre era visto como um santo; as suas palavras eram sempre de amor, grat
 idão, respeito e exortação. Por onde passava, traçava o sinal da cruz e a t
 odos abençoava.\nNa primavera de 1783, São Bento José Labre já doente e can
 sado é encontrado agonizando na rua. É levado para a casa de um amigo, onde
  viria a falecer a 16 de abril de 1783.\nSão Bento José Labre foi canonizad
 o pelo Papa Leão XIII no ano de 1883. \nÉ padroeiro dos deslocados e das pe
 ssoas desadaptadas.\n \nSão Bento José Labre rogai por nós!\n
DTSTAMP:20260422T010145Z
DTSTART;TZID=Europe/Lisbon;VALUE=DATE:20160416
DTEND;TZID=Europe/Lisbon;VALUE=DATE:20160417
SEQUENCE:0
RRULE:FREQ=YEARLY;COUNT=100;INTERVAL=1;BYYEARDAY=-260
TRANSP:OPAQUE
END:VEVENT
END:VCALENDAR