BEGIN:VCALENDAR
VERSION:2.0
PRODID:-//jEvents 2.0 for Joomla//EN
CALSCALE:GREGORIAN
METHOD:PUBLISH
BEGIN:VTIMEZONE
TZID:Europe/Lisbon
BEGIN:STANDARD
DTSTART:20151025T010000
RDATE:20160327T020000
TZOFFSETFROM:+0100
TZOFFSETTO:+0000
TZNAME:Europe/Lisbon WET
END:STANDARD
BEGIN:STANDARD
DTSTART:20161030T010000
RDATE:20170326T020000
TZOFFSETFROM:+0100
TZOFFSETTO:+0000
TZNAME:Europe/Lisbon WET
END:STANDARD
BEGIN:STANDARD
DTSTART:20171029T010000
RDATE:20180325T020000
TZOFFSETFROM:+0100
TZOFFSETTO:+0000
TZNAME:Europe/Lisbon WET
END:STANDARD
BEGIN:STANDARD
DTSTART:20181028T010000
RDATE:20190331T020000
TZOFFSETFROM:+0100
TZOFFSETTO:+0000
TZNAME:Europe/Lisbon WET
END:STANDARD
BEGIN:STANDARD
DTSTART:20191027T010000
RDATE:20200329T020000
TZOFFSETFROM:+0100
TZOFFSETTO:+0000
TZNAME:Europe/Lisbon WET
END:STANDARD
BEGIN:STANDARD
DTSTART:20201025T010000
RDATE:20210328T020000
TZOFFSETFROM:+0100
TZOFFSETTO:+0000
TZNAME:Europe/Lisbon WET
END:STANDARD
BEGIN:DAYLIGHT
DTSTART:20150416T000000
RDATE:20151025T010000
TZOFFSETFROM:+0000
TZOFFSETTO:+0100
TZNAME:Europe/Lisbon WEST
END:DAYLIGHT
BEGIN:DAYLIGHT
DTSTART:20160327T020000
RDATE:20161030T010000
TZOFFSETFROM:+0000
TZOFFSETTO:+0100
TZNAME:Europe/Lisbon WEST
END:DAYLIGHT
BEGIN:DAYLIGHT
DTSTART:20170326T020000
RDATE:20171029T010000
TZOFFSETFROM:+0000
TZOFFSETTO:+0100
TZNAME:Europe/Lisbon WEST
END:DAYLIGHT
BEGIN:DAYLIGHT
DTSTART:20180325T020000
RDATE:20181028T010000
TZOFFSETFROM:+0000
TZOFFSETTO:+0100
TZNAME:Europe/Lisbon WEST
END:DAYLIGHT
BEGIN:DAYLIGHT
DTSTART:20190331T020000
RDATE:20191027T010000
TZOFFSETFROM:+0000
TZOFFSETTO:+0100
TZNAME:Europe/Lisbon WEST
END:DAYLIGHT
BEGIN:DAYLIGHT
DTSTART:20200329T020000
RDATE:20201025T010000
TZOFFSETFROM:+0000
TZOFFSETTO:+0100
TZNAME:Europe/Lisbon WEST
END:DAYLIGHT
END:VTIMEZONE
BEGIN:VEVENT
UID:edbb0c097beeefc95e42510b0ecc380e
CATEGORIES:Santos
SUMMARY:Magno das Órcades
DESCRIPTION;ENCODING=QUOTED-PRINTABLE:São Magno das Órcades (Magnus de Orkney), nasceu por volta do ano 1080 nas 
 Órcades (Reino Unido) e faleceu a 16 de abril de 1115 em Egilsay (Reino Uni
 do). Era o filho mais velho de Erlend Thorfinnsson, Conde das Órcades (que 
 governou juntamente com seu irmão Paul) e Thora, uma filha de Sumarlidi Osp
 aksson. Tinha três irmãos, um rapaz (Erling) e duas raparigas (Gunnhild e C
 ecilia).\nA piedade, afabilidade, vida casta e carácter grave e sério de sã
 o Magno das Órcades têm sido louvados. Numa luta do seu pai contra o rei da
  Noruega, São Magno foi levado como refém. Chegou a escapar e viveu algum t
 empo em segurança na corte do rei da Escócia, Malcolm III. Depois da morte 
 do pai e do rei da Noruega, São Magno das Órcades conseguiu recuperar as pr
 opriedades da família, que entretanto foram contestadas por um primo direit
 o, chamado Hacon, que lançou sobre ele toda a espécie de ciladas, e atraiu-
 o para a ilhota de Egilsay.\nQuando participava na Missa numa igreja, São M
 agno foi levado desta, para ser julgado e condenado pelo seu primo. As pess
 oas que acompanhavam São Magno, entretanto Conde das Órcades, queriam lutar
  para o defender, mas São Magno obstou a que o fizessem, dizendo que prefer
 ia tudo suportar em vez de recorrer à força.\nSofreu a morte com a coragem 
 dum cristão e faleceu a 16 de abril de 1116.\n \nSão Magno das Órcades roga
 i por nós!\n
DTSTAMP:20260423T020343Z
DTSTART;TZID=Europe/Lisbon;VALUE=DATE:20160416
DTEND;TZID=Europe/Lisbon;VALUE=DATE:20160417
SEQUENCE:0
RRULE:FREQ=YEARLY;COUNT=100;INTERVAL=1;BYYEARDAY=-260
TRANSP:OPAQUE
END:VEVENT
END:VCALENDAR