BEGIN:VCALENDAR
VERSION:2.0
PRODID:-//jEvents 2.0 for Joomla//EN
CALSCALE:GREGORIAN
METHOD:PUBLISH
BEGIN:VTIMEZONE
TZID:Europe/Lisbon
BEGIN:STANDARD
DTSTART:20151025T010000
RDATE:20160327T020000
TZOFFSETFROM:+0100
TZOFFSETTO:+0000
TZNAME:Europe/Lisbon WET
END:STANDARD
BEGIN:STANDARD
DTSTART:20161030T010000
RDATE:20170326T020000
TZOFFSETFROM:+0100
TZOFFSETTO:+0000
TZNAME:Europe/Lisbon WET
END:STANDARD
BEGIN:STANDARD
DTSTART:20171029T010000
RDATE:20180325T020000
TZOFFSETFROM:+0100
TZOFFSETTO:+0000
TZNAME:Europe/Lisbon WET
END:STANDARD
BEGIN:STANDARD
DTSTART:20181028T010000
RDATE:20190331T020000
TZOFFSETFROM:+0100
TZOFFSETTO:+0000
TZNAME:Europe/Lisbon WET
END:STANDARD
BEGIN:STANDARD
DTSTART:20191027T010000
RDATE:20200329T020000
TZOFFSETFROM:+0100
TZOFFSETTO:+0000
TZNAME:Europe/Lisbon WET
END:STANDARD
BEGIN:STANDARD
DTSTART:20201025T010000
RDATE:20210328T020000
TZOFFSETFROM:+0100
TZOFFSETTO:+0000
TZNAME:Europe/Lisbon WET
END:STANDARD
BEGIN:DAYLIGHT
DTSTART:20150412T000000
RDATE:20151025T010000
TZOFFSETFROM:+0000
TZOFFSETTO:+0100
TZNAME:Europe/Lisbon WEST
END:DAYLIGHT
BEGIN:DAYLIGHT
DTSTART:20160327T020000
RDATE:20161030T010000
TZOFFSETFROM:+0000
TZOFFSETTO:+0100
TZNAME:Europe/Lisbon WEST
END:DAYLIGHT
BEGIN:DAYLIGHT
DTSTART:20170326T020000
RDATE:20171029T010000
TZOFFSETFROM:+0000
TZOFFSETTO:+0100
TZNAME:Europe/Lisbon WEST
END:DAYLIGHT
BEGIN:DAYLIGHT
DTSTART:20180325T020000
RDATE:20181028T010000
TZOFFSETFROM:+0000
TZOFFSETTO:+0100
TZNAME:Europe/Lisbon WEST
END:DAYLIGHT
BEGIN:DAYLIGHT
DTSTART:20190331T020000
RDATE:20191027T010000
TZOFFSETFROM:+0000
TZOFFSETTO:+0100
TZNAME:Europe/Lisbon WEST
END:DAYLIGHT
BEGIN:DAYLIGHT
DTSTART:20200329T020000
RDATE:20201025T010000
TZOFFSETFROM:+0000
TZOFFSETTO:+0100
TZNAME:Europe/Lisbon WEST
END:DAYLIGHT
END:VTIMEZONE
BEGIN:VEVENT
UID:63412b7c125806a26f148961a8ec582b
CATEGORIES:Santos
SUMMARY:Sabas, o Godo
DESCRIPTION;ENCODING=QUOTED-PRINTABLE:São Sabas, o Godo, era filho de pais católicos, que se esmeraram em lhe pro
 porcionar uma educação rigorosamente cató­lica, afastando o menino de todas
  as influências da heresia. São Sabas foi crescendo sendo desde pequeno ami
 go da oração e das coisas divinas. Não descuidando o es­tudo das ciências e
  artes, São Sabas era mes­tre na ciência dos Santos.\nAinda enquanto jovem 
 São Sabas (o Godo) trabalhou pela conversão de idólatras e hereges. Quando 
 os pais morreram São Sabas destinou grande parte da fortuna aos católicos p
 obres, que sofriam perseguições da parte dos Godos. São Sabas, o Godo defen
 dia corajosamente os godos, sendo seu desejo um dia alcançar a coroa do mar
 tírio.\nAs autoridades e pessoas de in­fluência, entre os Godos, eram pa­gã
 os e tudo faziam para prejudicar a religião cristã. A perseguição co­meçou 
 com a ordem dada aos ca­tólicos, de comerem a carne dos animais mortos no c
 ulto dos deu­ses. Pagãos havia que, para salvar a vida de parentes católico
 s, faziam clandestinamente substituir a car­ne sagrada por outra comum, en­
 ganando habilmente a vigilância dos guardas. São Sabas opôs-se francamente 
 a esta prática e disse não poder reconhecer como cristãos aqueles, que dest
 a manei­ra pretendiam iludir pagãos e ca­tólicos. Este enérgico protesto de
  São Sabas, o Godo sal­vou a muitos da queda; outros, po­rém, achando que e
 ra excessivo esse rigor, fizeram-lhe guerra e obri­garam-no a sair daquela 
 localidade; para o voltarem a chamar tempo depois, quando irrompeu uma pers
 eguição mais rude ainda contra o catolicismo. Um emissário do governo apare
 ceu no lugar on­de estava Sabas, para descobrir os cristãos. Os habitantes 
 do local tinham combinado declarar que ali não existia católi­co nenhum. Sã
 o Sabas opôs-se a este plano e declarou àqueles que es­tavam prontos a pres
 tar juramen­to: &ldquo;Quanto a mim, ninguém jure, pois sou cristão&rdquo;.
  O emissário, sa­bendo do incidente, citou São Sabas perante à sua presença
  e intimou-o a fazer declarações sobre os bens de fortuna. Descobrindo, por
 ém, que São Sabas era pobre, que nada possuía além da roupa do corpo, o mag
 is­trado tratou-o com desprezo e des­pediu-o.\nNo ano de 372, São Sabas pre
 tendia festejar a Páscoa da melhor maneira possível. Assim pôs-se a caminho
  para ir ter com o sacerdote Gutica que morava num lugar distante, contudo 
 no meio do cami­nho, e devido a um aviso do céu, São Sabas resolveu voltar 
 e celebrar a Páscoa com o sacerdote Sansala. Três dias depois da festa da P
 áscoa, um ban­do, chefiado por Atarido, filho de um príncipe daquela região
 , as­saltou a casa do sacerdote, apo­derou-se da pessoa deste e de São Saba
 s, e levou ambos, maltratan­do-os de maneira bárbara. Os ferimentos infligi
 dos a São Sa­bas não deixaram vestígios, o que causou grande admiração nos 
 perseguidores.\nAtarido, cheio de ira, mandou que fosse servida carne dos a
 lta­res pagãos a São Sabas e ao sacerdote Sansala. Ambos se negaram a comer
 , e São Sabas declarou: &ldquo;Es­ta carne é impura e profana; co­mo impuro
  e profano é aquele, que no-la mandou&rdquo;. Ainda São Sabas se encontrava
  a falar, quando um dos soldados, com toda força lhe arremessou a lança con
 tra o peito. Os presentes julgavam já morto o São Sabas, quando o santo sem
  o menor sinal de perturbação, continuou: &ldquo;Pensas talvez que assim me
  podes matar? O golpe de lança, que con­tra meu peito dirigiste, não me fez
  maior mal, que se me tivesses ati­rado um floco de lã&rdquo;. Atarido deci
 diu então que São Sabas tinha de ser morto e mandou libertar Sansala.\nOs s
 ol­dados, movidos por sentimentos humanos, ofereceram a São Sabas a possibi
 lidade de fugir, mas o santo sentia-se feliz, por ter sido acha­do digno de
  morrer pela fé. Depois de ter sido conduzido à mar­gem do rio Mussovo, afl
 uente do Danúbio, para ser afogado São Sabas, o Godo disse aos soldados &ld
 quo;Fazei o que vos for ordenado. Vejo na outra banda o que não vedes. Vejo
  ali os mensageiros de Deus, que vieram buscar minha al­ma e conduzi-la à g
 lória eterna&rdquo;. Os soldados então amarraram São Sabas e atiraram-no à 
 água. São Sabas, o Godo morreu a 12 de abril de 372.\n \nSão Sabas, o Godo 
 rogai por nós!\n
DTSTAMP:20260421T210750Z
DTSTART;TZID=Europe/Lisbon;VALUE=DATE:20160412
DTEND;TZID=Europe/Lisbon;VALUE=DATE:20160413
SEQUENCE:0
RRULE:FREQ=YEARLY;COUNT=100;INTERVAL=1;BYYEARDAY=-264
TRANSP:OPAQUE
END:VEVENT
END:VCALENDAR