BEGIN:VCALENDAR
VERSION:2.0
PRODID:-//jEvents 2.0 for Joomla//EN
CALSCALE:GREGORIAN
METHOD:PUBLISH
BEGIN:VTIMEZONE
TZID:Europe/Lisbon
BEGIN:STANDARD
DTSTART:20171029T010000
RDATE:20180325T020000
TZOFFSETFROM:+0100
TZOFFSETTO:+0000
TZNAME:Europe/Lisbon WET
END:STANDARD
BEGIN:STANDARD
DTSTART:20181028T010000
RDATE:20190331T020000
TZOFFSETFROM:+0100
TZOFFSETTO:+0000
TZNAME:Europe/Lisbon WET
END:STANDARD
BEGIN:STANDARD
DTSTART:20191027T010000
RDATE:20200329T020000
TZOFFSETFROM:+0100
TZOFFSETTO:+0000
TZNAME:Europe/Lisbon WET
END:STANDARD
BEGIN:STANDARD
DTSTART:20201025T010000
RDATE:20210328T020000
TZOFFSETFROM:+0100
TZOFFSETTO:+0000
TZNAME:Europe/Lisbon WET
END:STANDARD
BEGIN:DAYLIGHT
DTSTART:20170406T000000
RDATE:20171029T010000
TZOFFSETFROM:+0000
TZOFFSETTO:+0100
TZNAME:Europe/Lisbon WEST
END:DAYLIGHT
BEGIN:DAYLIGHT
DTSTART:20180325T020000
RDATE:20181028T010000
TZOFFSETFROM:+0000
TZOFFSETTO:+0100
TZNAME:Europe/Lisbon WEST
END:DAYLIGHT
BEGIN:DAYLIGHT
DTSTART:20190331T020000
RDATE:20191027T010000
TZOFFSETFROM:+0000
TZOFFSETTO:+0100
TZNAME:Europe/Lisbon WEST
END:DAYLIGHT
BEGIN:DAYLIGHT
DTSTART:20200329T020000
RDATE:20201025T010000
TZOFFSETFROM:+0000
TZOFFSETTO:+0100
TZNAME:Europe/Lisbon WEST
END:DAYLIGHT
END:VTIMEZONE
BEGIN:VEVENT
UID:c8ae8741f8bc2837ce29825a9c0147d4
CATEGORIES:Santos
SUMMARY:São João Baptista de La Salle
DESCRIPTION;ENCODING=QUOTED-PRINTABLE:São João Batista de La Salle nasceu a 30 de abril de 1651 na casa de famíli
 a na rua de L&rsquo;Arbatete, que ainda hoje existe, em Reims (França) e fa
 leceu a 7 de abril de 1719 em Sant-Yon (França). São João Batista de La Sal
 le era o filho mais velho dos onze filhos do casal Luís de La Salle e Nicol
 le Möet. São João Batista de La Salle nasceu no seio duma família nobre e p
 rofundamente cristã, o seu pai era conselheiro do rei Luís XIV e a sua mãe 
 descendia duma família de fabricantes de champagne.\nDos onze filhos do cas
 al, quatro tornaram-se religiosos, São João Batista de La Salle destacou-se
  pelos seus dons espirituais; uma irmã foi freira no Mosteiro de Santo Estê
 vão em Reims e dois irmãos seus foram padres diocesanos.\nDesde criança, qu
 e São João Batista de La Salle gostava de brincar repetindo as celebrações 
 litúrgicas das quais participava com a mãe, num pequeno altar montado pelo 
 santo. Ao mesmo tempo, o seu pai despertou em São João Batista de La Salle 
 o gosto pelas artes, especialmente pela música clássica e sacra. Todas as s
 emanas o seu pai promovia encontros musicais em casa, onde contava com a pr
 esença dos mais renomados músicos da região. Desde tenra idade São João Bat
 ista de La Salle participava nessas apresentações executando sempre músicas
  sacras. Assim, os pais ajudaram São João Batista de La Salle a entrar no C
 oral dos Cónegos da Catedral de Reims.\nOs seus pais desejavam que São João
  Batista de La Salle seguisse uma carreira política, contudo quando chegou 
 o tempo de escolher que profissão queria seguir, o jovem João Batista de La
  Salle afirmou querer queria ser padre. O pai Luís La Salle surpreendeu-se 
 com tal afirmação, mas aceitou, entendendo que não poderia, nem deveria dis
 putar o filho com o Pai Celestial.\nAssim São João Batista de La Salle pass
 ou a acolitar, e quando fez 16 anos recebeu a nomeação de Cónego da Catedra
 l da cidade de Reims. São João Batista de La Sale dedicava-se aos estudos d
 esde menino e ao completar 18 anos recebeu o título de Mestre das Artes Liv
 res. Pouco tempo depois, ingressou na Universidade de Sorbonne, em Paris.\n
 Enquanto estudava na Universidade de Sorbonne, São João Batista passou a vi
 ver no Seminário de Saint Suplice (Paris). São João Batista de La Salle div
 idia o seu tempo entre os estudos, a oração, a caridade e o trabalho de cat
 equista. O trabalho de São João Batista de La Salle foi tão frutuoso que ch
 egou a lecionar para quatro mil crianças, ensinando-lhes os rudimentos da f
 é cristã, preparando-as para receberem a primeira comunhão e formando-as pa
 ra, no futuro, se tornarem cristãos fervorosos. Com essa experiência, São J
 oão Batista de La Salle descobria a sua vocação de educador. A 17 de março 
 de 1668 recebeu as ordens menores em Reims e com a morte da mãe em 19 de ju
 lho de 1671 e do pai a 9 de abril de 1672, São João Batista de La Salle ass
 umiu a tutela dos irmãos mais novos, contando com o apoio do seu primo Nico
 lás Roland, que era auxiliar na Catedral de Reims.\nCom o apoio do primo, S
 ão João Batista de La Salle pode novamente dedicar-se aos seus estudos em T
 eologia e a 11 de julho de 1672 foi ordenado subdiácono em Cambray, sendo o
 rdenado sacerdote a 9 de abril de 1678 e recebido o título de doutor em teo
 logia dois anos mais tarde.\nEntretanto a senhora Maillefer, prima de São J
 oão Batista de La Salle, pensava em abrir escolas para pobres, em colaboraç
 ão com o primo Nicolás Roland. Porém a morte de Nicolás em 1678 interrompeu
  este projeto. Mas Maillefer não renuncia ao projeto e o coloca a cargo de 
 Adrian Nyel, pessoa conhecida por seu zelo na educação cristã de crianças p
 obres, dirigindo-se a Reims com uma carta endereçada a São João Batista de 
 La Salle.\nAssim no início de 1679, São João Batista de La Salle alugou uma
  casa e fundou uma escola gratuita para crianças pobres. A 24 de junho de 1
 681 São João Batista de La Salle e os seus professores iniciam vida em comu
 nidade em uma casa alugada, marcando o nascimento dos Irmãos das Escolas Cr
 istãs. São João Batista de La Salle começa a receber professores pobres, de
 finindo um regulamento, primeiro sobre o modo de comportar-se, depois sobre
  a oração, Santas Missas e refeições. No ano de 1683 são João Batista de La
  Salle renunciou aos seus bens e a 25 de maio de 1684 fundou oficialmente a
  Congregação dos Irmãos das Escolas Cristãs, com o objetivo de abrir escola
 s profissionais e lugares de educação para jovens que viviam nas ruas. Tamb
 ém em 1684 fundou em Reims a primeira escola para professores. Em 1688 abri
 u as primeiras escolas em Paris e em 1692 criou o primeiro noviciado para o
 s irmãos terminando de redigir as regras da Congregação em 1698.\nSão João 
 Batista de La Salle introduziu nas suas escolas introduziu diversas inovaçõ
 es como método de ensino: as aulas passaram a ser feitas para grupos em vez
  de serem dadas individualmente; passaram a ser dadas na língua materna (fr
 ancês) em vez do tradicional latim; os alunos eram divididos em classes por
  idade e conhecimento; havia um horário definido para as aulas e escolas co
 rrecionais para jovens que tinham cometido crimes; os professores deveriam 
 ter cursado as escolas normais. Todas estas modificações eram absolutas nov
 idades na França.\nEm 1686, oito dos seguidores de São João Batista de La S
 alle emitiram os seus primeiros votos na companhia que o santo fundou e con
 sagrou à Virgem Maria. São João Batista de La Salle costumava a viajar a pé
  solicitando alojamento e alimento. Diziam que a sua batina e o seu manto e
 ram tão pobres e descoloridos que nem um indigente os aceitaria como doação
 .\nSão João Batista de La Salle faleceu a 7 de abril de 1719 numa sexta-fei
 ra santa, em Saint-Yon na cidade de Rouen.\nSão João Batista de La Salle te
 ve a felicidade de ver sua obra crescer e antes do santo morrer a Congregaç
 ão contava com mais de setecentos irmãos distribuídos entre cento e quatorz
 e casas, atendendo a mais de trinta mil alunos, todos oriundos das classes 
 pobres. Mais tarde, a sua congregação espalhou-se pelo mundo.\nFoi canoniza
 do a 24 de maio de 1900 pelo Papa Leão XIII e a 15 de maio de 1950 foi nome
 ado padroeiro de todos os educadores pelo Papa Pio XII.\n \nSão João Batist
 a de La Salle, rogai por nós!\n
DTSTAMP:20260421T205659Z
DTSTART;TZID=Europe/Lisbon;VALUE=DATE:20180407
DTEND;TZID=Europe/Lisbon;VALUE=DATE:20180408
SEQUENCE:0
RRULE:FREQ=YEARLY;COUNT=100;INTERVAL=1;BYYEARDAY=-269
TRANSP:OPAQUE
END:VEVENT
END:VCALENDAR