BEGIN:VCALENDAR
VERSION:2.0
PRODID:-//jEvents 2.0 for Joomla//EN
CALSCALE:GREGORIAN
METHOD:PUBLISH
BEGIN:VTIMEZONE
TZID:Europe/Lisbon
BEGIN:STANDARD
DTSTART:20130124T000000
RDATE:20130331T020000
TZOFFSETFROM:+0100
TZOFFSETTO:+0000
TZNAME:Europe/Lisbon WET
END:STANDARD
BEGIN:STANDARD
DTSTART:20131027T010000
RDATE:20140330T020000
TZOFFSETFROM:+0100
TZOFFSETTO:+0000
TZNAME:Europe/Lisbon WET
END:STANDARD
BEGIN:STANDARD
DTSTART:20141026T010000
RDATE:20150329T020000
TZOFFSETFROM:+0100
TZOFFSETTO:+0000
TZNAME:Europe/Lisbon WET
END:STANDARD
BEGIN:STANDARD
DTSTART:20151025T010000
RDATE:20160327T020000
TZOFFSETFROM:+0100
TZOFFSETTO:+0000
TZNAME:Europe/Lisbon WET
END:STANDARD
BEGIN:STANDARD
DTSTART:20161030T010000
RDATE:20170326T020000
TZOFFSETFROM:+0100
TZOFFSETTO:+0000
TZNAME:Europe/Lisbon WET
END:STANDARD
BEGIN:STANDARD
DTSTART:20171029T010000
RDATE:20180325T020000
TZOFFSETFROM:+0100
TZOFFSETTO:+0000
TZNAME:Europe/Lisbon WET
END:STANDARD
BEGIN:STANDARD
DTSTART:20181028T010000
RDATE:20190331T020000
TZOFFSETFROM:+0100
TZOFFSETTO:+0000
TZNAME:Europe/Lisbon WET
END:STANDARD
BEGIN:STANDARD
DTSTART:20191027T010000
RDATE:20200329T020000
TZOFFSETFROM:+0100
TZOFFSETTO:+0000
TZNAME:Europe/Lisbon WET
END:STANDARD
BEGIN:STANDARD
DTSTART:20201025T010000
RDATE:20210328T020000
TZOFFSETFROM:+0100
TZOFFSETTO:+0000
TZNAME:Europe/Lisbon WET
END:STANDARD
BEGIN:DAYLIGHT
DTSTART:20130331T020000
RDATE:20131027T010000
TZOFFSETFROM:+0000
TZOFFSETTO:+0100
TZNAME:Europe/Lisbon WEST
END:DAYLIGHT
BEGIN:DAYLIGHT
DTSTART:20140330T020000
RDATE:20141026T010000
TZOFFSETFROM:+0000
TZOFFSETTO:+0100
TZNAME:Europe/Lisbon WEST
END:DAYLIGHT
BEGIN:DAYLIGHT
DTSTART:20150329T020000
RDATE:20151025T010000
TZOFFSETFROM:+0000
TZOFFSETTO:+0100
TZNAME:Europe/Lisbon WEST
END:DAYLIGHT
BEGIN:DAYLIGHT
DTSTART:20160327T020000
RDATE:20161030T010000
TZOFFSETFROM:+0000
TZOFFSETTO:+0100
TZNAME:Europe/Lisbon WEST
END:DAYLIGHT
BEGIN:DAYLIGHT
DTSTART:20170326T020000
RDATE:20171029T010000
TZOFFSETFROM:+0000
TZOFFSETTO:+0100
TZNAME:Europe/Lisbon WEST
END:DAYLIGHT
BEGIN:DAYLIGHT
DTSTART:20180325T020000
RDATE:20181028T010000
TZOFFSETFROM:+0000
TZOFFSETTO:+0100
TZNAME:Europe/Lisbon WEST
END:DAYLIGHT
BEGIN:DAYLIGHT
DTSTART:20190331T020000
RDATE:20191027T010000
TZOFFSETFROM:+0000
TZOFFSETTO:+0100
TZNAME:Europe/Lisbon WEST
END:DAYLIGHT
BEGIN:DAYLIGHT
DTSTART:20200329T020000
RDATE:20201025T010000
TZOFFSETFROM:+0000
TZOFFSETTO:+0100
TZNAME:Europe/Lisbon WEST
END:DAYLIGHT
END:VTIMEZONE
BEGIN:VEVENT
UID:983af20969192010a697ebe131c529b9
CATEGORIES:Santos
SUMMARY:Conversão de São Paulo
DESCRIPTION;ENCODING=QUOTED-PRINTABLE:O apóstolo dos gentios e das nações, São Paulo nasceu em Tarso. Da tribo de
  Benjamim, São Paulo era judeu. Tarso era mais do que uma colónia romana, e
 ra um munícipio. Logo, São Paulo recebeu também o título de cidadão romano.
  O pai de São Paulo pertencia à seita dos fariseus. Foi neste ambiente, que
  São Paulo foi crescendo.\nSão Paulo foi estudar na escola de Gamaliel, em 
 Jerusalém, para aprofundar os seus conhecimentos sobre a Lei, tentando colo
 cá-la em prática. Foi nessa época que conheceu o Cristianismo, que na época
  era tido como uma seita. São Paulo tornou-se então, um grande inimigo dess
 a religião e dos seus seguidores. \nConta-se que na morte de Santo Estêvão,
  primeiro mártir da Igreja, São Paulo fez questão de segurar nas capas dos 
 que apredejavam Santo Estêvão como atitude de aprovação pelo apredejamento.
  Autorizado pelas autoridades romanas, São Paulo buscava identificar cristã
 os, prendendo-os e tentando acabar com o Cristianinsmo.\nO intrigante é que
  São Paulo pensava estar agradando a Deus, e fazia o seu trabalho por zelo,
  mas de maneira violenta e sem discernimento.\nSe atentarmos no capítulo 9 
 dos Atos dos Apóstolos, temos o episódio da Conversão de São Paulo.\n\n"Sau
 lo, entretanto, respirando sempre ameaças e mortes contra os discípulos do 
 Senhor, foi ter com o Sumo Sacerdote e pediu-lhe cartas para as sinagogas d
 e Damasco, a fim de que, se encontrasse homens e mulheres que fossem desta 
 Via, os trouxesse algemados para Jerusalém.\nEstava a caminho e já próximo 
 de Damasco, quando se viu subitamente envolvido por uma intensa luz vinda d
 o Céu. Caindo por terra, ouviu uma voz que lhe dizia: «Saulo, Saulo, porque
  me persegues?» Ele perguntou: « Quem és Tu, Senhor?» Respondeu: «Eu sou Je
 sus, a quem tu persegues. Ergue-te, entra na cidade e dir-te-ão o que tens 
 a fazer.»\nOs seus companheiros de viagem tinham-se detido, emudecidos, ouv
 indo a voz, mas sem verem ninguém. Saulo ergueu-se do chão, mas embora tive
 sse os olhos abertos, não via nada. Foi necessário levá-lo pela mão e, assi
 m, entrou em Damasco, onde passou três dias sem ver, sem comer nem beber." 
 (Act 9, 1 - 9)\n\nHoje comemoramos o testemunho da conversão de São Paulo. 
 A sua primeira pregação foi em Damasco, muitos não acreditaram na sua mudan
 ça, mas ele perseverou e abriu-se à vontade de Deus por isso se tornou um g
 rande apóstolo da Igreja, modelo de todos os cristãos.\n \n Se quiser saber
  mais sobre a vida de S. Paulo clique aqui http://www.paroquia-almancil.pt/
 utilidades/vida-dos-santos/icalrepeat.detail/2018/06/29/54822/-/s%C3%A3o-pe
 dro-e-s%C3%A3o-paulo.html\n
DTSTAMP:20260424T061749Z
DTSTART;TZID=Europe/Lisbon;VALUE=DATE:20140125
DTEND;TZID=Europe/Lisbon;VALUE=DATE:20140126
SEQUENCE:0
RRULE:FREQ=YEARLY;COUNT=100;INTERVAL=1;BYYEARDAY=+25
TRANSP:OPAQUE
END:VEVENT
END:VCALENDAR