BEGIN:VCALENDAR
VERSION:2.0
PRODID:-//jEvents 2.0 for Joomla//EN
CALSCALE:GREGORIAN
METHOD:PUBLISH
BEGIN:VTIMEZONE
TZID:Europe/Lisbon
BEGIN:STANDARD
DTSTART:20130123T000000
RDATE:20130331T020000
TZOFFSETFROM:+0100
TZOFFSETTO:+0000
TZNAME:Europe/Lisbon WET
END:STANDARD
BEGIN:STANDARD
DTSTART:20131027T010000
RDATE:20140330T020000
TZOFFSETFROM:+0100
TZOFFSETTO:+0000
TZNAME:Europe/Lisbon WET
END:STANDARD
BEGIN:STANDARD
DTSTART:20141026T010000
RDATE:20150329T020000
TZOFFSETFROM:+0100
TZOFFSETTO:+0000
TZNAME:Europe/Lisbon WET
END:STANDARD
BEGIN:STANDARD
DTSTART:20151025T010000
RDATE:20160327T020000
TZOFFSETFROM:+0100
TZOFFSETTO:+0000
TZNAME:Europe/Lisbon WET
END:STANDARD
BEGIN:STANDARD
DTSTART:20161030T010000
RDATE:20170326T020000
TZOFFSETFROM:+0100
TZOFFSETTO:+0000
TZNAME:Europe/Lisbon WET
END:STANDARD
BEGIN:STANDARD
DTSTART:20171029T010000
RDATE:20180325T020000
TZOFFSETFROM:+0100
TZOFFSETTO:+0000
TZNAME:Europe/Lisbon WET
END:STANDARD
BEGIN:STANDARD
DTSTART:20181028T010000
RDATE:20190331T020000
TZOFFSETFROM:+0100
TZOFFSETTO:+0000
TZNAME:Europe/Lisbon WET
END:STANDARD
BEGIN:STANDARD
DTSTART:20191027T010000
RDATE:20200329T020000
TZOFFSETFROM:+0100
TZOFFSETTO:+0000
TZNAME:Europe/Lisbon WET
END:STANDARD
BEGIN:STANDARD
DTSTART:20201025T010000
RDATE:20210328T020000
TZOFFSETFROM:+0100
TZOFFSETTO:+0000
TZNAME:Europe/Lisbon WET
END:STANDARD
BEGIN:DAYLIGHT
DTSTART:20130331T020000
RDATE:20131027T010000
TZOFFSETFROM:+0000
TZOFFSETTO:+0100
TZNAME:Europe/Lisbon WEST
END:DAYLIGHT
BEGIN:DAYLIGHT
DTSTART:20140330T020000
RDATE:20141026T010000
TZOFFSETFROM:+0000
TZOFFSETTO:+0100
TZNAME:Europe/Lisbon WEST
END:DAYLIGHT
BEGIN:DAYLIGHT
DTSTART:20150329T020000
RDATE:20151025T010000
TZOFFSETFROM:+0000
TZOFFSETTO:+0100
TZNAME:Europe/Lisbon WEST
END:DAYLIGHT
BEGIN:DAYLIGHT
DTSTART:20160327T020000
RDATE:20161030T010000
TZOFFSETFROM:+0000
TZOFFSETTO:+0100
TZNAME:Europe/Lisbon WEST
END:DAYLIGHT
BEGIN:DAYLIGHT
DTSTART:20170326T020000
RDATE:20171029T010000
TZOFFSETFROM:+0000
TZOFFSETTO:+0100
TZNAME:Europe/Lisbon WEST
END:DAYLIGHT
BEGIN:DAYLIGHT
DTSTART:20180325T020000
RDATE:20181028T010000
TZOFFSETFROM:+0000
TZOFFSETTO:+0100
TZNAME:Europe/Lisbon WEST
END:DAYLIGHT
BEGIN:DAYLIGHT
DTSTART:20190331T020000
RDATE:20191027T010000
TZOFFSETFROM:+0000
TZOFFSETTO:+0100
TZNAME:Europe/Lisbon WEST
END:DAYLIGHT
BEGIN:DAYLIGHT
DTSTART:20200329T020000
RDATE:20201025T010000
TZOFFSETFROM:+0000
TZOFFSETTO:+0100
TZNAME:Europe/Lisbon WEST
END:DAYLIGHT
END:VTIMEZONE
BEGIN:VEVENT
UID:6717b6c44014467fae8085d74cbd4cfc
CATEGORIES:Santos
SUMMARY:São Francisco de Sales
DESCRIPTION;ENCODING=QUOTED-PRINTABLE:São Francisco de Sales, nasceu a 21 de agosto do ano de 1567 no Castelo de 
 Sales, Thores-Glières, França e faleceu a 28 de dezembro do ano de 1622 em 
 Lion, França\nO seu pai era o barão de Boisy no ano do seu nascimento (1567
 ). São Francisco de Sales era o primogénito de seis irmãos e foi batizado c
 omo François de Sales.\nO pai de São Francisco de Sales, chamava-se Françoi
 s de Sales de Boisy, e queria que Francisco fosse um magistrado o que fez c
 om que São Francisco de Sales, muito cedo iniciasse os seus estudos num col
 égio pertencente às comunas (correspondente às nossas freguesias) de La Roc
 he e Annecy. De 1583 a 1588 São Francisco de Sales estudou Retórica e Filos
 ofia no Colégio de Clermont, em Paris. Depois ingressou na Universidade de 
 Pádua, na Itália onde recebeu o doutoramento em Direito Canónico com 24 ano
 s.\nDe seguida e contra a sua família, São Francisco de Sales abdicou de um
 a brilhante carreira e resolveu estudar Teologia. No ano de 1593, torna-se 
 reitor da Universidade de Genebra, na Suiça. Um ano depois, São Francisco d
 e Sales foi para Chablais, na região de Sabóia, onde foi pároco e onde trou
 xe 8 mil calvinistas de volta para a Igreja. Aí escreveu diversos textos em
  defesa da fé.\nNo ano de 1599 São Francisco de Sales foi indicado como bis
 po coadjutor em Genebra, tendo sucedido como bispo em 1602. A sua diocese t
 ornou-se conhecida pela organização e pela formação do seu clero e leigos. 
 \nSão Francisco de Sales criou, conjuntamente com Santa Joana Francisca de 
 Chantal a Ordem da Visitação. São Francisco de Sales foi também diretor esp
 iritual de São Vicente de Paulo\nFoi canonizado em 1655 pelo Papa Alexandre
  VII.\n\nCuriosidade: Os seus restos mortais encontram-se na Igreja da Visi
 tação em Annecy. Foi beatificado no ano em que faleceu e foi a primeira bea
 tificação a ser formalizada na Basílica de São Pedro. \nÉ o padroeiro da im
 prensa católica.\n
DTSTAMP:20260420T203119Z
DTSTART;TZID=Europe/Lisbon;VALUE=DATE:20140124
DTEND;TZID=Europe/Lisbon;VALUE=DATE:20140125
SEQUENCE:0
RRULE:FREQ=YEARLY;COUNT=100;INTERVAL=1;BYYEARDAY=+24
TRANSP:OPAQUE
END:VEVENT
END:VCALENDAR