BEGIN:VCALENDAR
VERSION:2.0
PRODID:-//jEvents 2.0 for Joomla//EN
CALSCALE:GREGORIAN
METHOD:PUBLISH
BEGIN:VTIMEZONE
TZID:Europe/Lisbon
BEGIN:STANDARD
DTSTART:20171029T010000
RDATE:20180325T020000
TZOFFSETFROM:+0100
TZOFFSETTO:+0000
TZNAME:Europe/Lisbon WET
END:STANDARD
BEGIN:STANDARD
DTSTART:20181028T010000
RDATE:20190331T020000
TZOFFSETFROM:+0100
TZOFFSETTO:+0000
TZNAME:Europe/Lisbon WET
END:STANDARD
BEGIN:STANDARD
DTSTART:20191027T010000
RDATE:20200329T020000
TZOFFSETFROM:+0100
TZOFFSETTO:+0000
TZNAME:Europe/Lisbon WET
END:STANDARD
BEGIN:STANDARD
DTSTART:20201025T010000
RDATE:20210328T020000
TZOFFSETFROM:+0100
TZOFFSETTO:+0000
TZNAME:Europe/Lisbon WET
END:STANDARD
BEGIN:DAYLIGHT
DTSTART:20170330T000000
RDATE:20171029T010000
TZOFFSETFROM:+0000
TZOFFSETTO:+0100
TZNAME:Europe/Lisbon WEST
END:DAYLIGHT
BEGIN:DAYLIGHT
DTSTART:20180325T020000
RDATE:20181028T010000
TZOFFSETFROM:+0000
TZOFFSETTO:+0100
TZNAME:Europe/Lisbon WEST
END:DAYLIGHT
BEGIN:DAYLIGHT
DTSTART:20190331T020000
RDATE:20191027T010000
TZOFFSETFROM:+0000
TZOFFSETTO:+0100
TZNAME:Europe/Lisbon WEST
END:DAYLIGHT
BEGIN:DAYLIGHT
DTSTART:20200329T020000
RDATE:20201025T010000
TZOFFSETFROM:+0000
TZOFFSETTO:+0100
TZNAME:Europe/Lisbon WEST
END:DAYLIGHT
END:VTIMEZONE
BEGIN:VEVENT
UID:eded76ca465159e760eefaf5f0394696
CATEGORIES:Santos
SUMMARY:Santa Balbina
DESCRIPTION;ENCODING=QUOTED-PRINTABLE:Santa Balbina foi martirizada no dia 31 de março de 132 em Roma, Itália.\nE
 ra filha de São Quirino de Neuss (http://www.paroquia-almancil.pt/utilidade
 s/vida-dos-santos/icalrepeat.detail/2018/03/30/62376/-/s%C3%A3o-quirino-de-
 neuss.html). \nSanta Balbina era de origem pagã e sofria de escrófula (uma 
 forma de tuberculose crónica que desfigura o rosto). Certo dia, enquanto ai
 nda era criança o seu pai vendo a fé de Hermes (perfeito de Roma que se hav
 ia convertido ao cristianismo) decidiu pedir ao Papa Alexandre que curasse 
 a sua filha. Então levaram Santa Balbina à cela onde estava o Papa Alexandr
 e se encontrava preso e assim que a jovem tocou nas cordas ficou imediatame
 nte curada. \nSanta Balbina e o seu pai converteram-se ao catolicismo e for
 am batizados no mesmo dia pelo Papa Alexandre. Santa Balbina consagrou a su
 a virgindade a Deus. \nFoi martirizada no dia 31 de março de 132 sendo deca
 pitada. \nSanta Balbina rogai por nós!\n
DTSTAMP:20260420T031240Z
DTSTART;TZID=Europe/Lisbon;VALUE=DATE:20180331
DTEND;TZID=Europe/Lisbon;VALUE=DATE:20180401
SEQUENCE:0
RRULE:FREQ=YEARLY;COUNT=100;INTERVAL=1;BYYEARDAY=-276
TRANSP:OPAQUE
END:VEVENT
END:VCALENDAR