BEGIN:VCALENDAR
VERSION:2.0
PRODID:-//jEvents 2.0 for Joomla//EN
CALSCALE:GREGORIAN
METHOD:PUBLISH
BEGIN:VTIMEZONE
TZID:Europe/Lisbon
BEGIN:STANDARD
DTSTART:20171029T010000
RDATE:20180325T020000
TZOFFSETFROM:+0100
TZOFFSETTO:+0000
TZNAME:Europe/Lisbon WET
END:STANDARD
BEGIN:STANDARD
DTSTART:20181028T010000
RDATE:20190331T020000
TZOFFSETFROM:+0100
TZOFFSETTO:+0000
TZNAME:Europe/Lisbon WET
END:STANDARD
BEGIN:STANDARD
DTSTART:20191027T010000
RDATE:20200329T020000
TZOFFSETFROM:+0100
TZOFFSETTO:+0000
TZNAME:Europe/Lisbon WET
END:STANDARD
BEGIN:STANDARD
DTSTART:20201025T010000
RDATE:20210328T020000
TZOFFSETFROM:+0100
TZOFFSETTO:+0000
TZNAME:Europe/Lisbon WET
END:STANDARD
BEGIN:DAYLIGHT
DTSTART:20170328T000000
RDATE:20171029T010000
TZOFFSETFROM:+0000
TZOFFSETTO:+0100
TZNAME:Europe/Lisbon WEST
END:DAYLIGHT
BEGIN:DAYLIGHT
DTSTART:20180325T020000
RDATE:20181028T010000
TZOFFSETFROM:+0000
TZOFFSETTO:+0100
TZNAME:Europe/Lisbon WEST
END:DAYLIGHT
BEGIN:DAYLIGHT
DTSTART:20190331T020000
RDATE:20191027T010000
TZOFFSETFROM:+0000
TZOFFSETTO:+0100
TZNAME:Europe/Lisbon WEST
END:DAYLIGHT
BEGIN:DAYLIGHT
DTSTART:20200329T020000
RDATE:20201025T010000
TZOFFSETFROM:+0000
TZOFFSETTO:+0100
TZNAME:Europe/Lisbon WEST
END:DAYLIGHT
END:VTIMEZONE
BEGIN:VEVENT
UID:a99a825e7aaaebeb1f3f12311c98c063
CATEGORIES:Santos
SUMMARY:São Bertoldo
DESCRIPTION;ENCODING=QUOTED-PRINTABLE:São Bertoldo nasceu em data incerta em Limoges (França) e faleceu a 29 de m
 arço 1195 no Monte Carmelo, em Haifa, na Palestina. Poucos são os elementos
  biográficos precisos sobre a vida deste santo. Algumas fontes referem que 
 o seu nome de batismo era Bartolomeu Avogadro e que estudou teologia em Par
 is, sendo depois ordenado sacerdote.\nSegundo a tradição São Bertoldo era f
 amiliar de Aymeric de Malifaye, patriarca latino de Antioquia. No ano de 10
 98 São Bertoldo acompanhou os cruzados até Antioquia no tempo em que esta f
 oi sitiada pelos sarracenos. Com a cidade sitiada chegou a fome, a sede, a 
 morte e começaram as doenças. São Bertoldo prometeu a Deus vestir consagrar
 -se à Virgem Maria caso a cidade fosse libertada. São Bertoldo teve depois 
 uma visão na qual lhe apareceu Jesus Cristo acompanhado de sua mãe, a Virge
 m Maria e de São Pedro, revelando-lhe que a cidade seria libertada.\nNessa 
 mesma noite, do céu caiu fogo dizimando as tropas sarracenas, o que animou 
 os cristãos a atacar os inimigos. Segundo a tradição quando saíram do campo
 , ocorreu outro milagre e do céu terão baixado montados em cavalos brancos 
 São Jorge; São Demétrio, São Maurício e São Mercúrio que ajudaram os cristã
 os, tendo sido mortos 100000 mouros. Conquistada a cidade, São Bertoldo pro
 sseguiu com os cruzados e chegaram a Cesárea no dia de Pentecostes. Como fi
 cava perto do Monte Carmelo, São Bertoldo organizou uma peregrinação de mil
 itares e eclesiásticos. Ali falou da sua promessa, pedido para ser admitido
  entre os religiosos.\nSão Bertoldo tornou-se então eremita no Monte Carmel
 o, em Haifa. Ali São Bertoldo fundou uma pequena comunidade de seguidores, 
 com os quais construíram uma pequena capela.\nAos poucos, crescia o número 
 de eremitas, os quais se espalharam por todo o local, vivendo separados uns
  dos outros em pequenas cavernas, procurando assim imitar o grande profeta.
  \nSão Bertoldo tinha por hábito rezar uma Avé Maria e uma Salvé Rainha por
  cada uma das horas canónicas, costume este que terá introduzido no ofício 
 próprio da Ordem Carmelita.\nSão Bertoldo viveu como um religioso exemplar 
 e governou a comunidade por quarenta anos até falecer a 29 de março de 1195
 .\n \nSão Bertoldo rogai por nós!\n\n \n \n
DTSTAMP:20260420T000227Z
DTSTART;TZID=Europe/Lisbon;VALUE=DATE:20180329
DTEND;TZID=Europe/Lisbon;VALUE=DATE:20180330
SEQUENCE:0
RRULE:FREQ=YEARLY;COUNT=100;INTERVAL=1;BYYEARDAY=-278
TRANSP:OPAQUE
END:VEVENT
END:VCALENDAR