BEGIN:VCALENDAR
VERSION:2.0
PRODID:-//jEvents 2.0 for Joomla//EN
CALSCALE:GREGORIAN
METHOD:PUBLISH
BEGIN:VTIMEZONE
TZID:Europe/Lisbon
BEGIN:STANDARD
DTSTART:20171029T010000
RDATE:20180325T020000
TZOFFSETFROM:+0100
TZOFFSETTO:+0000
TZNAME:Europe/Lisbon WET
END:STANDARD
BEGIN:STANDARD
DTSTART:20181028T010000
RDATE:20190331T020000
TZOFFSETFROM:+0100
TZOFFSETTO:+0000
TZNAME:Europe/Lisbon WET
END:STANDARD
BEGIN:STANDARD
DTSTART:20191027T010000
RDATE:20200329T020000
TZOFFSETFROM:+0100
TZOFFSETTO:+0000
TZNAME:Europe/Lisbon WET
END:STANDARD
BEGIN:STANDARD
DTSTART:20201025T010000
RDATE:20210328T020000
TZOFFSETFROM:+0100
TZOFFSETTO:+0000
TZNAME:Europe/Lisbon WET
END:STANDARD
BEGIN:DAYLIGHT
DTSTART:20170327T000000
RDATE:20171029T010000
TZOFFSETFROM:+0000
TZOFFSETTO:+0100
TZNAME:Europe/Lisbon WEST
END:DAYLIGHT
BEGIN:DAYLIGHT
DTSTART:20180325T020000
RDATE:20181028T010000
TZOFFSETFROM:+0000
TZOFFSETTO:+0100
TZNAME:Europe/Lisbon WEST
END:DAYLIGHT
BEGIN:DAYLIGHT
DTSTART:20190331T020000
RDATE:20191027T010000
TZOFFSETFROM:+0000
TZOFFSETTO:+0100
TZNAME:Europe/Lisbon WEST
END:DAYLIGHT
BEGIN:DAYLIGHT
DTSTART:20200329T020000
RDATE:20201025T010000
TZOFFSETFROM:+0000
TZOFFSETTO:+0100
TZNAME:Europe/Lisbon WEST
END:DAYLIGHT
END:VTIMEZONE
BEGIN:VEVENT
UID:9b031ab69b9d67366b8b4be17c383731
CATEGORIES:Santos
SUMMARY:São Sisto III
DESCRIPTION;ENCODING=QUOTED-PRINTABLE:São Sisto III nasceu em Roma, no ano 390, e morreu na mesma cidade a 18 ou 
 19 de agosto de 440.\nFoi eleito papa a 31 de julho de 432 como sucessor do
  Papa Celestino I. \nO pontificado de São Sisto III inicia-se depois do Con
 cílio de Éfeso, celebrado em 431 e que ficou marcado pelo nestorianismo (he
 resia que considera Cristo separado em duas pessoas, uma humana e outra div
 ina). Outra heresia que aconteceu no pontificado de São Sisto III é a conhe
 cida como pelagianismo (que afirmava que os seres humanos nasciam inocentes
 , sem a mancha do pecado original). \nSão Sisto III agiu com bastante auste
 ridade e firmeza, e nessa ocasião Santo Agostinho (http://www.paroquia-alma
 ncil.pt/utilidades/vida-dos-santos/icalrepeat.detail/2018/08/28/20411/-/san
 to-agostinho.html) teve de lhe pedir moderação. Contudo, foi assim que São 
 Sisto III conseguiu o fim definitivo da doutrina pelagiana. \nSão Sisto III
  liderou com sabedoria uma ação conciliadora em relação a Nestório (nestori
 anismo), acabando com a controvérsia entre João de Antioquia e Cirilo, patr
 iarca de Constantinopla, sobre a divindade de Maria. Depois disto, demonstr
 ou a sua autoridade papal na disputa com o patriarca Proclo. São Sisto III 
 escreveu várias epístolas para conseguir o governo de Roma sobre Llíria (ci
 dade espanhola), contra o imperador do Oriente que queria torna-la dependen
 te de Constantinopla, com a ajuda do patriarca.\nFoi no seu pontificado que
  se erigiu o primeiro mosteiro de Roma, localizado na Via Ápia, chamado Mos
 teiro de São Estêvão em honra do primeiro mártir. Mandou ampliar e enriquec
 er a basílica Santa Maria Maior (igreja mais antiga do Ocidente dedicada a 
 Nossa Senhora). No seu pontificado São Sisto III promoveu uma intensa ativi
 dade edificadora, reformando e construindo muitas igrejas.\nMorreu a 18 ou 
 19 de agosto de 440, deixando São Leão Magno indicado como seu sucessor (ht
 tp://www.paroquia-almancil.pt/utilidades/vida-dos-santos/icalrepeat.detail/
 2018/11/10/38472/-/s%C3%A3o-le%C3%A3o-magno.html).\n \nSão Sisto III rogai 
 por nós!\n\n \n \n
DTSTAMP:20260424T035411Z
DTSTART;TZID=Europe/Lisbon;VALUE=DATE:20180328
DTEND;TZID=Europe/Lisbon;VALUE=DATE:20180329
SEQUENCE:0
RRULE:FREQ=YEARLY;COUNT=100;INTERVAL=1;BYYEARDAY=-279
TRANSP:OPAQUE
END:VEVENT
END:VCALENDAR