BEGIN:VCALENDAR
VERSION:2.0
PRODID:-//jEvents 2.0 for Joomla//EN
CALSCALE:GREGORIAN
METHOD:PUBLISH
BEGIN:VTIMEZONE
TZID:Europe/Lisbon
BEGIN:STANDARD
DTSTART:20170324T230000
RDATE:20170326T020000
TZOFFSETFROM:+0100
TZOFFSETTO:+0000
TZNAME:Europe/Lisbon WET
END:STANDARD
BEGIN:STANDARD
DTSTART:20171029T010000
RDATE:20180325T020000
TZOFFSETFROM:+0100
TZOFFSETTO:+0000
TZNAME:Europe/Lisbon WET
END:STANDARD
BEGIN:STANDARD
DTSTART:20181028T010000
RDATE:20190331T020000
TZOFFSETFROM:+0100
TZOFFSETTO:+0000
TZNAME:Europe/Lisbon WET
END:STANDARD
BEGIN:STANDARD
DTSTART:20191027T010000
RDATE:20200329T020000
TZOFFSETFROM:+0100
TZOFFSETTO:+0000
TZNAME:Europe/Lisbon WET
END:STANDARD
BEGIN:STANDARD
DTSTART:20201025T010000
RDATE:20210328T020000
TZOFFSETFROM:+0100
TZOFFSETTO:+0000
TZNAME:Europe/Lisbon WET
END:STANDARD
BEGIN:DAYLIGHT
DTSTART:20170326T020000
RDATE:20171029T010000
TZOFFSETFROM:+0000
TZOFFSETTO:+0100
TZNAME:Europe/Lisbon WEST
END:DAYLIGHT
BEGIN:DAYLIGHT
DTSTART:20180325T020000
RDATE:20181028T010000
TZOFFSETFROM:+0000
TZOFFSETTO:+0100
TZNAME:Europe/Lisbon WEST
END:DAYLIGHT
BEGIN:DAYLIGHT
DTSTART:20190331T020000
RDATE:20191027T010000
TZOFFSETFROM:+0000
TZOFFSETTO:+0100
TZNAME:Europe/Lisbon WEST
END:DAYLIGHT
BEGIN:DAYLIGHT
DTSTART:20200329T020000
RDATE:20201025T010000
TZOFFSETFROM:+0000
TZOFFSETTO:+0100
TZNAME:Europe/Lisbon WEST
END:DAYLIGHT
END:VTIMEZONE
BEGIN:VEVENT
UID:47b600192d6da3213e7d0b2fd7f68c00
CATEGORIES:Santos
SUMMARY:Santa Larissa
DESCRIPTION;ENCODING=QUOTED-PRINTABLE:Hoje a Igreja celebra Santa Larissa. Pouco se sabe sobre a vida de Santa La
 rissa. Sabe-se que Santa Larissa é um dos 26 mártires assassinados pelos go
 dos, por volta do ano 375. Nessa época, o exército godo era liderado por Ju
 ngerich, grande inimigo e perseguidor dos cristãos. \nNa época Alarico, rei
  dos godos, ficou extremamente irritado ao ver que seus súditos estavam abr
 açando o cristianismo, devido à pregação de um bispo ariano chamado Ulfilas
 . Com o objetivo de afastar o povo da fé cristã, Alarico ordenou, que muito
 s dos convertidos fossem torturados e executados em praça pública, na maior
 ia das vezes sem julgamento. \nOs oficiais de Alarico, chefiados por Junger
 ich, colocavam estátuas dos seus deuses sobre carruagens e desfilavam osten
 sivamente em frente aos locais que os cristãos utilizavam para suas as cele
 brações religiosas. Então os oficiais avisavam o povo que quem adorasse aqu
 eles ídolos e lhes oferecesse sacrifícios, seria poupado. Porém, todos os q
 ue se negassem, seriam queimados vivos ali mesmo. \nCerto dia Jungerich deu
  ordens para que uma igreja fosse incendiada durante uma celebração da miss
 a. Os soldados ofereceram liberdade aos cristãos que renegassem a fé em Jes
 us Cristo. Porém, nenhum dos presentes quis negar o Senhor Jesus. Nesse dia
 , 308 cristãos deram suas vidas, morrendo queimados por causa da fé em Jesu
 s Cristo. Santa Larissa estava entre eles.\nDe nada, porém, adiantou a viol
 ência do rei Alarico. Pouco tempo depois desse massacre, um grande número d
 e godos tinha-se convertido ao cristianismo, justamente por causa do testem
 unho dos cristãos mártires. Sabe-se que entre 383-392, os godos já tiveram 
 um rei cristão, cuja esposa, Gaatha, também foi martirizada. A rainha Gaath
 a e sua filha Duclida pegaram nas relíquias dos 26 mártires e levaram-nas p
 ara a Síria. Para tanto, tiveram a ajuda de alguns padres e de um leigo cha
 mado Thyellas. Quando Gaatha voltou à sua terra natal, foi apedrejada até a
  morte por um grupo de pagãos e morreu como mártir. \n \nSanta Larissa, rog
 ai por nós!\n
DTSTAMP:20260422T190528Z
DTSTART;TZID=Europe/Lisbon;VALUE=DATE:20180326
DTEND;TZID=Europe/Lisbon;VALUE=DATE:20180327
SEQUENCE:0
RRULE:FREQ=YEARLY;COUNT=100;INTERVAL=1;BYYEARDAY=-281
TRANSP:OPAQUE
END:VEVENT
END:VCALENDAR