BEGIN:VCALENDAR
VERSION:2.0
PRODID:-//jEvents 2.0 for Joomla//EN
CALSCALE:GREGORIAN
METHOD:PUBLISH
BEGIN:VTIMEZONE
TZID:Europe/Lisbon
BEGIN:STANDARD
DTSTART:20170324T000000
RDATE:20170326T020000
TZOFFSETFROM:+0100
TZOFFSETTO:+0000
TZNAME:Europe/Lisbon WET
END:STANDARD
BEGIN:STANDARD
DTSTART:20171029T010000
RDATE:20180325T020000
TZOFFSETFROM:+0100
TZOFFSETTO:+0000
TZNAME:Europe/Lisbon WET
END:STANDARD
BEGIN:STANDARD
DTSTART:20181028T010000
RDATE:20190331T020000
TZOFFSETFROM:+0100
TZOFFSETTO:+0000
TZNAME:Europe/Lisbon WET
END:STANDARD
BEGIN:STANDARD
DTSTART:20191027T010000
RDATE:20200329T020000
TZOFFSETFROM:+0100
TZOFFSETTO:+0000
TZNAME:Europe/Lisbon WET
END:STANDARD
BEGIN:STANDARD
DTSTART:20201025T010000
RDATE:20210328T020000
TZOFFSETFROM:+0100
TZOFFSETTO:+0000
TZNAME:Europe/Lisbon WET
END:STANDARD
BEGIN:DAYLIGHT
DTSTART:20170326T020000
RDATE:20171029T010000
TZOFFSETFROM:+0000
TZOFFSETTO:+0100
TZNAME:Europe/Lisbon WEST
END:DAYLIGHT
BEGIN:DAYLIGHT
DTSTART:20180325T020000
RDATE:20181028T010000
TZOFFSETFROM:+0000
TZOFFSETTO:+0100
TZNAME:Europe/Lisbon WEST
END:DAYLIGHT
BEGIN:DAYLIGHT
DTSTART:20190331T020000
RDATE:20191027T010000
TZOFFSETFROM:+0000
TZOFFSETTO:+0100
TZNAME:Europe/Lisbon WEST
END:DAYLIGHT
BEGIN:DAYLIGHT
DTSTART:20200329T020000
RDATE:20201025T010000
TZOFFSETFROM:+0000
TZOFFSETTO:+0100
TZNAME:Europe/Lisbon WEST
END:DAYLIGHT
END:VTIMEZONE
BEGIN:VEVENT
UID:637cf6be2074e5bab240ac9fba345784
CATEGORIES:Santos
SUMMARY:Anunciação do Senhor
DESCRIPTION;ENCODING=QUOTED-PRINTABLE:Celebramos hoje a Anunciação do Senhor Jesus Cristo. Esta Solenidade é uma 
 das mais importantes de todo o ano litúrgico. Celebra-se no dia 25 de março
 , exatamente 9 meses antes do Natal do Senhor (http://www.paroquia-almancil
 .pt/utilidades/vida-dos-santos/icalrepeat.detail/2018/12/25/46533/-/natal-d
 o-senhor.html). Não podemos deixar de notar algo muito interessante: a Anun
 ciação, uma data fixa, ocorre sempre dentro do Ciclo da Páscoa, devido ao c
 álculo da data pascal e das suas celebrações satélites (Tempo da Quaresma, 
 por exemplo). Por conta da mobilidade da Páscoa e, consequentemente, das se
 manas da Quaresma, a Anunciação ocorre, a cada ano, numa semana quaresmal d
 iferente. Em certos anos, chega mesmo a ocorrer durante a semana santa. Sem
 pre que a Anunciação ocorrer na semana santa, a Solenidade da Anunciação do
  Senhor é obrigatoriamente, movida para a segunda-feira da 2ª Semana da Pás
 coa, para não substituir nenhuma comemoração ligada à Páscoa (Semana Santa,
  Tríduo Pascal e Oitavas da Páscoa). Quando ocorrer numa das semanas da Qua
 resma, ela substitui a liturgia do dia normalmente e os requisitos litúrgic
 os (cor e entoação do Hino de Louvor). Se ocorre num domingo da Quaresma, é
  transferida para a segunda-feira após o referido domingo.\nNesta data, a I
 greja celebra o anúncio do Arcanjo São Gabriel a Maria. São Gabriel revela 
 a Maria que esta será mãe do Filho de Deus, e a sua encarnação dar-se-á pel
 a força do Espírito Santo, sem a ocorrência de uma relação.\nMaria, mesmo n
 ão compreendendo a profundidade do mistério, declara-se totalmente voltada 
 para cumprir a vontade do Senhor. Maria, uma jovem simples, noiva de José, 
 perturbou-se ao receber do anjo o aviso que fora escolhida para dar a luz a
 o Filho de Deus, a quem deveria dar o nome de Jesus, e que Ele (Jesus) era 
 enviado para salvar a Humanidade.\nCom o seu sim Maria aceitou a dignidade 
 e a honra da maternidade divina, mas ao mesmo tempo também os sofrimentos, 
 e os sacrifícios que a ela estavam ligados.\nDeclarou-se pronta a cumprir a
  vontade de Deus em tudo, como sua serva.\nPor isso a data de hoje marca e 
 festeja este evento que se trata de um dos mistérios mais sublimes e import
 antes da História do homem na Terra: a chegada do Messias, profetizada sécu
 los antes, diversas vezes.\nDiante da grandeza do mistério da encarnação di
 vina, a nossa reação é de admiração e fé. \n Deus que, no decorrer dos sécu
 los, tinha encarregado os profetas de transmitir aos homens a Sua palavra, 
 ao chegar a plenitude dos tempos, determina enviar-lhes o Seu próprio Filho
 , o Seu Verbo, a Palavra feita Carne. Contudo, o Pai das misericórdias quis
  que a Incarnação fosse precedida da aceitação por parte daquela que Ele pr
 edestinara para Mãe, para que, «assim como uma mulher contribuiu para a mor
 te, também outra mulher contribuísse para a vida» (Lumen Gentium, 56).\nCom
  o sim de Maria o filho de Deus faz-Se Filho do Homem. O Deus Altíssimo tor
 na-Se o «Deus connosco». Ao celebrar este mistério, precisamente nove meses
  antes do Natal, a Solenidade da Anunciação orienta-nos já para o Nasciment
 o de Cristo. No entanto, a Incarnação está intimamente unida à Redenção. Po
 r isso, as Leituras (especialmente a segunda) introduzem-nos já no Mistério
  da Páscoa. Essencialmente festa do Senhor, a Anunciação não pode deixar de
  ser, ao mesmo tempo, ao mesmo tempo, uma festa perfeitamente mariana. Na v
 erdade, foi pelo sim de Maria que a Incarnação se realização, a nova Alianç
 a se estabeleceu e a Redenção do mundo pecador ficou assegurada.\nAjoelhemo
 -nos diante de Deus, do seu mistério e rendamos graças pelo sim de Maria! E
  com ela, com nossa divina mãe, tenhamos a coragem e a confiança de também 
 nós, dizermos sim ao projeto de Deus.\n\n \n \n
DTSTAMP:20260419T233559Z
DTSTART;TZID=Europe/Lisbon;VALUE=DATE:20180325
DTEND;TZID=Europe/Lisbon;VALUE=DATE:20180326
SEQUENCE:0
RRULE:FREQ=YEARLY;COUNT=100;INTERVAL=1;BYYEARDAY=-282
TRANSP:OPAQUE
END:VEVENT
END:VCALENDAR