BEGIN:VCALENDAR
VERSION:2.0
PRODID:-//jEvents 2.0 for Joomla//EN
CALSCALE:GREGORIAN
METHOD:PUBLISH
BEGIN:VTIMEZONE
TZID:Europe/Lisbon
BEGIN:STANDARD
DTSTART:20170317T000000
RDATE:20170326T020000
TZOFFSETFROM:+0100
TZOFFSETTO:+0000
TZNAME:Europe/Lisbon WET
END:STANDARD
BEGIN:STANDARD
DTSTART:20171029T010000
RDATE:20180325T020000
TZOFFSETFROM:+0100
TZOFFSETTO:+0000
TZNAME:Europe/Lisbon WET
END:STANDARD
BEGIN:STANDARD
DTSTART:20181028T010000
RDATE:20190331T020000
TZOFFSETFROM:+0100
TZOFFSETTO:+0000
TZNAME:Europe/Lisbon WET
END:STANDARD
BEGIN:STANDARD
DTSTART:20191027T010000
RDATE:20200329T020000
TZOFFSETFROM:+0100
TZOFFSETTO:+0000
TZNAME:Europe/Lisbon WET
END:STANDARD
BEGIN:STANDARD
DTSTART:20201025T010000
RDATE:20210328T020000
TZOFFSETFROM:+0100
TZOFFSETTO:+0000
TZNAME:Europe/Lisbon WET
END:STANDARD
BEGIN:DAYLIGHT
DTSTART:20170326T020000
RDATE:20171029T010000
TZOFFSETFROM:+0000
TZOFFSETTO:+0100
TZNAME:Europe/Lisbon WEST
END:DAYLIGHT
BEGIN:DAYLIGHT
DTSTART:20180325T020000
RDATE:20181028T010000
TZOFFSETFROM:+0000
TZOFFSETTO:+0100
TZNAME:Europe/Lisbon WEST
END:DAYLIGHT
BEGIN:DAYLIGHT
DTSTART:20190331T020000
RDATE:20191027T010000
TZOFFSETFROM:+0000
TZOFFSETTO:+0100
TZNAME:Europe/Lisbon WEST
END:DAYLIGHT
BEGIN:DAYLIGHT
DTSTART:20200329T020000
RDATE:20201025T010000
TZOFFSETFROM:+0000
TZOFFSETTO:+0100
TZNAME:Europe/Lisbon WEST
END:DAYLIGHT
END:VTIMEZONE
BEGIN:VEVENT
UID:c6b4ccee9067813137c6364a472ed16a
CATEGORIES:Santos
SUMMARY:São Cirilo de Jerusalém
DESCRIPTION;ENCODING=QUOTED-PRINTABLE:São Cirilo nasceu em 315 perto da capital Jerusalém, em Israel, e faleceu n
 o ano 386 em Jerusalém. São Cirilo nasceu no seio de uma família cristã e c
 om posses. Desde pequeno São Cirilo estudou as Sagradas Escrituras e também
  as matérias humanísticas. Ainda jovem sentiu-se chamado para o ministério 
 de evangelizador.\nNo ano 345, com 30 anos, recebeu a ordenação sacerdotal.
 \nSão Cirilo viveu num tempo de heresias, especialmente o arianismo (pensam
 ento filosófico que não considera Jesus Cristo e Deus uma só pessoa) e nest
 orianismo (doutrina que enfatiza a desunião entre as naturezas humana e div
 ina de Jesus).\nSão Cirilo é sagrado bispo de Jerusalém no ano 348. Durante
  quase trinta e cinco anos São Cirilo exerceu o cargo de bispo de Jerusalém
 , contudo dezasseis desses anos foram vividos em exílio, em três momentos d
 iferentes.\nO primeiro exílio aconteceu no ano 357, porque um bispo chamado
  Acácio, o acusou de heresia e de vender propriedades da Igreja. Reconhecid
 o o engano em 359 São Cirilo voltou afável e sem mágoas.\nO segundo exílio 
 aconteceu em 360 por ordem do imperador Constâncio. Este entendeu que Ciril
 o era simpatizante de hereges e condenou-o ao exílio. Porém, os bispos Atan
 ásio e Hilário, ambos de autoridade reconhecida e chamados de Padres da Igr
 eja, tal como São Cirilo, saíram em sua defesa, demonstrando que ele não er
 a um herege.\nO terceiro exílio foi o mais longo e aconteceu no ano 367. O 
 imperador Valente, que era realmente um herege, exilou novamente todos os b
 ispos que tinha sido amnistiados. Por isso, São Cirilo peregrinou por vária
 s cidades da Ásia pelo tempo de onze anos até à morte do imperador, ocorrid
 a no ano de 378.\nO trabalho missionário, catequético e doutrinário de São 
 Cirilo resistiu a todas essas provações e chegou até os dias de hoje. No co
 meço de seu ministério episcopal São Cirilo era o responsável pela preparaç
 ão dos catecúmenos, ou seja, dos adultos convertidos, que seriam batizados.
 \nAs famosas vinte e três aulas de Cirilo, destinadas aos catecúmenos de Je
 rusalém que se preparavam para o batismo, chamadas por isso de catequeses (
 k&alpha;&tau;&eta;&chi;ή&sigma;&epsilon;&iota;&sigmaf;), são melhor aprecia
 das quando divididas em duas partes: as primeiras dezoito são geralmente co
 nhecidas como "Aulas Catequéticas", "Orações Catequéticas ou "Homilias Cate
 quéticas" e as cinco últimas, como "Catequeses Mistagógicas" (&mu;&upsilon;
 &sigma;&tau;&alpha;&gamma;&omega;&gamma;&iota;&kappa;&alpha;ί), chamadas as
 sim por tratarem dos "mistérios" (&mu;&upsilon;&sigma;&tau;ή&rho;&iota;&alp
 ha;), ou seja, os sacramentos do batismo, da confirmação e da eucaristia; S
 ão Cirilo ajudou os corações dos fiéis a mergulharem no mistério pascal, qu
 e é o coração da fé católica: o Crucificado que ressuscitou.\nSão Cirilo de
  Jerusalém faleceu no ano 386.\nFoi canonizado em 1882, pelo Papa Leão XIII
 . Na ocasião, o Papa conferiu a São Cirilo os títulos de Doutor da Igreja, 
 por causa da profundidade de seus escritos, e o de Príncipe dos Catequistas
  Católicos, por causa da brilhante preparação para os catecúmenos que ele e
 screveu.\n \nSão Cirilo de Jerusalém rogai por nós!\n
DTSTAMP:20260420T050118Z
DTSTART;TZID=Europe/Lisbon;VALUE=DATE:20180318
DTEND;TZID=Europe/Lisbon;VALUE=DATE:20180319
SEQUENCE:0
RRULE:FREQ=YEARLY;COUNT=100;INTERVAL=1;BYYEARDAY=-289
TRANSP:OPAQUE
END:VEVENT
END:VCALENDAR