BEGIN:VCALENDAR
VERSION:2.0
PRODID:-//jEvents 2.0 for Joomla//EN
CALSCALE:GREGORIAN
METHOD:PUBLISH
BEGIN:VTIMEZONE
TZID:Europe/Lisbon
BEGIN:STANDARD
DTSTART:20130122T000000
RDATE:20130331T020000
TZOFFSETFROM:+0100
TZOFFSETTO:+0000
TZNAME:Europe/Lisbon WET
END:STANDARD
BEGIN:STANDARD
DTSTART:20131027T010000
RDATE:20140330T020000
TZOFFSETFROM:+0100
TZOFFSETTO:+0000
TZNAME:Europe/Lisbon WET
END:STANDARD
BEGIN:STANDARD
DTSTART:20141026T010000
RDATE:20150329T020000
TZOFFSETFROM:+0100
TZOFFSETTO:+0000
TZNAME:Europe/Lisbon WET
END:STANDARD
BEGIN:STANDARD
DTSTART:20151025T010000
RDATE:20160327T020000
TZOFFSETFROM:+0100
TZOFFSETTO:+0000
TZNAME:Europe/Lisbon WET
END:STANDARD
BEGIN:STANDARD
DTSTART:20161030T010000
RDATE:20170326T020000
TZOFFSETFROM:+0100
TZOFFSETTO:+0000
TZNAME:Europe/Lisbon WET
END:STANDARD
BEGIN:STANDARD
DTSTART:20171029T010000
RDATE:20180325T020000
TZOFFSETFROM:+0100
TZOFFSETTO:+0000
TZNAME:Europe/Lisbon WET
END:STANDARD
BEGIN:STANDARD
DTSTART:20181028T010000
RDATE:20190331T020000
TZOFFSETFROM:+0100
TZOFFSETTO:+0000
TZNAME:Europe/Lisbon WET
END:STANDARD
BEGIN:STANDARD
DTSTART:20191027T010000
RDATE:20200329T020000
TZOFFSETFROM:+0100
TZOFFSETTO:+0000
TZNAME:Europe/Lisbon WET
END:STANDARD
BEGIN:STANDARD
DTSTART:20201025T010000
RDATE:20210328T020000
TZOFFSETFROM:+0100
TZOFFSETTO:+0000
TZNAME:Europe/Lisbon WET
END:STANDARD
BEGIN:DAYLIGHT
DTSTART:20130331T020000
RDATE:20131027T010000
TZOFFSETFROM:+0000
TZOFFSETTO:+0100
TZNAME:Europe/Lisbon WEST
END:DAYLIGHT
BEGIN:DAYLIGHT
DTSTART:20140330T020000
RDATE:20141026T010000
TZOFFSETFROM:+0000
TZOFFSETTO:+0100
TZNAME:Europe/Lisbon WEST
END:DAYLIGHT
BEGIN:DAYLIGHT
DTSTART:20150329T020000
RDATE:20151025T010000
TZOFFSETFROM:+0000
TZOFFSETTO:+0100
TZNAME:Europe/Lisbon WEST
END:DAYLIGHT
BEGIN:DAYLIGHT
DTSTART:20160327T020000
RDATE:20161030T010000
TZOFFSETFROM:+0000
TZOFFSETTO:+0100
TZNAME:Europe/Lisbon WEST
END:DAYLIGHT
BEGIN:DAYLIGHT
DTSTART:20170326T020000
RDATE:20171029T010000
TZOFFSETFROM:+0000
TZOFFSETTO:+0100
TZNAME:Europe/Lisbon WEST
END:DAYLIGHT
BEGIN:DAYLIGHT
DTSTART:20180325T020000
RDATE:20181028T010000
TZOFFSETFROM:+0000
TZOFFSETTO:+0100
TZNAME:Europe/Lisbon WEST
END:DAYLIGHT
BEGIN:DAYLIGHT
DTSTART:20190331T020000
RDATE:20191027T010000
TZOFFSETFROM:+0000
TZOFFSETTO:+0100
TZNAME:Europe/Lisbon WEST
END:DAYLIGHT
BEGIN:DAYLIGHT
DTSTART:20200329T020000
RDATE:20201025T010000
TZOFFSETFROM:+0000
TZOFFSETTO:+0100
TZNAME:Europe/Lisbon WEST
END:DAYLIGHT
END:VTIMEZONE
BEGIN:VEVENT
UID:d8f3298c74b12e227e3364db200ea104
CATEGORIES:Santos
SUMMARY:Beato Henrique de Suso
DESCRIPTION;ENCODING=QUOTED-PRINTABLE:Henrique de Suso nasceu a 21 de Março de 1295, na Ilha de Constança, na Ale
 manha e faleceu a 25 de Fevereiro de 1366 em Ulm, Alemanha.\nHenrique de Su
 so foi um religioso dominicano, escritor e místico, que se tornou um dos te
 ólogos alemães mais conhecidos, pela singular doçura da sua espiritualidae 
 e pela clareza do conceito transmitido de que a vida interior é acessível a
  todas as almas seguidoras da Paixão de Jesus Cristo.\nO pai de Henrique de
  Suso era um rico comerciante, não muito religioso, da nobre dinastia dos B
 erg, e a sua mãe era uma senhora da tradicional família cristã dos Suso. He
 nrique prefeiru manter o sobrenome da mãe. Desde a sua infância que Henriqu
 e de Suso foi educados pelos dominicanos, demostrando a sua vocação religio
 sa já nesta altura. \nAos treze anos, Henrique de Suso ingressou como noviç
 o no convento de São Nicolau.\nAos dezasseis anos, viveu um período de fé i
 ncerta, o que superou através da somatória de penitências rigorosas com as 
 orações contemplativas. Aos 18 anos, marcou o peito com um ferro em brasa, 
 contendo o nome de Jesus. \nNo convento em Constança, Henrique de Suso fez 
 os estudos preparatórios, filosóficos e teológicos. Depois, Henrique de Sus
 o, foi enviado para o Colégio Geral de Estrasburgo e finalmente para a univ
 ersidade de Colónia. \nEm 1336, Henrique de Suso sentiu que era hora de par
 tir para o apostolado peregrino. viajou por toda a Alemanha, passando ainda
  pela Suiça e Países Baixos, tornando-se um incansável pregador itinerante 
 do nome de Cristo. Durante quatro anos. até 1343 foi o diretor geral do con
 vento alemão de Turgovia. Depois foi transferido para o de Ulm, no qual per
 maneceu até à sua morte.\nFoi beatificado em 1831, pelo Papa Gregório XVI.\
 n\n\n \n
DTSTAMP:20260420T010546Z
DTSTART;TZID=Europe/Lisbon;VALUE=DATE:20140123
DTEND;TZID=Europe/Lisbon;VALUE=DATE:20140124
SEQUENCE:0
RRULE:FREQ=YEARLY;COUNT=100;INTERVAL=1;BYYEARDAY=+23
TRANSP:OPAQUE
END:VEVENT
END:VCALENDAR