BEGIN:VCALENDAR
VERSION:2.0
PRODID:-//jEvents 2.0 for Joomla//EN
CALSCALE:GREGORIAN
METHOD:PUBLISH
BEGIN:VTIMEZONE
TZID:Europe/Lisbon
BEGIN:STANDARD
DTSTART:20170312T000000
RDATE:20170326T020000
TZOFFSETFROM:+0100
TZOFFSETTO:+0000
TZNAME:Europe/Lisbon WET
END:STANDARD
BEGIN:STANDARD
DTSTART:20171029T010000
RDATE:20180325T020000
TZOFFSETFROM:+0100
TZOFFSETTO:+0000
TZNAME:Europe/Lisbon WET
END:STANDARD
BEGIN:STANDARD
DTSTART:20181028T010000
RDATE:20190331T020000
TZOFFSETFROM:+0100
TZOFFSETTO:+0000
TZNAME:Europe/Lisbon WET
END:STANDARD
BEGIN:STANDARD
DTSTART:20191027T010000
RDATE:20200329T020000
TZOFFSETFROM:+0100
TZOFFSETTO:+0000
TZNAME:Europe/Lisbon WET
END:STANDARD
BEGIN:STANDARD
DTSTART:20201025T010000
RDATE:20210328T020000
TZOFFSETFROM:+0100
TZOFFSETTO:+0000
TZNAME:Europe/Lisbon WET
END:STANDARD
BEGIN:DAYLIGHT
DTSTART:20170326T020000
RDATE:20171029T010000
TZOFFSETFROM:+0000
TZOFFSETTO:+0100
TZNAME:Europe/Lisbon WEST
END:DAYLIGHT
BEGIN:DAYLIGHT
DTSTART:20180325T020000
RDATE:20181028T010000
TZOFFSETFROM:+0000
TZOFFSETTO:+0100
TZNAME:Europe/Lisbon WEST
END:DAYLIGHT
BEGIN:DAYLIGHT
DTSTART:20190331T020000
RDATE:20191027T010000
TZOFFSETFROM:+0000
TZOFFSETTO:+0100
TZNAME:Europe/Lisbon WEST
END:DAYLIGHT
BEGIN:DAYLIGHT
DTSTART:20200329T020000
RDATE:20201025T010000
TZOFFSETFROM:+0000
TZOFFSETTO:+0100
TZNAME:Europe/Lisbon WEST
END:DAYLIGHT
END:VTIMEZONE
BEGIN:VEVENT
UID:c9301c9cdd178a71e045a9d6bae10abf
CATEGORIES:Santos
SUMMARY:São Rodrigo 
DESCRIPTION;ENCODING=QUOTED-PRINTABLE:Hoje celebramos São Rodrigo de Córdova. Não se sabe a data nem o local do s
 eu nascimento. São Rodrigo faleceu a 13 de março de 857 em Cabra, Córdova (
 Espanha) e faz parte dos mártires de Córdova, grupo de cristãos moçárabes c
 ondenados à morte por sua fé durante os reinados de Abderramão II e Maomé I
  no Emirado de Córdova.\nSegundo a tradição, São Rodrigo era um sacerdote e
 m Cabra, Espanha. São Rodrigo era um sacerdote muito zeloso na busca da san
 tidade e cumprimento dos seus deveres, num tempo onde os cristãos eram dura
 mente perseguidos. \nSão Rodrigo tinha dois irmãos, um muçulmano e outro se
 m religião (segundo algumas fontes, para outras o irmão era cristão). São R
 odrigo atuava frequentemente como mediador das disputas dos dois irmãos.\nC
 erta noite, os dois irmãos puseram-se a discutir com ardor um com o outro, 
 e com tamanho ódio que acabaram por se esmurrar. São Rodrigo correu para se
 pará-los, mas eles voltaram-se contra Rodrigo, e espancaram-no até ao ponto
  de o deixarem caído sem sentidos. Diante disso o irmão muçulmano mandou co
 locarem São Rodrigo numa padiola (maca) e levarem-no pelas ruas. enquanto e
 le próprio ia gritando que Rodrigo havia apostatado (renunciado ao cristian
 ismo) e queria, antes de morrer, que fosse publicamente reconhecido como mu
 çulmano. São Rodrigo encontrava-se sem forças para reagir, mas sentia uma p
 rofunda angústia. Assim que conseguiu ter forças, São Rodrigo fugiu e refug
 iou-se numa serra, em oração e contemplação, indo à cidade apenas para busc
 ar alimentos.\nAlgum tempo depois, ao encontrar São Rodrigo numa das ruas d
 e Córdoba, o irmão muçulmano arrastou-o até o cádi (magistrado muçulmano), 
 acusando-o de retornar à fé cristã após ter se declarado muçulmano.\nSão Ro
 drigo negou que algum dia houvesse abandonado a religião cristã.  Ao ser qu
 estionado pelo juiz, Rodrigo declarou: &ldquo;Nasci cristão e cristão hei d
 e morrer cristão&rdquo;. O cádi, no entanto, não acreditou em São Rodrigo e
  lançou-o numa das masmorras da cidade.\nNo local, São Rodrigo encontrou ou
 tro prisioneiro, Salomão (também mártir e santo), que fora preso pelo mesmo
  motivo. Os dois encorajaram-se mutuamente durante o longo encarceramento, 
 que, segundo esperava o cádi, os faria renegar a fé. Como permaneceram infl
 exíveis, os dois foram separados; mas, quando nem isso deu resultado, foram
  decapitados em 13 de março de 857.\nEstes dois santos, juntamente com Sant
 o Eulógio, são os mais conhecidos entre os mártires de Córdova.\n \nSão Rod
 rigo rogai por nós!\n
DTSTAMP:20260422T080857Z
DTSTART;TZID=Europe/Lisbon;VALUE=DATE:20180313
DTEND;TZID=Europe/Lisbon;VALUE=DATE:20180314
SEQUENCE:0
RRULE:FREQ=YEARLY;COUNT=100;INTERVAL=1;BYYEARDAY=-294
TRANSP:OPAQUE
END:VEVENT
END:VCALENDAR