BEGIN:VCALENDAR
VERSION:2.0
PRODID:-//jEvents 2.0 for Joomla//EN
CALSCALE:GREGORIAN
METHOD:PUBLISH
BEGIN:VTIMEZONE
TZID:Europe/Lisbon
BEGIN:STANDARD
DTSTART:20170309T000000
RDATE:20170326T020000
TZOFFSETFROM:+0100
TZOFFSETTO:+0000
TZNAME:Europe/Lisbon WET
END:STANDARD
BEGIN:STANDARD
DTSTART:20171029T010000
RDATE:20180325T020000
TZOFFSETFROM:+0100
TZOFFSETTO:+0000
TZNAME:Europe/Lisbon WET
END:STANDARD
BEGIN:STANDARD
DTSTART:20181028T010000
RDATE:20190331T020000
TZOFFSETFROM:+0100
TZOFFSETTO:+0000
TZNAME:Europe/Lisbon WET
END:STANDARD
BEGIN:STANDARD
DTSTART:20191027T010000
RDATE:20200329T020000
TZOFFSETFROM:+0100
TZOFFSETTO:+0000
TZNAME:Europe/Lisbon WET
END:STANDARD
BEGIN:STANDARD
DTSTART:20201025T010000
RDATE:20210328T020000
TZOFFSETFROM:+0100
TZOFFSETTO:+0000
TZNAME:Europe/Lisbon WET
END:STANDARD
BEGIN:DAYLIGHT
DTSTART:20170326T020000
RDATE:20171029T010000
TZOFFSETFROM:+0000
TZOFFSETTO:+0100
TZNAME:Europe/Lisbon WEST
END:DAYLIGHT
BEGIN:DAYLIGHT
DTSTART:20180325T020000
RDATE:20181028T010000
TZOFFSETFROM:+0000
TZOFFSETTO:+0100
TZNAME:Europe/Lisbon WEST
END:DAYLIGHT
BEGIN:DAYLIGHT
DTSTART:20190331T020000
RDATE:20191027T010000
TZOFFSETFROM:+0000
TZOFFSETTO:+0100
TZNAME:Europe/Lisbon WEST
END:DAYLIGHT
BEGIN:DAYLIGHT
DTSTART:20200329T020000
RDATE:20201025T010000
TZOFFSETFROM:+0000
TZOFFSETTO:+0100
TZNAME:Europe/Lisbon WEST
END:DAYLIGHT
END:VTIMEZONE
BEGIN:VEVENT
UID:8eb7f0c15e390b1c2d4dbe8c422046ed
CATEGORIES:Santos
SUMMARY:Santos Mártires de Sebaste
DESCRIPTION;ENCODING=QUOTED-PRINTABLE:Hoje relembramos os quarenta soldados cristãos, mártires de Sebaste, de vár
 ias nacionalidades, que foram presos e mortos, em Sebaste, na Arménia no an
 o 320.\nNesta época o governador Licínio, que era um grande inimigo dos cri
 stãos, publicou uma ordem afirmando que todos aqueles que não oferecessem s
 acrifícios aos deuses pagãos seriam punidos com a morte.\nA legião de solda
 dos pertencentes à Legio XII Fulminata, apresentou-se então afirmando serem
  cristãos e recusando-se a queimar incenso ou sacrificar animais.\nPara tes
 tar até onde ia a coragem dos soldados, o prefeito local mandou que fossem 
 presos e flagelados com correntes e ferros pontiagudos o que nada adiantou,
  pois, os soldados mantiveram-se fiéis a Jesus. \nO comandante procurou-os 
 então, dizendo que não queria perder os seus mais valorosos soldados, pedin
 do que renegassem a sua fé. Também de nada adiantou e os legionários foram 
 condenados a uma morte lenta e extremamente dolorosa.\nA região apresentava
  temperaturas muito baixas, de frio intenso. Os soldados foram colocados, n
 us, num tanque de gelo, sob a guarda de um sentinela.\nAo lado havia uma sa
 la com banhos quentes, roupas e comida para quem decidisse salvar a vida. F
 oi na terceira e última noite do martírio que aconteceram fatos prodigiosos
  e plenos de graça. No meio da gélida madrugada, o guarda viu uma multidão 
 de anjos descer dos céus e confortar os soldados; isto é, confortar trinta 
 e nove soldados, pois um único legionário desistira de enfrentar o frio e s
 e dirigira à sala de banhos. Morreu assim que tocou na água quente.\nPor ou
 tro lado, o guarda que assistira à chegada dos anjos arrependeu-se de escon
 der a sua condição religiosa, jogou para longe as armas, ajoelhou-se, confe
 ssou ser cristão e tirando as roupas juntou-se aos demais. Morreram quase t
 odos congelados. \n Apenas um deles, bastante jovem, ainda vivia quando os 
 corpos foram recolhidos e levados para cremação. A mãe desse jovem soldado,
  vendo o sofrimento do filho, apanhou-o no colo e seguiu nas carroças com o
 s cadáveres. O legionário morreu nos braços da sua mãe e teve o corpo crema
 do junto com os companheiros. \n Enquanto estiveram na prisão os soldados e
 screveram uma carta coletiva, que ainda hoje se conserva nos arquivos da Ig
 reja e que cita os nomes de todos.\nOs mártires são: Acácio, Aécio, Alexand
 re, Angias, Atanásio, Caio, Cândido, Chúdio, Cláudio, Cirilo, Domiciano, Do
 mno, Edélcion, Euvico, Eutichio, Flávio, Gorgônio, Heliano, Helias, Herácli
 o, Hesichio, João, Bibiano, Leôncio, Lisimacho, Militão, Nicolau, Filoctimã
 o, Prisco, Quirião, Sacerdão, Severiano, Sisínio, Smaragdo, Teódulo, Teófil
 o, Valente, Valério, Vibiano e Xanteas.\n \nSantos mártires de Sebaste roga
 i por nós!\n
DTSTAMP:20260424T103845Z
DTSTART;TZID=Europe/Lisbon;VALUE=DATE:20180310
DTEND;TZID=Europe/Lisbon;VALUE=DATE:20180311
SEQUENCE:0
RRULE:FREQ=YEARLY;COUNT=100;INTERVAL=1;BYYEARDAY=-297
TRANSP:OPAQUE
END:VEVENT
END:VCALENDAR