BEGIN:VCALENDAR
VERSION:2.0
PRODID:-//jEvents 2.0 for Joomla//EN
CALSCALE:GREGORIAN
METHOD:PUBLISH
BEGIN:VTIMEZONE
TZID:Europe/Lisbon
BEGIN:STANDARD
DTSTART:20170308T000000
RDATE:20170326T020000
TZOFFSETFROM:+0100
TZOFFSETTO:+0000
TZNAME:Europe/Lisbon WET
END:STANDARD
BEGIN:STANDARD
DTSTART:20171029T010000
RDATE:20180325T020000
TZOFFSETFROM:+0100
TZOFFSETTO:+0000
TZNAME:Europe/Lisbon WET
END:STANDARD
BEGIN:STANDARD
DTSTART:20181028T010000
RDATE:20190331T020000
TZOFFSETFROM:+0100
TZOFFSETTO:+0000
TZNAME:Europe/Lisbon WET
END:STANDARD
BEGIN:STANDARD
DTSTART:20191027T010000
RDATE:20200329T020000
TZOFFSETFROM:+0100
TZOFFSETTO:+0000
TZNAME:Europe/Lisbon WET
END:STANDARD
BEGIN:STANDARD
DTSTART:20201025T010000
RDATE:20210328T020000
TZOFFSETFROM:+0100
TZOFFSETTO:+0000
TZNAME:Europe/Lisbon WET
END:STANDARD
BEGIN:DAYLIGHT
DTSTART:20170326T020000
RDATE:20171029T010000
TZOFFSETFROM:+0000
TZOFFSETTO:+0100
TZNAME:Europe/Lisbon WEST
END:DAYLIGHT
BEGIN:DAYLIGHT
DTSTART:20180325T020000
RDATE:20181028T010000
TZOFFSETFROM:+0000
TZOFFSETTO:+0100
TZNAME:Europe/Lisbon WEST
END:DAYLIGHT
BEGIN:DAYLIGHT
DTSTART:20190331T020000
RDATE:20191027T010000
TZOFFSETFROM:+0000
TZOFFSETTO:+0100
TZNAME:Europe/Lisbon WEST
END:DAYLIGHT
BEGIN:DAYLIGHT
DTSTART:20200329T020000
RDATE:20201025T010000
TZOFFSETFROM:+0000
TZOFFSETTO:+0100
TZNAME:Europe/Lisbon WEST
END:DAYLIGHT
END:VTIMEZONE
BEGIN:VEVENT
UID:ab55677752514df54907cad4352c7814
CATEGORIES:Santos
SUMMARY:Santa Francisca Romana
DESCRIPTION;ENCODING=QUOTED-PRINTABLE:Santa Francisca Romana nasceu em 1384 nos estados papais e faleceu a 9 de m
 arço de 1440 em Roma (Itália). Era filha de um casal rico e aristocrático, 
 Paolo Bussa e Iacobella dei Roffredeschi. Foi batizada na igreja próxima de
  Igreja de Sant'Agnese na Piazza Navona com o nome Francisca Bussa de Buxis
  de Leoni.\nAos onze anos de idade Santa Francisca Romana já queria ser fre
 ira, mas foi forçada por seus pais, aos doze, a se casar com Lorenzo Ponzia
 ni, o comandante das tropas papais em Roma e de família extremamente rica. 
 Mesmo tendo sido arranjado, o casamento foi feliz e durou quarenta anos, pa
 rte por que Lorenzo admirava sua esposa e parte por que ele estava frequent
 emente fora da cidade lutando pelo papa.\n O casal teve seis filhos e viver
 am a fidelidade, o amor e a paternidade responsável e evangelizadora. Na ép
 oca, Roma estava dividida em fações a favor e contra o Papa, e que guerreav
 am entre si. Era uma verdadeira situação de guerra civil. Além disso, a cid
 ade foi assolada por epidemias, fomes, revoluções. Nestas situações, Santa 
 Francisca assistiu à morte de três dos seus filhos. Mais tarde, outro filho
  foi feito refém, o seu marido foi ferido na guerra e, depois, feito prisio
 neiro. Ainda assim Santa Francisca Romana prosseguiu com as suas obras de c
 aridade. Vendeu quase tudo o que possuía para mantê-la em funcionamento. Fo
 i nessa época que o povo, agradecido, lhe deu o título de &ldquo;Mãe de Rom
 a&rdquo;.\nSanta Francisca Romana frequentava a abadia de Santa Maria Nova,
  dos monges Beneditinos. Lá, em contato com as ricas senhoras de Roma, conv
 enceu um bom número delas a se unirem para prestar um serviço social aos po
 bres, doentes e necessitados. Santa Francisca Romana fundou uma espécie de 
 &ldquo;instituto das mães de Roma&rdquo;. Tratava-se de um organismo sem vo
 tos, sem regras, sem hábito, formado por mães romanas. Elas viviam o seu qu
 otidiano de mães e esposas, mas procuravam tempo para a oração e para a prá
 tica da caridade efetiva para com os necessitados acolhidos na casa de Sant
 a Francisca e em outras paróquias de Roma.\nTerminada a guerra, Lourenço, o
  marido de Santa Francisca Roma voltou do exílio e teve grande parte dos be
 ns que haviam sido confiscados restituídos. Ele apoiava Santa Francisca Rom
 ana na caridade e também participava. A santa esposa conseguiu, com muita o
 ração e conselhos, que o seu marido se reconciliasse com inimigos surgidos 
 nas guerras de Roma.\nApós a morte do seu marido Lourenço, Santa Francisca 
 Romana intensificou o seu trabalho junto aos pobres. A essa altura, cinco d
 e seus filhos e filhas tinham falecido. Quando o último filho sobrevivente 
 se casou, Santa Francisca Romana entregou o governo do palácio à sua nora. 
 Esta nora convertera-se à fé cristã por causa de Santa Francisca Romana. Em
  seguida, Santa Francisca Romana e suas companheiras viúvas de Roma, fundar
 am a Ordem das Irmãs Oblatas Olivetanas de Santa Maria Nova. Em 1433 dez ob
 latas da nova Ordem receberam o hábito religioso e começaram a viver em com
 unidade. Daí a poucos meses, o Papa Eugénio IV instituiu a congregação dand
 o-lhe o nome de Congregação das Oblatas da Santíssima Virgem. Mais tarde, a
 pós a morte de Santa Francisca, este nome foi mudado para Congregação das O
 blatas de Santa Francisca Romana. A congregação continuou bravamente a obra
  começada por Santa Francisca Romana.\nSanta Francisca Romana fez questão d
 e ingressar na Congregação que fundara como qualquer outra, sendo uma simpl
 es postulante. Em pouco tempo, porém, foi eleita a superiora e exerceu o se
 u ministério com humildade e santidade, procurando sempre descobrir e cumpr
 ir a vontade de Deus para a Obra.\nSanta Francisca Romana teve vários dons 
 sobrenaturais e carismas, que serviram para a edificação da congregação e d
 a Igreja em geral. Ela tinha visões do seu Anjo da Guarda, do combate entre
  as forças satânicas e as forças celestiais, profecias, êxtases, colóquios 
 com Jesus Cristo e Nossa Senhora. Teve também visões dos sofrimentos do inf
 erno, do purgatório e da felicidade profunda do céu, deixando claro que o m
 aior sofrimento na terra, não tem comparação com a felicidade do céu. Por i
 sso, suportava tudo com amor, paciência e perseverança.  \nSanta Francisca 
 Romana viveu apenas três anos no convento. Faleceu a 9 de março de 1440.\nF
 oi canonizada a 9 de maio de 1608 pelo Papa Paulo V e recebeu o título de S
 anta Mística da igreja.\n \nSanta Francisca Romana rogai por nós!\n
DTSTAMP:20260424T035333Z
DTSTART;TZID=Europe/Lisbon;VALUE=DATE:20180309
DTEND;TZID=Europe/Lisbon;VALUE=DATE:20180310
SEQUENCE:0
RRULE:FREQ=YEARLY;COUNT=100;INTERVAL=1;BYYEARDAY=-298
TRANSP:OPAQUE
END:VEVENT
END:VCALENDAR