BEGIN:VCALENDAR
VERSION:2.0
PRODID:-//jEvents 2.0 for Joomla//EN
CALSCALE:GREGORIAN
METHOD:PUBLISH
BEGIN:VTIMEZONE
TZID:Europe/Lisbon
BEGIN:STANDARD
DTSTART:20130122T000000
RDATE:20130331T020000
TZOFFSETFROM:+0100
TZOFFSETTO:+0000
TZNAME:Europe/Lisbon WET
END:STANDARD
BEGIN:STANDARD
DTSTART:20131027T010000
RDATE:20140330T020000
TZOFFSETFROM:+0100
TZOFFSETTO:+0000
TZNAME:Europe/Lisbon WET
END:STANDARD
BEGIN:STANDARD
DTSTART:20141026T010000
RDATE:20150329T020000
TZOFFSETFROM:+0100
TZOFFSETTO:+0000
TZNAME:Europe/Lisbon WET
END:STANDARD
BEGIN:STANDARD
DTSTART:20151025T010000
RDATE:20160327T020000
TZOFFSETFROM:+0100
TZOFFSETTO:+0000
TZNAME:Europe/Lisbon WET
END:STANDARD
BEGIN:STANDARD
DTSTART:20161030T010000
RDATE:20170326T020000
TZOFFSETFROM:+0100
TZOFFSETTO:+0000
TZNAME:Europe/Lisbon WET
END:STANDARD
BEGIN:STANDARD
DTSTART:20171029T010000
RDATE:20180325T020000
TZOFFSETFROM:+0100
TZOFFSETTO:+0000
TZNAME:Europe/Lisbon WET
END:STANDARD
BEGIN:STANDARD
DTSTART:20181028T010000
RDATE:20190331T020000
TZOFFSETFROM:+0100
TZOFFSETTO:+0000
TZNAME:Europe/Lisbon WET
END:STANDARD
BEGIN:STANDARD
DTSTART:20191027T010000
RDATE:20200329T020000
TZOFFSETFROM:+0100
TZOFFSETTO:+0000
TZNAME:Europe/Lisbon WET
END:STANDARD
BEGIN:STANDARD
DTSTART:20201025T010000
RDATE:20210328T020000
TZOFFSETFROM:+0100
TZOFFSETTO:+0000
TZNAME:Europe/Lisbon WET
END:STANDARD
BEGIN:DAYLIGHT
DTSTART:20130331T020000
RDATE:20131027T010000
TZOFFSETFROM:+0000
TZOFFSETTO:+0100
TZNAME:Europe/Lisbon WEST
END:DAYLIGHT
BEGIN:DAYLIGHT
DTSTART:20140330T020000
RDATE:20141026T010000
TZOFFSETFROM:+0000
TZOFFSETTO:+0100
TZNAME:Europe/Lisbon WEST
END:DAYLIGHT
BEGIN:DAYLIGHT
DTSTART:20150329T020000
RDATE:20151025T010000
TZOFFSETFROM:+0000
TZOFFSETTO:+0100
TZNAME:Europe/Lisbon WEST
END:DAYLIGHT
BEGIN:DAYLIGHT
DTSTART:20160327T020000
RDATE:20161030T010000
TZOFFSETFROM:+0000
TZOFFSETTO:+0100
TZNAME:Europe/Lisbon WEST
END:DAYLIGHT
BEGIN:DAYLIGHT
DTSTART:20170326T020000
RDATE:20171029T010000
TZOFFSETFROM:+0000
TZOFFSETTO:+0100
TZNAME:Europe/Lisbon WEST
END:DAYLIGHT
BEGIN:DAYLIGHT
DTSTART:20180325T020000
RDATE:20181028T010000
TZOFFSETFROM:+0000
TZOFFSETTO:+0100
TZNAME:Europe/Lisbon WEST
END:DAYLIGHT
BEGIN:DAYLIGHT
DTSTART:20190331T020000
RDATE:20191027T010000
TZOFFSETFROM:+0000
TZOFFSETTO:+0100
TZNAME:Europe/Lisbon WEST
END:DAYLIGHT
BEGIN:DAYLIGHT
DTSTART:20200329T020000
RDATE:20201025T010000
TZOFFSETFROM:+0000
TZOFFSETTO:+0100
TZNAME:Europe/Lisbon WEST
END:DAYLIGHT
END:VTIMEZONE
BEGIN:VEVENT
UID:6811a2655c9ba5bfa2214e87d9dc14d9
CATEGORIES:Santos
SUMMARY:Beata Josefa Maria de Benigánim
DESCRIPTION;ENCODING=QUOTED-PRINTABLE:Beata Josefa Maria de Benigánim nasceu em Benigánim, Espanha no ano de 1625
  e faleceu a 21 de Janeiro do ano de 1696.\nBeata Josefa Maria era filha de
  Luis Albyñana e de Vicenta Gomar, e viviam numa pobre casa da Rua de São M
 iguel em Benigánim. Foi batizada no dia em que nasceu. Em 24 de Agosto de 1
 633, foi crismada e pouco tempo depois recebeu a sua Primeira Comunhão semp
 re na Igreja paroquial de Benigánim.\nBeata Josefa Maria de Benigánim era a
 nalfabeta, e ficou órfã de pai muito jovem, indo empregar-se na casa do seu
  tio Bartolomeu Tudela, de quem suportou maus tratos. \nSuperadas algumas d
 ificuldades, no dia 25 de Outubro do ano de 1643, a Beata Josefa Maria, ing
 ressou como irmã leiga no mosteiro das Agostianianas Descalças da Puríssima
  Concepção e São José, na sua terra natal. Na ordem adotou o nome de Josefa
  Maria de Santa Inês, por grande devoção a Santa Inês. Era normalmente trat
 ada por Madre Inês.\nEm 27 de Agosto de 1645 professou os seus votos religi
 osos e a 18 de Novembro de 1663 o Arcebispo D. Martín de Antiveros tornou-a
  corista. \nSimples e humilde, a beata entregava-se aos trabalhos e serviço
 s da comunidade, e era procurada pelas pessoas mais importantes e influente
 s da Espanha pelo dom do seu conselho.\nFoi beatificada pelo Papa Leão XIII
  a 26 de Fevereiro de 1888. \n \nCuriosidade; Morreu no dia da festa de sua
  patrona, Santa Inês.\n\n
DTSTAMP:20260420T203121Z
DTSTART;TZID=Europe/Lisbon;VALUE=DATE:20140123
DTEND;TZID=Europe/Lisbon;VALUE=DATE:20140124
SEQUENCE:0
RRULE:FREQ=YEARLY;COUNT=100;INTERVAL=1;BYYEARDAY=+23
TRANSP:OPAQUE
END:VEVENT
END:VCALENDAR