BEGIN:VCALENDAR
VERSION:2.0
PRODID:-//jEvents 2.0 for Joomla//EN
CALSCALE:GREGORIAN
METHOD:PUBLISH
BEGIN:VTIMEZONE
TZID:Europe/Lisbon
BEGIN:STANDARD
DTSTART:20170301T000000
RDATE:20170326T020000
TZOFFSETFROM:+0100
TZOFFSETTO:+0000
TZNAME:Europe/Lisbon WET
END:STANDARD
BEGIN:STANDARD
DTSTART:20171029T010000
RDATE:20180325T020000
TZOFFSETFROM:+0100
TZOFFSETTO:+0000
TZNAME:Europe/Lisbon WET
END:STANDARD
BEGIN:STANDARD
DTSTART:20181028T010000
RDATE:20190331T020000
TZOFFSETFROM:+0100
TZOFFSETTO:+0000
TZNAME:Europe/Lisbon WET
END:STANDARD
BEGIN:STANDARD
DTSTART:20191027T010000
RDATE:20200329T020000
TZOFFSETFROM:+0100
TZOFFSETTO:+0000
TZNAME:Europe/Lisbon WET
END:STANDARD
BEGIN:STANDARD
DTSTART:20201025T010000
RDATE:20210328T020000
TZOFFSETFROM:+0100
TZOFFSETTO:+0000
TZNAME:Europe/Lisbon WET
END:STANDARD
BEGIN:DAYLIGHT
DTSTART:20170326T020000
RDATE:20171029T010000
TZOFFSETFROM:+0000
TZOFFSETTO:+0100
TZNAME:Europe/Lisbon WEST
END:DAYLIGHT
BEGIN:DAYLIGHT
DTSTART:20180325T020000
RDATE:20181028T010000
TZOFFSETFROM:+0000
TZOFFSETTO:+0100
TZNAME:Europe/Lisbon WEST
END:DAYLIGHT
BEGIN:DAYLIGHT
DTSTART:20190331T020000
RDATE:20191027T010000
TZOFFSETFROM:+0000
TZOFFSETTO:+0100
TZNAME:Europe/Lisbon WEST
END:DAYLIGHT
BEGIN:DAYLIGHT
DTSTART:20200329T020000
RDATE:20201025T010000
TZOFFSETFROM:+0000
TZOFFSETTO:+0100
TZNAME:Europe/Lisbon WEST
END:DAYLIGHT
END:VTIMEZONE
BEGIN:VEVENT
UID:d3355f3a739616c17bb85b5031b5349a
CATEGORIES:Santos
SUMMARY:Santa Inês de Praga
DESCRIPTION;ENCODING=QUOTED-PRINTABLE:Santa Inês de Praga, é também conhecida como Santa Inês da Boémia nasceu em
  Praga (República Checa) no ano de 1205 e faleceu na mesma cidade a 6 de ma
 rço de 1282. Era filha de Otacaro I da Boémia e de Constance da Hungria. Po
 r parte da família paterna encontramos vários santos: Santa Edviges da Silé
 sia (http://www.paroquia-almancil.pt/utilidades/vida-dos-santos/icalrepeat.
 detail/2018/10/16/51383/-/s-hedwiges.html) era sua tia-avó, Santa Isabel da
  Hungria (http://www.paroquia-almancil.pt/utilidades/vida-dos-santos/icalre
 peat.detail/2018/11/17/2071/-/s-isabel-da-hungria.html) sua prima e Santa M
 argarida da Hungria (http://www.paroquia-almancil.pt/utilidades/vida-dos-sa
 ntos/icalrepeat.detail/2018/01/18/4754/-/s-margarida-da-hungria.html) sua s
 obrinha.\nAos três anos Santa Inês de Praga foi enviada com a irmã mais vel
 ha, Ana, para o Mosteiro Cisterciense de Trebnica. Lá Santa Inês de Praga f
 oi educada pela sua tia-avó Santa Edviges que lhe ensinou as verdades funda
 mentais da fé, as primeiras orações e a formou na vida cristã. Aos seis ano
 s, Santa Inês de Praga foi transferida para Doksani, com as premonstratense
 s onde aprendeu a ler e escrever. \nEm 1220, com quinze anos, Santa Inês de
  Praga foi prometida em casamento a Henrique VII, duque da Áustria e filho 
 do imperador Frederico II. Santa Inês foi então para esta corte, aonde vive
 u durante cinco anos, mantendo-se sempre fiel aos deveres da vida cristã. E
 ntretanto, a santa voltou para Praga, pois os soberanos romperam o pacto do
  matrimónio. Santa Inês de Praga passou a viver mais intensamente para as o
 rações e as obras de caridade; e após uma profunda reflexão decidiu consagr
 ar a Deus a sua virgindade. O seu pai, porém, realizou outras alianças polí
 ticas e isso envolvia outras promessas de Inês em casamento. De uma delas a
  santa não tinha como fugir.  Contudo o Papa Gregório IX, a quem Inês tinha
  pedido proteção, interveio reconhecendo o voto de castidade da princesa, q
 ue assim conquistou a liberdade de se consagrar a Deus. A notícia da recusa
  propagou-se por toda Europa causando grande admiração.\nEntrementes chegar
 am a Praga alguns nobres que retornavam da Itália trazendo notícias de São 
 Francisco e da nova Ordem de Santa Clara. Ao tomar conhecimento da vida esp
 iritual de Santa Clara (http://www.paroquia-almancil.pt/utilidades/vida-dos
 -santos/icalrepeat.detail/2018/08/11/16191/-/s-clara-de-assis.html), Inês d
 esejou imitar a todo custo o seu exemplo. Desfez-se de todas as joias, ador
 nos e vestidos preciosos e distribuiu aos pobres o valor que arrecadou.\nCo
 m os seus próprios bens fundou em Praga, entre 1232 e 1233, o hospital de S
 ão Francisco para os pobres, e confiou-o à direção de um sodalício (socieda
 de de pessoas que vivem em comum) fundado por ela, a Ordem dos Crucíferos d
 a Estrela Vermelha, que se tornou mais tarde de a Ordem dos Cónegos Regular
 es Sanctissimae Rubea Stella, obra que ainda hoje existe. Ao mesmo tempo Sa
 nta Inês fundou o mosteiro de São Francisco para as Irmãs Pobres (Damianas 
 ou Clarissas) em Praga, nas margens do Moldava. Santa Clara de Assis enviou
  cinco Irmãs do mosteiro de Trento para auxiliar na nova fundação. Cinco jo
 vens, filhas das principais famílias de Praga, juntaram-se a elas, ficando 
 assim o mosteiro com 10 irmãs.\nEntre Santa Clara e Santa Inês nasceu uma a
 mizade profunda, embora nunca se tivessem podido encontrar. Santa Clara env
 iou-lhe quatro cartas onde expressava o afeto que dedicava a Inês, a quem c
 hamou "metade da sua alma". Santa Clara presenteou Santa Inês com uma cruz 
 de madeira, um véu de linho e uma vasilha de barro.\nSeguindo o estilo de v
 ida austera de São Francisco e de Santa Clara, Santa Inês viveu no mosteiro
  mais de 40 anos. Como Santa Clara no Mosteiro de São Damião, Santa Inês re
 nunciou às rendas, preferindo que o mosteiro vivesse só de esmolas, mas est
 a restrição só foi aprovada por Inocêncio IV (1243-1254). Inês inclusive re
 nunciou aos seus direitos sobre o hospital que havia fundado, e que poderia
  abastecer seu mosteiro com o alimento necessário. \nA entrada de Inês no m
 osteiro causou admiração em toda Europa, e todos aqueles que entravam em co
 ntato com ela davam testemunho de suas virtudes. A sua devoção a Nosso Senh
 or na Eucaristia propagou-se pelos outros mosteiros da Ordem e incentivou o
  desejo da comunhão diária. Graças ao exemplo de Inês, sucederam-se fundaçõ
 es de outros mosteiros da mesma Ordem na Boémia, Polónia e em outros países
 . O amor ao próximo não esmoreceu no seu coração generoso após a fundação d
 o hospital. Santa Inês de Praga assistia as Irmãs enfermas, cuidava dos lep
 rosos, socorria também pessoas com doenças contagiosas.\nAmou a Igreja Cató
 lica intensamente e implorava a Deus os dons da perseverança na fé e na car
 idade cristã para os seus filhos. Colaborou com os papas do seu tempo, aten
 dendo às solicitações de orações que faziam, e intermediando junto aos sobe
 ranos boémios, seus familiares, em negociações para o bem da Igreja. Santa 
 Inês de Praga nutriu sempre um amor profundo pela sua pátria, que beneficio
 u com obras de caridade individuais e sociais. Com a sabedoria de seus cons
 elhos evitou conflitos e promoveu a fidelidade do seu país à religião catól
 ica.\nO Senhor cumulou Santa Inês de muitas graças: êxtases, profecias, int
 uição e vários milagres. Predisse que o seu irmão Venceslau venceria o Duqu
 e d'Áustria. \nFaleceu a 2 de março de 1282 no seu mosteiro em Praga.\nFoi 
 canonizada pelo Papa João Paulo II a 12 de novembro de 1989.\n \nSanta Inês
  é Padroeira da cidade de Praga.\n \nSanta Inês de Praga rogai por nós!\n
DTSTAMP:20260421T212805Z
DTSTART;TZID=Europe/Lisbon;VALUE=DATE:20180302
DTEND;TZID=Europe/Lisbon;VALUE=DATE:20180303
SEQUENCE:0
RRULE:FREQ=YEARLY;COUNT=100;INTERVAL=1;BYYEARDAY=-305
TRANSP:OPAQUE
END:VEVENT
END:VCALENDAR