BEGIN:VCALENDAR
VERSION:2.0
PRODID:-//jEvents 2.0 for Joomla//EN
CALSCALE:GREGORIAN
METHOD:PUBLISH
BEGIN:VTIMEZONE
TZID:Europe/Lisbon
BEGIN:STANDARD
DTSTART:20170228T000000
RDATE:20170326T020000
TZOFFSETFROM:+0100
TZOFFSETTO:+0000
TZNAME:Europe/Lisbon WET
END:STANDARD
BEGIN:STANDARD
DTSTART:20171029T010000
RDATE:20180325T020000
TZOFFSETFROM:+0100
TZOFFSETTO:+0000
TZNAME:Europe/Lisbon WET
END:STANDARD
BEGIN:STANDARD
DTSTART:20181028T010000
RDATE:20190331T020000
TZOFFSETFROM:+0100
TZOFFSETTO:+0000
TZNAME:Europe/Lisbon WET
END:STANDARD
BEGIN:STANDARD
DTSTART:20191027T010000
RDATE:20200329T020000
TZOFFSETFROM:+0100
TZOFFSETTO:+0000
TZNAME:Europe/Lisbon WET
END:STANDARD
BEGIN:STANDARD
DTSTART:20201025T010000
RDATE:20210328T020000
TZOFFSETFROM:+0100
TZOFFSETTO:+0000
TZNAME:Europe/Lisbon WET
END:STANDARD
BEGIN:DAYLIGHT
DTSTART:20170326T020000
RDATE:20171029T010000
TZOFFSETFROM:+0000
TZOFFSETTO:+0100
TZNAME:Europe/Lisbon WEST
END:DAYLIGHT
BEGIN:DAYLIGHT
DTSTART:20180325T020000
RDATE:20181028T010000
TZOFFSETFROM:+0000
TZOFFSETTO:+0100
TZNAME:Europe/Lisbon WEST
END:DAYLIGHT
BEGIN:DAYLIGHT
DTSTART:20190331T020000
RDATE:20191027T010000
TZOFFSETFROM:+0000
TZOFFSETTO:+0100
TZNAME:Europe/Lisbon WEST
END:DAYLIGHT
BEGIN:DAYLIGHT
DTSTART:20200329T020000
RDATE:20201025T010000
TZOFFSETFROM:+0000
TZOFFSETTO:+0100
TZNAME:Europe/Lisbon WEST
END:DAYLIGHT
END:VTIMEZONE
BEGIN:VEVENT
UID:d3e5ffda62cb939d3ddc5686e783b94a
CATEGORIES:Santos
SUMMARY:São David
DESCRIPTION;ENCODING=QUOTED-PRINTABLE:São David nasceu por volta do ano 500 na cidade de Menevia (atual Saint Dav
 id), País de Gales e faleceu a 1 de março de 589 em Pembrokeshire, País de 
 Gales. Era membro da família real. São David era filho do Rei Sant de Wales
  do Sul e neto de Ceredig, Principe de Cardigan. Também é conhecido, como D
 avid, o Bretão.\nSão David estudou com São Paulino e recebeu a instrução cr
 istã inicial. Teve influência de diversos monásticos da época e tornou-se b
 astante rígido em relação à doutrina cristã.\nSão David fundou 12 monastéri
 os em Croyland e Pembrokeshire, com regras muito duras, baseadas nos monges
  egípcios, incorruptíveis e inflexíveis.\nSão David contribuiu notavelmente
  no Sínodo de Brevi, em Cardiganshire, e foi escolhido primaz da Igreja de 
 Cambrian. \nMais tarde foi sagrado Arcebispo de Caerleon. Diz a tradição qu
 e ao ser consagrado Arcebispo uma pomba desceu nos ombros de São David para
  mostrar que ele tinha a bênção do Espírito Santo.\nApós alguns anos, São D
 avid foi para Jerusalém, a fim de converter pagãos e não- cristãos. Convert
 eu vários pagãos e anticristãos. Quando o povo não o escutava, São David si
 mplesmente com orações, curava os doentes e levantava os paralíticos.\nFale
 ceu em 589 em Pembrokeshire, País de Gales.\nFoi canonizado no ano 1123 pel
 o Papa Calixto II.\n
DTSTAMP:20260421T193245Z
DTSTART;TZID=Europe/Lisbon;VALUE=DATE:20180301
DTEND;TZID=Europe/Lisbon;VALUE=DATE:20180302
SEQUENCE:0
RRULE:FREQ=YEARLY;COUNT=100;INTERVAL=1;BYYEARDAY=-306
TRANSP:OPAQUE
END:VEVENT
END:VCALENDAR