BEGIN:VCALENDAR
VERSION:2.0
PRODID:-//jEvents 2.0 for Joomla//EN
CALSCALE:GREGORIAN
METHOD:PUBLISH
BEGIN:VTIMEZONE
TZID:Europe/Lisbon
BEGIN:STANDARD
DTSTART:20130121T000000
RDATE:20130331T020000
TZOFFSETFROM:+0100
TZOFFSETTO:+0000
TZNAME:Europe/Lisbon WET
END:STANDARD
BEGIN:STANDARD
DTSTART:20131027T010000
RDATE:20140330T020000
TZOFFSETFROM:+0100
TZOFFSETTO:+0000
TZNAME:Europe/Lisbon WET
END:STANDARD
BEGIN:STANDARD
DTSTART:20141026T010000
RDATE:20150329T020000
TZOFFSETFROM:+0100
TZOFFSETTO:+0000
TZNAME:Europe/Lisbon WET
END:STANDARD
BEGIN:STANDARD
DTSTART:20151025T010000
RDATE:20160327T020000
TZOFFSETFROM:+0100
TZOFFSETTO:+0000
TZNAME:Europe/Lisbon WET
END:STANDARD
BEGIN:STANDARD
DTSTART:20161030T010000
RDATE:20170326T020000
TZOFFSETFROM:+0100
TZOFFSETTO:+0000
TZNAME:Europe/Lisbon WET
END:STANDARD
BEGIN:STANDARD
DTSTART:20171029T010000
RDATE:20180325T020000
TZOFFSETFROM:+0100
TZOFFSETTO:+0000
TZNAME:Europe/Lisbon WET
END:STANDARD
BEGIN:STANDARD
DTSTART:20181028T010000
RDATE:20190331T020000
TZOFFSETFROM:+0100
TZOFFSETTO:+0000
TZNAME:Europe/Lisbon WET
END:STANDARD
BEGIN:STANDARD
DTSTART:20191027T010000
RDATE:20200329T020000
TZOFFSETFROM:+0100
TZOFFSETTO:+0000
TZNAME:Europe/Lisbon WET
END:STANDARD
BEGIN:STANDARD
DTSTART:20201025T010000
RDATE:20210328T020000
TZOFFSETFROM:+0100
TZOFFSETTO:+0000
TZNAME:Europe/Lisbon WET
END:STANDARD
BEGIN:DAYLIGHT
DTSTART:20130331T020000
RDATE:20131027T010000
TZOFFSETFROM:+0000
TZOFFSETTO:+0100
TZNAME:Europe/Lisbon WEST
END:DAYLIGHT
BEGIN:DAYLIGHT
DTSTART:20140330T020000
RDATE:20141026T010000
TZOFFSETFROM:+0000
TZOFFSETTO:+0100
TZNAME:Europe/Lisbon WEST
END:DAYLIGHT
BEGIN:DAYLIGHT
DTSTART:20150329T020000
RDATE:20151025T010000
TZOFFSETFROM:+0000
TZOFFSETTO:+0100
TZNAME:Europe/Lisbon WEST
END:DAYLIGHT
BEGIN:DAYLIGHT
DTSTART:20160327T020000
RDATE:20161030T010000
TZOFFSETFROM:+0000
TZOFFSETTO:+0100
TZNAME:Europe/Lisbon WEST
END:DAYLIGHT
BEGIN:DAYLIGHT
DTSTART:20170326T020000
RDATE:20171029T010000
TZOFFSETFROM:+0000
TZOFFSETTO:+0100
TZNAME:Europe/Lisbon WEST
END:DAYLIGHT
BEGIN:DAYLIGHT
DTSTART:20180325T020000
RDATE:20181028T010000
TZOFFSETFROM:+0000
TZOFFSETTO:+0100
TZNAME:Europe/Lisbon WEST
END:DAYLIGHT
BEGIN:DAYLIGHT
DTSTART:20190331T020000
RDATE:20191027T010000
TZOFFSETFROM:+0000
TZOFFSETTO:+0100
TZNAME:Europe/Lisbon WEST
END:DAYLIGHT
BEGIN:DAYLIGHT
DTSTART:20200329T020000
RDATE:20201025T010000
TZOFFSETFROM:+0000
TZOFFSETTO:+0100
TZNAME:Europe/Lisbon WEST
END:DAYLIGHT
END:VTIMEZONE
BEGIN:VEVENT
UID:377669c7f77672793c8408e800ca5452
CATEGORIES:Santos
SUMMARY:Beata Laura Vicunha
DESCRIPTION;ENCODING=QUOTED-PRINTABLE:A Beata Laura Vicunha (Laura Vicuña) nasceu a 5 de Abril do ano de 1891 em 
 Santiago, Chile e faleceu a 22 de Janeiro do ano de 1904, em Júnin de los A
 ndes, Neuquén, Argentina. Laura Vicunha foi a primeira filha do casamento d
 e José Domingo Vicuña e Mercedes Pino. O pai de Laura Vicuña era militar e 
 pertencia a uma família da alta sociedade chilena; a mãe de Laura Vicuña vi
 nha de um estrato social mais baixo, o que fazia com que Mercedes Pino não 
 fosse do agrado dos familiares do seu esposo.\nNo fim do século XIX, o Chil
 e encontrava-se no meio de uma Guerra Civil e de Sucessão. De um lado encon
 trava-se Cláudio Vicuña, parente distante do pai da Beata Laura Vicuña, e q
 ue queriam que sucedesse ao presidente José Manuel Balmaceda. Cláudio Vicuñ
 a não aceitou o cargo e então foi iniciada uma perseguição a toda a família
  Vicuña, obrigando os membros da família de Laura Vicuña a buscar rotas de 
 exílio no país. \nNo ano de 1894, e logo após o nascimento da segunda filha
  do casal, Júlia Amanda, o pai de Laura Vicuña morreu, deixando a sua mulhe
 r e filhas sem fundos, sem um futuro claro ou horizontes que pudessem segui
 r, além do risco decorrente de carregar o nome Vicuña. Desesperada, Mercede
 s Pino, pega nas suas filhas e decidem esconder-se na Argentina, enquanto o
 s conflitos no Chile continuassem.\nEstabeleceram-se nas proximidades de Ne
 uquén. Mercedes Pino, mãe da Beata Laura Vicuña, procurou trabalho para pro
 pocionar às suas filhas condições para estudarem. Encontrou trabalho na est
 ância de Quilquihué, propriedade de Manuel Mora. Não tardou muito, para que
  Manuel Mora pressiona-se Mercedes, para que esta o atendesse como uma espo
 sa por forma a que ele pagasse os estudos das meninas e as três se mantives
 sem na propriedade. É assim que a Beata Laura Vicuña ingressa no colégio da
 s Filhas de Maria Auxiliadora, pertencente à Congregação Salesiana, onde te
 ve educação cultural e religiosa.\nNo dia 2 de Junho de 1901, Laura Vicuña 
 realizou a sua primeira comunhão. Entregou a sua vida pela conversão da sua
  mãe. Antes de morrer confessou a sua mãe o seu pedido de esta se converter
  e no leito da morte de sua filha Mercedes Pino converteu-se.\n Foi beatifi
 cada pelo Papa João Paulo II a 3 de Setembro de 1988.\n
DTSTAMP:20260420T185830Z
DTSTART;TZID=Europe/Lisbon;VALUE=DATE:20140122
DTEND;TZID=Europe/Lisbon;VALUE=DATE:20140123
SEQUENCE:0
RRULE:FREQ=YEARLY;COUNT=100;INTERVAL=1;BYYEARDAY=+22
TRANSP:OPAQUE
END:VEVENT
END:VCALENDAR