BEGIN:VCALENDAR
VERSION:2.0
PRODID:-//jEvents 2.0 for Joomla//EN
CALSCALE:GREGORIAN
METHOD:PUBLISH
BEGIN:VTIMEZONE
TZID:Europe/Lisbon
BEGIN:STANDARD
DTSTART:20170314T000000
RDATE:20170326T020000
TZOFFSETFROM:+0100
TZOFFSETTO:+0000
TZNAME:Europe/Lisbon WET
END:STANDARD
BEGIN:STANDARD
DTSTART:20171029T010000
RDATE:20180325T020000
TZOFFSETFROM:+0100
TZOFFSETTO:+0000
TZNAME:Europe/Lisbon WET
END:STANDARD
BEGIN:STANDARD
DTSTART:20181028T010000
RDATE:20190331T020000
TZOFFSETFROM:+0100
TZOFFSETTO:+0000
TZNAME:Europe/Lisbon WET
END:STANDARD
BEGIN:STANDARD
DTSTART:20191027T010000
RDATE:20200329T020000
TZOFFSETFROM:+0100
TZOFFSETTO:+0000
TZNAME:Europe/Lisbon WET
END:STANDARD
BEGIN:STANDARD
DTSTART:20201025T010000
RDATE:20210328T020000
TZOFFSETFROM:+0100
TZOFFSETTO:+0000
TZNAME:Europe/Lisbon WET
END:STANDARD
BEGIN:DAYLIGHT
DTSTART:20170326T020000
RDATE:20171029T010000
TZOFFSETFROM:+0000
TZOFFSETTO:+0100
TZNAME:Europe/Lisbon WEST
END:DAYLIGHT
BEGIN:DAYLIGHT
DTSTART:20180325T020000
RDATE:20181028T010000
TZOFFSETFROM:+0000
TZOFFSETTO:+0100
TZNAME:Europe/Lisbon WEST
END:DAYLIGHT
BEGIN:DAYLIGHT
DTSTART:20190331T020000
RDATE:20191027T010000
TZOFFSETFROM:+0000
TZOFFSETTO:+0100
TZNAME:Europe/Lisbon WEST
END:DAYLIGHT
BEGIN:DAYLIGHT
DTSTART:20200329T020000
RDATE:20201025T010000
TZOFFSETFROM:+0000
TZOFFSETTO:+0100
TZNAME:Europe/Lisbon WEST
END:DAYLIGHT
END:VTIMEZONE
BEGIN:VEVENT
UID:0e27aac62ba752668e9b2dbf496a223d
CATEGORIES:Santos
SUMMARY:Santa Luísa de Marillac
DESCRIPTION;ENCODING=QUOTED-PRINTABLE:Santa Luísa de Marillac nasceu a 12 de agosto de 1591, na França. Provavelm
 ente foi adotada, sendo registrada como filha natural de Luis 1º de Marilla
 c, cavaleiro e Senhor de Ferriéres-em-Brie e comandante de uma companhia do
  rei. \nAos 4 anos o seu pai envia-a para o Mosteiro Real de Saint-Louis de
  Poissy, das freiras dominicanas, onde recebeu uma esmerada educação.\nSant
 a Luísa de Marillac era de constituição frágil, de baixa estatura, magra, b
 onita, nariz afilado, olhos expressivos, boca pequena. Dotada de grande cap
 acidade intelectual e de vontade enérgica. Era muito sensível e inclinada a
 o escrúpulo, à timidez, à insegurança, minuciosa e perfeccionista, muito ab
 erta às coisas de Deus e do próximo.\nSanta Luísa de Marillac permaneceu no
  convento de Poissy até à morte do seu pai. O seu tio Miguel de Marillac, (
 chanceler da França) passa a ser o seu tutor e coloca Santa Luísa de Marill
 ac num lar para meninas em Paris. Nessa época Santa Luísa de Marillac começ
 a a frequentar as freiras capuchinhas, Filhas da Cruz. Ali a santa faz voto
 s de servir a Deus e aos pobres. Ela sentia que esta era sua verdadeira voc
 ação e o que mais desejava.\nPorém o seu tutor Miguel de Marillac decide ca
 sá-la com um secretário dos comandantes da Rainha Mãe, Maria de Médicis. As
 sim, em fevereiro de 1613, Santa Luísa de Marillac casa-se com Antonio Le G
 ras com quem tem o filho a que coloca o nome de Miguel em homenagem ao seu 
 tio.\nPor volta do ano 1621 o seu marido adoece e Santa Luísa de Marillac f
 ica sempre a seu lado. Contudo, sente-se rejeitada por todos, até mesmo por
  Deus.\nNo dia 4 de junho de 1623 (dia de Pentecostes nesse ano) Santa Luís
 a de Marillac recebeu uma graça do Espírito Santo: o seu espírito foi ilumi
 nado e suas dores e tristezas desapareceram. Aí Santa Luísa de Marillac com
 preendeu que deveria ficar com o seu marido e cuidar dele até quando ele mo
 rresse. Deveria também cuidar do seu filho até poder enviá-lo para as pensõ
 es dos filhos dos nobres, onde ele seria bem cuidado e educado. Depois diss
 o, Luísa de Marillac teria tempo para cumprir a sua vocação de ajudar os ma
 is necessitados. \nEm 1625 o marido veio a falecer, na paz, depois de muita
  revolta e intranquilidade e Santa Luísa de Marillac encontra o encontra o 
 Padre Vicente (http://www.paroquia-almancil.pt/utilidades/vida-dos-santos/i
 calrepeat.detail/2018/09/27/54404/-/s%C3%A3o-vicente-de-paulo.html), ela te
 m 34 anos, é uma viúva angustiada, inquieta na busca da vontade de Deus, co
 m uma vida de oração toda estruturada em exercícios, em devoções, em jejuns
  e disciplinas. \nSanta Luísa de Marillac coloca o filho numa pensão em Sai
 nt- Nicolas, como era costume na época. Os filhos dos nobres eram colocados
  nessas pensões, onde eram muito bem cuidados e educados. Isso tranquilizou
  o coração de Luísa de Marillac.\nDepois, Luísa de Marillac vai trabalhar c
 om São Vicente de Paulo, nas Damas da Caridade (obra fundada por São Vicent
 e), ajudando diretamente aos pobres. São Vicente nomeou Luísa como inspetor
 a das casas de caridade. Em março de 1634, com a ajuda e permissão do Padre
  Vicente, Santa Luísa de Marillac e mais quatro amigas fundam a Companhia d
 as Filhas da Caridade. Em 1655 a santa consegue a aprovação da congregação 
 com o Papa.\nSanta Luísa de Marillac e S. Vicente de Paulo começam a fazer 
 muita coisa: ajudam as crianças abandonadas, dão socorro às vítimas da guer
 ra dos 30 anos, cuidam de doentes mentais, participam da criação do hospita
 l do Santo Nome de Jesus e do Hospital Geral de Paris.\nSão Vicente, então,
  escreve a regra para as casas da caridade. Com essas palavras de São Vicen
 te e com sua ajuda, Santa Luísa de Marillac funda várias casas das Irmãs de
  Caridade em várias cidades da França e também na Polónia, a pedido da Rain
 ha Maria Gonzaga. Em 1652, quando a "peste" assolou a cidade de Paris, Sant
 a Luísa e as irmãs tiveram grande trabalho para ajudar os doentes, de tal f
 orma que não pararam um só momento.\nNo ano de 1660 Santa Luísa de Marillac
  sentia que seu fim estava se aproximando e queria ser assistida por São Vi
 cente de Paulo. O seu desejo, porém, não aconteceu pois ele com 85 anos tam
 bém estava muito doente, São Vicente de Paulo apenas lhe conseguiu enviar u
 ma bênção.\nSanta Luísa de Marillac faleceu a 15 de março de 1660.\nFoi can
 onizada pelo Papa Pio XI a 11 de março de 1934 e declarada patrona das Obra
 s Sociais pelo Papa João XXIII no ano de 1960.\n \nSanta Luísa de Marillac 
 rogai por nós!\n
DTSTAMP:20260419T213023Z
DTSTART;TZID=Europe/Lisbon;VALUE=DATE:20180315
DTEND;TZID=Europe/Lisbon;VALUE=DATE:20180316
SEQUENCE:0
RRULE:FREQ=YEARLY;COUNT=100;INTERVAL=1;BYYEARDAY=-292
TRANSP:OPAQUE
END:VEVENT
END:VCALENDAR