BEGIN:VCALENDAR
VERSION:2.0
PRODID:-//jEvents 2.0 for Joomla//EN
CALSCALE:GREGORIAN
METHOD:PUBLISH
BEGIN:VTIMEZONE
TZID:Europe/Lisbon
BEGIN:STANDARD
DTSTART:20130121T000000
RDATE:20130331T020000
TZOFFSETFROM:+0100
TZOFFSETTO:+0000
TZNAME:Europe/Lisbon WET
END:STANDARD
BEGIN:STANDARD
DTSTART:20131027T010000
RDATE:20140330T020000
TZOFFSETFROM:+0100
TZOFFSETTO:+0000
TZNAME:Europe/Lisbon WET
END:STANDARD
BEGIN:STANDARD
DTSTART:20141026T010000
RDATE:20150329T020000
TZOFFSETFROM:+0100
TZOFFSETTO:+0000
TZNAME:Europe/Lisbon WET
END:STANDARD
BEGIN:STANDARD
DTSTART:20151025T010000
RDATE:20160327T020000
TZOFFSETFROM:+0100
TZOFFSETTO:+0000
TZNAME:Europe/Lisbon WET
END:STANDARD
BEGIN:STANDARD
DTSTART:20161030T010000
RDATE:20170326T020000
TZOFFSETFROM:+0100
TZOFFSETTO:+0000
TZNAME:Europe/Lisbon WET
END:STANDARD
BEGIN:STANDARD
DTSTART:20171029T010000
RDATE:20180325T020000
TZOFFSETFROM:+0100
TZOFFSETTO:+0000
TZNAME:Europe/Lisbon WET
END:STANDARD
BEGIN:STANDARD
DTSTART:20181028T010000
RDATE:20190331T020000
TZOFFSETFROM:+0100
TZOFFSETTO:+0000
TZNAME:Europe/Lisbon WET
END:STANDARD
BEGIN:STANDARD
DTSTART:20191027T010000
RDATE:20200329T020000
TZOFFSETFROM:+0100
TZOFFSETTO:+0000
TZNAME:Europe/Lisbon WET
END:STANDARD
BEGIN:STANDARD
DTSTART:20201025T010000
RDATE:20210328T020000
TZOFFSETFROM:+0100
TZOFFSETTO:+0000
TZNAME:Europe/Lisbon WET
END:STANDARD
BEGIN:DAYLIGHT
DTSTART:20130331T020000
RDATE:20131027T010000
TZOFFSETFROM:+0000
TZOFFSETTO:+0100
TZNAME:Europe/Lisbon WEST
END:DAYLIGHT
BEGIN:DAYLIGHT
DTSTART:20140330T020000
RDATE:20141026T010000
TZOFFSETFROM:+0000
TZOFFSETTO:+0100
TZNAME:Europe/Lisbon WEST
END:DAYLIGHT
BEGIN:DAYLIGHT
DTSTART:20150329T020000
RDATE:20151025T010000
TZOFFSETFROM:+0000
TZOFFSETTO:+0100
TZNAME:Europe/Lisbon WEST
END:DAYLIGHT
BEGIN:DAYLIGHT
DTSTART:20160327T020000
RDATE:20161030T010000
TZOFFSETFROM:+0000
TZOFFSETTO:+0100
TZNAME:Europe/Lisbon WEST
END:DAYLIGHT
BEGIN:DAYLIGHT
DTSTART:20170326T020000
RDATE:20171029T010000
TZOFFSETFROM:+0000
TZOFFSETTO:+0100
TZNAME:Europe/Lisbon WEST
END:DAYLIGHT
BEGIN:DAYLIGHT
DTSTART:20180325T020000
RDATE:20181028T010000
TZOFFSETFROM:+0000
TZOFFSETTO:+0100
TZNAME:Europe/Lisbon WEST
END:DAYLIGHT
BEGIN:DAYLIGHT
DTSTART:20190331T020000
RDATE:20191027T010000
TZOFFSETFROM:+0000
TZOFFSETTO:+0100
TZNAME:Europe/Lisbon WEST
END:DAYLIGHT
BEGIN:DAYLIGHT
DTSTART:20200329T020000
RDATE:20201025T010000
TZOFFSETFROM:+0000
TZOFFSETTO:+0100
TZNAME:Europe/Lisbon WEST
END:DAYLIGHT
END:VTIMEZONE
BEGIN:VEVENT
UID:0bd32f6ab51c40d271d4770b464a5354
CATEGORIES:Santos
SUMMARY:São Vicente
DESCRIPTION;ENCODING=QUOTED-PRINTABLE:São Vicente nasceu em Huesca, Espanha nos finais do século III e faleceu no
  ano 302 em Valência, Espanha. \nSão Vicente era filho de Eutiquio e Enola.
  São Vicente foi educado em Saragoça (Espanha), onde absorveu com fervor as
  lições de religião e de letras proporcionadas pelo Bispo Valério, o mesmo 
 Bispo que o viria a ordenar diácono.\nDiocleciano, imperador de Roma na alt
 ura em que São Vicente viveu, ordenou a Daciano que efetuasse uma brutal pe
 rseguição aos cristãos da Península Ibérica.\nAo chegar a Saragoça, Daciano
  prendeu o Bispo Valério e São Vicente, enviando-os para Valência para sere
 m encarcerados e torturados. Daciano tentou por todos os meios que tanto o 
 Bispo como São Vicente negassem a sua fé. Perante a sua afirmação de Fé cri
 stã, Daciano condenou o Bispo Valério a ser desterrado e São Vicente à mort
 e.\nSão Vicente foi conduzido novamente à prisão, onde lhe foram infligidos
  inúmeros suplícios, como a flagelação e o rasgar de carnes, vindo a falece
 r no dia 22 de Janeiro do ano 304. O seu corpo foi abandonado num pântano, 
 com o objetivo de ser comidos pelas aves, mas foi salvo por um corvo. Deses
 perado, Daciano ordenou que largassem o corpo do santo em alto mar, mas dep
 ressa o corpo de São Vicente regressou a terra.\nNo entanto, o corpo de São
  Vicente ainda não estava a salvo, pois em 755 o califa Abd al-Rahmãn conhe
 cido por profanar os locais santos por onde passava chegou à Península Ibér
 ica. Então os moçárabes, pegaram no corpo de São Vicente e fugiram com o me
 smo para o Algarve. Não se sabe o motivo pelo qual, o Algarve foi o local e
 leito pelos moçárabes para se refugiarem. Ao chegaram, os valencianos ergue
 ram habitações e colocaram as relíquias do santo numa construção já existen
 te no local com função religiosa. \nNo ano de 1147, D. Afonso Henriques, to
 mou a cidade de Lisboa aos mouros e mandou construir um mosteiro em honra d
 o mártir, a que pôs o nome de São Vicente de Fora, e empreendeu duas expedi
 ções ao Algarve com o intuito de recuperar as relíquias de São Vicente.\nAn
 tes de abandonarem o sudoeste algarvio, sucederam ainda dois milagres: o pr
 imeiro foi protagonizado por um homem que roubou parte de uma relíquia e fo
 i castigado, com a perda da visão; o segundo ocorreu quando S. Vicente tran
 sformou o mar bravo naquela zona num lago, de fácil navegação. \nA chegada 
 das relíquias a Lisboa decorreram durante a noite, afim de evitar conflitos
  que acabaram por acontecer no dia seguinte. Naquela noite o corpo foi depo
 sitado na Igreja de Santa Justa, por esta ser a igreja mais próxima do loca
 l do desembarque. No dia seguinte as relíquias de São Vicente foram colocad
 as na Sé de Lisboa.\n\n Curiosidade: São Vicente é o padroeiro da nossa Dio
 cese. Diocese do Algarve\n
DTSTAMP:20260420T200251Z
DTSTART;TZID=Europe/Lisbon;VALUE=DATE:20140122
DTEND;TZID=Europe/Lisbon;VALUE=DATE:20140123
SEQUENCE:0
RRULE:FREQ=YEARLY;COUNT=100;INTERVAL=1;BYYEARDAY=+22
TRANSP:OPAQUE
END:VEVENT
END:VCALENDAR