BEGIN:VCALENDAR
VERSION:2.0
PRODID:-//jEvents 2.0 for Joomla//EN
CALSCALE:GREGORIAN
METHOD:PUBLISH
BEGIN:VTIMEZONE
TZID:Europe/Lisbon
BEGIN:STANDARD
DTSTART:20170223T000000
RDATE:20170326T020000
TZOFFSETFROM:+0100
TZOFFSETTO:+0000
TZNAME:Europe/Lisbon WET
END:STANDARD
BEGIN:STANDARD
DTSTART:20171029T010000
RDATE:20180325T020000
TZOFFSETFROM:+0100
TZOFFSETTO:+0000
TZNAME:Europe/Lisbon WET
END:STANDARD
BEGIN:STANDARD
DTSTART:20181028T010000
RDATE:20190331T020000
TZOFFSETFROM:+0100
TZOFFSETTO:+0000
TZNAME:Europe/Lisbon WET
END:STANDARD
BEGIN:STANDARD
DTSTART:20191027T010000
RDATE:20200329T020000
TZOFFSETFROM:+0100
TZOFFSETTO:+0000
TZNAME:Europe/Lisbon WET
END:STANDARD
BEGIN:STANDARD
DTSTART:20201025T010000
RDATE:20210328T020000
TZOFFSETFROM:+0100
TZOFFSETTO:+0000
TZNAME:Europe/Lisbon WET
END:STANDARD
BEGIN:DAYLIGHT
DTSTART:20170326T020000
RDATE:20171029T010000
TZOFFSETFROM:+0000
TZOFFSETTO:+0100
TZNAME:Europe/Lisbon WEST
END:DAYLIGHT
BEGIN:DAYLIGHT
DTSTART:20180325T020000
RDATE:20181028T010000
TZOFFSETFROM:+0000
TZOFFSETTO:+0100
TZNAME:Europe/Lisbon WEST
END:DAYLIGHT
BEGIN:DAYLIGHT
DTSTART:20190331T020000
RDATE:20191027T010000
TZOFFSETFROM:+0000
TZOFFSETTO:+0100
TZNAME:Europe/Lisbon WEST
END:DAYLIGHT
BEGIN:DAYLIGHT
DTSTART:20200329T020000
RDATE:20201025T010000
TZOFFSETFROM:+0000
TZOFFSETTO:+0100
TZNAME:Europe/Lisbon WEST
END:DAYLIGHT
END:VTIMEZONE
BEGIN:VEVENT
UID:a356a7d79e96127b9a4b61862afe721f
CATEGORIES:Santos
SUMMARY:Etelberto de Kent
DESCRIPTION;ENCODING=QUOTED-PRINTABLE:Etebelrto de Kent nasceu no ano de 560 e faleceu a 24 de fevereiro de 616 e
 m Kent (Inglaterra). Era filho de Eormenric, e sucedeu ao pai como rei.Depo
 is de ter assumido o trono casou-se com Berta, filha única do rei de Paris.
  Berta era cristã e Etelberto concedeu a sua esposa plena liberdade para pa
 rticipar de sua religião. \nProvavelmente influenciado por Berta, o Papa Gr
 egório I (http://www.paroquia-almancil.pt/utilidades/vida-dos-santos/icalre
 peat.detail/2018/09/03/57698/-/s-greg%C3%B3rio-magno.html) enviou missionár
 ios de Roma que desembarcaram na ilha de Thanet (Inglaterra) no ano de 597.
  Os missionários onde se encontrava também Santo Agostinho (http://www.paro
 quia-almancil.pt/utilidades/vida-dos-santos/icalrepeat.detail/2018/08/28/20
 411/-/s-agostinho.html), rapidamente comunicaram com o rei, anunciando-lhe 
 a sua chegada e as razões da sua viagem. Etelberto de Kent rogou-lhes que p
 ermanecessem na ilha e poucos dias mais tarde, foi pessoalmente escutá-los.
  Depois deste encontro, São Etelberto de Kent converteu-se e concedeu-lhes 
 permissão para pregar em todo o povoado, converter a quantos pudessem e ent
 regou-lhes a igreja de São Martinho para que pudessem celebrar a Missa e ou
 tras liturgias.\nAs conversões começaram a multiplicar-se, e prontamente o 
 rei e sua corte foram batizados no dia de Pentecostes do ano 597. O rei alé
 m disto lhes deu permissão para reconstruir as antigas igrejas e construir 
 outras novas.\nO governo de Etelberto de Kent distinguiu-se pelo empenho qu
 e pôs em melhorar as condições de vida dos seus súditos; as suas leis lhe g
 arantiram o apreço da Inglaterra, em épocas posteriores, e o seu apoio à fé
  católica permitiu que se construíssem muitos templos, mosteiros e algumas 
 dioceses, como a de Rochester.\nFaleceu no ano de 616, 56 anos depois de te
 r iniciado o seu reinado.\n
DTSTAMP:20260420T104502Z
DTSTART;TZID=Europe/Lisbon;VALUE=DATE:20180224
DTEND;TZID=Europe/Lisbon;VALUE=DATE:20180225
SEQUENCE:0
RRULE:FREQ=YEARLY;COUNT=100;INTERVAL=1;BYYEARDAY=+55
TRANSP:OPAQUE
END:VEVENT
END:VCALENDAR