BEGIN:VCALENDAR
VERSION:2.0
PRODID:-//jEvents 2.0 for Joomla//EN
CALSCALE:GREGORIAN
METHOD:PUBLISH
BEGIN:VTIMEZONE
TZID:Europe/Lisbon
BEGIN:STANDARD
DTSTART:20130120T000000
RDATE:20130331T020000
TZOFFSETFROM:+0100
TZOFFSETTO:+0000
TZNAME:Europe/Lisbon WET
END:STANDARD
BEGIN:STANDARD
DTSTART:20131027T010000
RDATE:20140330T020000
TZOFFSETFROM:+0100
TZOFFSETTO:+0000
TZNAME:Europe/Lisbon WET
END:STANDARD
BEGIN:STANDARD
DTSTART:20141026T010000
RDATE:20150329T020000
TZOFFSETFROM:+0100
TZOFFSETTO:+0000
TZNAME:Europe/Lisbon WET
END:STANDARD
BEGIN:STANDARD
DTSTART:20151025T010000
RDATE:20160327T020000
TZOFFSETFROM:+0100
TZOFFSETTO:+0000
TZNAME:Europe/Lisbon WET
END:STANDARD
BEGIN:STANDARD
DTSTART:20161030T010000
RDATE:20170326T020000
TZOFFSETFROM:+0100
TZOFFSETTO:+0000
TZNAME:Europe/Lisbon WET
END:STANDARD
BEGIN:STANDARD
DTSTART:20171029T010000
RDATE:20180325T020000
TZOFFSETFROM:+0100
TZOFFSETTO:+0000
TZNAME:Europe/Lisbon WET
END:STANDARD
BEGIN:STANDARD
DTSTART:20181028T010000
RDATE:20190331T020000
TZOFFSETFROM:+0100
TZOFFSETTO:+0000
TZNAME:Europe/Lisbon WET
END:STANDARD
BEGIN:STANDARD
DTSTART:20191027T010000
RDATE:20200329T020000
TZOFFSETFROM:+0100
TZOFFSETTO:+0000
TZNAME:Europe/Lisbon WET
END:STANDARD
BEGIN:STANDARD
DTSTART:20201025T010000
RDATE:20210328T020000
TZOFFSETFROM:+0100
TZOFFSETTO:+0000
TZNAME:Europe/Lisbon WET
END:STANDARD
BEGIN:DAYLIGHT
DTSTART:20130331T020000
RDATE:20131027T010000
TZOFFSETFROM:+0000
TZOFFSETTO:+0100
TZNAME:Europe/Lisbon WEST
END:DAYLIGHT
BEGIN:DAYLIGHT
DTSTART:20140330T020000
RDATE:20141026T010000
TZOFFSETFROM:+0000
TZOFFSETTO:+0100
TZNAME:Europe/Lisbon WEST
END:DAYLIGHT
BEGIN:DAYLIGHT
DTSTART:20150329T020000
RDATE:20151025T010000
TZOFFSETFROM:+0000
TZOFFSETTO:+0100
TZNAME:Europe/Lisbon WEST
END:DAYLIGHT
BEGIN:DAYLIGHT
DTSTART:20160327T020000
RDATE:20161030T010000
TZOFFSETFROM:+0000
TZOFFSETTO:+0100
TZNAME:Europe/Lisbon WEST
END:DAYLIGHT
BEGIN:DAYLIGHT
DTSTART:20170326T020000
RDATE:20171029T010000
TZOFFSETFROM:+0000
TZOFFSETTO:+0100
TZNAME:Europe/Lisbon WEST
END:DAYLIGHT
BEGIN:DAYLIGHT
DTSTART:20180325T020000
RDATE:20181028T010000
TZOFFSETFROM:+0000
TZOFFSETTO:+0100
TZNAME:Europe/Lisbon WEST
END:DAYLIGHT
BEGIN:DAYLIGHT
DTSTART:20190331T020000
RDATE:20191027T010000
TZOFFSETFROM:+0000
TZOFFSETTO:+0100
TZNAME:Europe/Lisbon WEST
END:DAYLIGHT
BEGIN:DAYLIGHT
DTSTART:20200329T020000
RDATE:20201025T010000
TZOFFSETFROM:+0000
TZOFFSETTO:+0100
TZNAME:Europe/Lisbon WEST
END:DAYLIGHT
END:VTIMEZONE
BEGIN:VEVENT
UID:9f8113860fb158b3c395b20d6f7b87bf
CATEGORIES:Santos
SUMMARY:Santa Inês
DESCRIPTION;ENCODING=QUOTED-PRINTABLE:\n\nSanta Inês nasceu no ano 291 d.C. em Roma, Itália e morreu a 21 de Jane
 iro do ano 304 d.C em Roma, Itália.\n\n\nSanta Inês era descendente de uma 
 poderosa família nobre e desde pequena que foi educada pelos seus pais na f
 é cristã. Santa Inês cresceu virtuosa e decidiu consagrar a sua pureza a De
 us, resistindo às investidas dos jovens ricos da nobreza romana, desejosos 
 do seu amor.\n\n\nTinha Santa Inês, treze anos quando foi cobiçada, pela su
 a enorme beleza, riqueza e virtude, pelo jovem Fúlvio, filho do perfeito de
  Roma, Semprônio. \n\n\nQuando Santa Inês rejeitou o jovem Flúvio, foi leva
 da a julgamento e obrigada a manter o fogo sagrado de um templo dedicado a 
 Vesta, aceso. Santa Inês, recusou-se a fazê-lo, dizendo: " Se recusei o seu
  filho, que é um homem vivo, como pode pensar que eu aceite prestar honras 
 a uma estátua que nada significa para mim? Meu esposo não é desta terra" - 
 afirmou Santa Inês referindo-se a Jesus Cristo. "Sou jovem, é verdade, mas 
 a fé não se mede pelos anos e sim pelos sentimentos. Deus mede a alma, não 
 a idade. Quanto aos deuses, até podem ficar furiosos, que eu não os temo. M
 eu Deus é amor". \n\n\nTendo proferido estas palavras, Santa Inês foi conde
 nada a ser exposta nua num prostíbulo no Circo Agnolo (hoje Praça Navona, e
 m Roma onde se ergue a Basílica de Santa Inês). \n\n\nDiz a história que, i
 ntroduzida no local da desonra, uma luz celestial a protegeu e ninguém ouso
 u aproximar-se dela. Os cabelos de Santa Inês cresceram maravilhosamente co
 brindo o seu corpo. Ao ser defendida por um anjo guardião, um dos seus lasc
 ivos pretendentes caiu morto, mas Santa Inês, com piedade, orou a Deus e De
 us o ressuscitou.\n\n\nCom medo, o prefeito Simprônio passou o caso ao seu 
 cruel substituto, Aspásio. Após novo interrogatório, Santa Inês foi condena
 da a morrer queimada. As chamas também não tocaram em Santa Inês, voltando-
 se contra os seus algozes e matando muitos deles, Por fim, Santa Inês foi d
 ecapitada, a mando do vice-perfeito de Roma, Aspásio.\n\n\nOs pais de Santa
  Inês, sepultaram o seu corpo num terreno próximo da Via Momentana, onde a 
 princesa Constantina, filha do imperador Constantino, viria a mandar erguer
  a majestosa basílica de Santa Inês Fora dos Muros, palco de grandes milagr
 es, por intermédio de Santa Inês.\n\n\nOito dias depois da sua morte, Santa
  Inês apareceu em glória aos seus pais que rezavam no seu túmulo, segurando
  um cordeirinho branco e cercada de muitas virgens e anjos, sendo que Santa
  Inês anunciou nesse momento aos seus pais, a sua grande felicidade no céu.
 \n\n\n\n\n\nCuriosidade: Santa Inês é a padroeira da castidade, dos jardine
 iros, dos noivos, das vítimas de violação e das virgens.\n\n\n             
       Normalmente é representada com um cordeiro junto a si, até porque o s
 eu nome provém do latim agnus (cordeiro) e um lírio, símbolo da pureza.\n
DTSTAMP:20260424T053655Z
DTSTART;TZID=Europe/Lisbon;VALUE=DATE:20140121
DTEND;TZID=Europe/Lisbon;VALUE=DATE:20140122
SEQUENCE:0
RRULE:FREQ=YEARLY;COUNT=100;INTERVAL=1;BYYEARDAY=+21
TRANSP:OPAQUE
END:VEVENT
END:VCALENDAR