BEGIN:VCALENDAR
VERSION:2.0
PRODID:-//jEvents 2.0 for Joomla//EN
CALSCALE:GREGORIAN
METHOD:PUBLISH
BEGIN:VTIMEZONE
TZID:Europe/Lisbon
BEGIN:STANDARD
DTSTART:20170220T000000
RDATE:20170326T020000
TZOFFSETFROM:+0100
TZOFFSETTO:+0000
TZNAME:Europe/Lisbon WET
END:STANDARD
BEGIN:STANDARD
DTSTART:20171029T010000
RDATE:20180325T020000
TZOFFSETFROM:+0100
TZOFFSETTO:+0000
TZNAME:Europe/Lisbon WET
END:STANDARD
BEGIN:STANDARD
DTSTART:20181028T010000
RDATE:20190331T020000
TZOFFSETFROM:+0100
TZOFFSETTO:+0000
TZNAME:Europe/Lisbon WET
END:STANDARD
BEGIN:STANDARD
DTSTART:20191027T010000
RDATE:20200329T020000
TZOFFSETFROM:+0100
TZOFFSETTO:+0000
TZNAME:Europe/Lisbon WET
END:STANDARD
BEGIN:STANDARD
DTSTART:20201025T010000
RDATE:20210328T020000
TZOFFSETFROM:+0100
TZOFFSETTO:+0000
TZNAME:Europe/Lisbon WET
END:STANDARD
BEGIN:DAYLIGHT
DTSTART:20170326T020000
RDATE:20171029T010000
TZOFFSETFROM:+0000
TZOFFSETTO:+0100
TZNAME:Europe/Lisbon WEST
END:DAYLIGHT
BEGIN:DAYLIGHT
DTSTART:20180325T020000
RDATE:20181028T010000
TZOFFSETFROM:+0000
TZOFFSETTO:+0100
TZNAME:Europe/Lisbon WEST
END:DAYLIGHT
BEGIN:DAYLIGHT
DTSTART:20190331T020000
RDATE:20191027T010000
TZOFFSETFROM:+0000
TZOFFSETTO:+0100
TZNAME:Europe/Lisbon WEST
END:DAYLIGHT
BEGIN:DAYLIGHT
DTSTART:20200329T020000
RDATE:20201025T010000
TZOFFSETFROM:+0000
TZOFFSETTO:+0100
TZNAME:Europe/Lisbon WEST
END:DAYLIGHT
END:VTIMEZONE
BEGIN:VEVENT
UID:91598d6203dcd7100b33e014ba5881fc
CATEGORIES:Santos
SUMMARY:São Pedro Damião
DESCRIPTION;ENCODING=QUOTED-PRINTABLE:São Pedro Damião nasceu no ano de 1007 em Ravena (Itália) e faleceu a 21 de
  fevereiro de 1072 em Óstia (Itália). Existem duas versões sobre a origem f
 amiliar de São Pedro Damião, uma, diz que terá nascido no seio duma família
  nobre que mais tarde caiu em desgraça; outra afirma que o santo nasceu no 
 seio duma família extremamente pobre. O certo é que na sua infância Pedro (
 nome de batismo) passou por sofrimentos e provações. Sabe-se que tinha vári
 os irmãos e que ficou órfão muito novo. Foi o seu irmão mais velho, Damião 
 de seu nome, que assegurou a sua educação. Damião era na altura o arciprest
 e de Ravena.\nPedro estudou teologia e direito canónico, primeiro na cidade
  de Ravena, depois em Pádua e Faenza e pouco depois de terminar os estudos 
 já era um famoso professor na cidade de Parma. Mais tarde Pedro decidiu aba
 ndonar os seus estudos seculares e entrou para o isolado convento camaldule
 nse de Fonte Avellana, perto de Gubbio (Itália). Como gesto de agradeciment
 o ao seu irmão mais velho, Pedro assumiu o nome &ldquo;Damião&rdquo; ao rec
 eber a ordenação sacerdotal.\nAos vinte e um anos, São Pedro Damião foi ele
 ito superior da Ordem Camaldulense. As regras de vida da Ordem já eram seve
 ras. São Pedro Damião, porém, tornou-as mais duras ainda. Começou a critica
 r com severidade severamente os conventos que abandonavam a pobreza. A infl
 uência de São Pedro Damião estendeu-se por vários mosteiros da Europa, entr
 e eles Montecassino na Itália e Cluny na França. Estes, especialmente, pass
 aram a seguir os conceitos de São Pedro Damião. Ele lutou incansavelmente p
 ara fazer com que a vida religiosa voltasse a seu sentido inicial de consag
 ração total a Deus, na austeridade e na penitência.\nTanto como noviço quan
 to como monge, o seu fervor era notável, mas levava-o por vezes a tais extr
 emos de auto-mortificação durante as suas penitências que a sua saúde acabo
 u por se ressentir. Contudo quando recuperou, São Pedro Damião foi nomeado 
 para ensinar os companheiros e, depois, a pedido de Guy de Pomposa (Guido d
 'Arezzo) e outros abades vizinhos, ensinou também em mosteiros.\nSão Pedro 
 Damião era um padre de vocação contemplativa, simples, amante da vida monás
 tica. Por isso, criticava duramente o luxo de autoridades eclesiásticas. Pa
 ra isso, mencionava os apóstolos Pedro e Paulo, que percorreram vários país
 es evangelizando, levando vida austera, e caminhando descalços. Inspirado n
 os conselhos de Jesus, insistia que, para anunciar a Palavra de Deus, era e
 ssencial despojar-se dos bens materiais. Assim, São Pedro Damião solidifico
 u a austeridade na vida religiosa e deu este exemplo em toda sua vida.\nPor
  volta de 1042, Pedro escreveu uma hagiografia de São Romualdo (http://www.
 paroquia-almancil.pt/utilidades/vida-dos-santos/icalrepeat.detail/2018/06/1
 9/58357/-/s-romualdo.html) para os monges de Pietrapertosa. Logo depois de 
 retornar a Fonte Avellana, foi nomeado economus (ecónomo) do mosteiro pelo 
 prior, que também o apontou como seu sucessor. Em 1043, Pedro Damião tornou
 -se prior de Fonte Avellana e permaneceu no posto até morrer, em fevereiro 
 de 1072.\nApesar de viver no retiro de um claustro, São Pedro Damião acompa
 nhava atentamente a Igreja e, como seu amigo Hildebrando, o futuro papa Gre
 gório VII, lutou para implantar suas reformas numa época de grande decadênc
 ia da vida religiosa. Quando Bento IX renunciou ao seu pontificado em nome 
 do arcipreste João Graciano (Gregório VI) em 1045, Pedro comemorou a mudanç
 a e escreveu para o novo papa urgindo-o a enfrentar os escândalos que atorm
 entavam a igreja italiana, apontando nominalmente os corruptos bispos de Pe
 saro, de Città di Castello e de Fano.\nEsteve presente em Roma aquando da c
 oroação do Rei Henrique III e da sua consorte Inês e no sínodo realizado no
  Palácio Laterano no ano de 1047. Depois disto, o santo regressou ao seu er
 emitério. Por volta de 1050, durante o pontificado de Leão IX, escreveu um 
 contundente tratado chamado "Liber Gomorrhianus" ("Livro de Gomorra") sobre
  os vícios do clero, incluindo o abuso sexual de menores e os esforços da h
 ierarquia eclesiástica para escondê-los. Foi endereçada abertamente ao Papa
 .\nFoi consagrado cardeal de Óstia em 30 de novembro de 1057 e nomeado admi
 nistrador da Diocese de Gubbio.\nDepois da morte de Estêvão, São Pedro Dami
 ão combateu vigorosamente o antipapa Bento X, mas acabou sendo vencido e re
 tirou-se temporariamente para Fonte Avallana.\nPor volta do fim de 1059, Pe
 dro foi enviado como legado papal a Milão pelo papa Nicolau II.\nNo início 
 de 1072 São Pedro Damião foi enviado a Ravena para reconciliar a população 
 da cidade com a Santa Sé depois de todos terem sido excomungados por apoiar
 em o arcebispo na sua aliança com o incansável Cadalus. No caminho de volta
 , o santo foi acometido por uma febre perto de Faenza. Ele permaneceu enfer
 mo por uma semana no mosteiro de Santa Maria degl'Angeli (moderna Santa Mar
 ia Vecchia) onde viria a falecer a 21 de fevereiro.\nFoi canonizado pelo Pa
 pa Leão XII no ano de 1828. Na mesma ocasião foi declarado doutor da Igreja
  devido aos seus inúmeros escritos de teologia.\n \nSão Pedro Damião, rogai
  por nós!\n
DTSTAMP:20260419T234423Z
DTSTART;TZID=Europe/Lisbon;VALUE=DATE:20180221
DTEND;TZID=Europe/Lisbon;VALUE=DATE:20180222
SEQUENCE:0
RRULE:FREQ=YEARLY;COUNT=100;INTERVAL=1;BYYEARDAY=+52
TRANSP:OPAQUE
END:VEVENT
END:VCALENDAR