BEGIN:VCALENDAR
VERSION:2.0
PRODID:-//jEvents 2.0 for Joomla//EN
CALSCALE:GREGORIAN
METHOD:PUBLISH
BEGIN:VTIMEZONE
TZID:Europe/Lisbon
BEGIN:STANDARD
DTSTART:20170218T000000
RDATE:20170326T020000
TZOFFSETFROM:+0100
TZOFFSETTO:+0000
TZNAME:Europe/Lisbon WET
END:STANDARD
BEGIN:STANDARD
DTSTART:20171029T010000
RDATE:20180325T020000
TZOFFSETFROM:+0100
TZOFFSETTO:+0000
TZNAME:Europe/Lisbon WET
END:STANDARD
BEGIN:STANDARD
DTSTART:20181028T010000
RDATE:20190331T020000
TZOFFSETFROM:+0100
TZOFFSETTO:+0000
TZNAME:Europe/Lisbon WET
END:STANDARD
BEGIN:STANDARD
DTSTART:20191027T010000
RDATE:20200329T020000
TZOFFSETFROM:+0100
TZOFFSETTO:+0000
TZNAME:Europe/Lisbon WET
END:STANDARD
BEGIN:STANDARD
DTSTART:20201025T010000
RDATE:20210328T020000
TZOFFSETFROM:+0100
TZOFFSETTO:+0000
TZNAME:Europe/Lisbon WET
END:STANDARD
BEGIN:DAYLIGHT
DTSTART:20170326T020000
RDATE:20171029T010000
TZOFFSETFROM:+0000
TZOFFSETTO:+0100
TZNAME:Europe/Lisbon WEST
END:DAYLIGHT
BEGIN:DAYLIGHT
DTSTART:20180325T020000
RDATE:20181028T010000
TZOFFSETFROM:+0000
TZOFFSETTO:+0100
TZNAME:Europe/Lisbon WEST
END:DAYLIGHT
BEGIN:DAYLIGHT
DTSTART:20190331T020000
RDATE:20191027T010000
TZOFFSETFROM:+0000
TZOFFSETTO:+0100
TZNAME:Europe/Lisbon WEST
END:DAYLIGHT
BEGIN:DAYLIGHT
DTSTART:20200329T020000
RDATE:20201025T010000
TZOFFSETFROM:+0000
TZOFFSETTO:+0100
TZNAME:Europe/Lisbon WEST
END:DAYLIGHT
END:VTIMEZONE
BEGIN:VEVENT
UID:07c3efc42e75474cce587bbc9e2c1cc3
CATEGORIES:Santos
SUMMARY:Santa Belina
DESCRIPTION;ENCODING=QUOTED-PRINTABLE:\n\nSanta Belina nasceu em Landreville (França) por volta do ano 1364 e mor
 reu a 8 de setembro de 1380.\nSanta Belina era uma jovem pastora, muito pie
 dosa, cuidava dos doentes e velava os mortos. Santa Belina era muito amada 
 pelos aldeões. A 8 de setembro de 1380, enquanto se encontrava a pastorear 
 as suas ovelhas perto duma fonte, foi abordada por um senhor de Landreville
 , Jean de Pradines, que pensava satisfazer com ela os seus desejos carnais.
  Perante a recusa de Santa Belina, Jean de Pradines furioso, decapitou-a no
  local.\nOs habitantes de Landreville ao saber do sucedido, indignados, que
 imaram o castelo de Jean de Pradines que fugiu. O assassínio foi excomungad
 o e o seu terreno anexado ao de Bar-Sur-Seine.\nSanta Belina que morreu ao 
 defender a sua virgindade foi canonizada, 50 anos após a sua morte.\n\n\n\n
 Santa Belina, rogai por nós!\n
DTSTAMP:20260419T193747Z
DTSTART;TZID=Europe/Lisbon;VALUE=DATE:20180219
DTEND;TZID=Europe/Lisbon;VALUE=DATE:20180220
SEQUENCE:0
RRULE:FREQ=YEARLY;COUNT=100;INTERVAL=1;BYYEARDAY=+50
TRANSP:OPAQUE
END:VEVENT
END:VCALENDAR