BEGIN:VCALENDAR
VERSION:2.0
PRODID:-//jEvents 2.0 for Joomla//EN
CALSCALE:GREGORIAN
METHOD:PUBLISH
BEGIN:VTIMEZONE
TZID:Europe/Lisbon
BEGIN:STANDARD
DTSTART:20170217T000000
RDATE:20170326T020000
TZOFFSETFROM:+0100
TZOFFSETTO:+0000
TZNAME:Europe/Lisbon WET
END:STANDARD
BEGIN:STANDARD
DTSTART:20171029T010000
RDATE:20180325T020000
TZOFFSETFROM:+0100
TZOFFSETTO:+0000
TZNAME:Europe/Lisbon WET
END:STANDARD
BEGIN:STANDARD
DTSTART:20181028T010000
RDATE:20190331T020000
TZOFFSETFROM:+0100
TZOFFSETTO:+0000
TZNAME:Europe/Lisbon WET
END:STANDARD
BEGIN:STANDARD
DTSTART:20191027T010000
RDATE:20200329T020000
TZOFFSETFROM:+0100
TZOFFSETTO:+0000
TZNAME:Europe/Lisbon WET
END:STANDARD
BEGIN:STANDARD
DTSTART:20201025T010000
RDATE:20210328T020000
TZOFFSETFROM:+0100
TZOFFSETTO:+0000
TZNAME:Europe/Lisbon WET
END:STANDARD
BEGIN:DAYLIGHT
DTSTART:20170326T020000
RDATE:20171029T010000
TZOFFSETFROM:+0000
TZOFFSETTO:+0100
TZNAME:Europe/Lisbon WEST
END:DAYLIGHT
BEGIN:DAYLIGHT
DTSTART:20180325T020000
RDATE:20181028T010000
TZOFFSETFROM:+0000
TZOFFSETTO:+0100
TZNAME:Europe/Lisbon WEST
END:DAYLIGHT
BEGIN:DAYLIGHT
DTSTART:20190331T020000
RDATE:20191027T010000
TZOFFSETFROM:+0000
TZOFFSETTO:+0100
TZNAME:Europe/Lisbon WEST
END:DAYLIGHT
BEGIN:DAYLIGHT
DTSTART:20200329T020000
RDATE:20201025T010000
TZOFFSETFROM:+0000
TZOFFSETTO:+0100
TZNAME:Europe/Lisbon WEST
END:DAYLIGHT
END:VTIMEZONE
BEGIN:VEVENT
UID:cfac20dba23bf692091ae68e794820d6
CATEGORIES:Santos
SUMMARY:Beato João de Fiesole
DESCRIPTION;ENCODING=QUOTED-PRINTABLE:Beato João de Fiesole ficou conhecido como Beato Angélico. Porém também é c
 onhecido como Giovanni da Fiesoleou Fra Angelico.\nBeato João de Fiesole na
 sceu no ano de 1387 na cidade de Vicchio di Mugello (Itália) e faleceu a 18
  de fevereiro de 1455 em Roma (Itália). \nFoi batizado como Guido di Pietro
 , ou Guidolino "da Pietro" (isto é, filho de Pietro).\nNada se sabe da sua 
 vida até aos 30 anos, quando em 1417 ingressa na Congregação de São Nicolau
 , onde permaneceu três anos. Depois mudou-se para o convento dominicano de 
 Fiesole (localidade próxima de Florença, Itália) com o seu irmão Bento. Foi
  ordenado sacerdote em Fiesole e adotou o nome de João.\nAo ingressar no co
 nvento de Fiesole, o Beato João de Fiesole já tinha recebido aulas artístic
 as. Entre 1409 e 1418 toda a comunidade do convento de Fiesole foi exilada 
 por se opor ao Papa Alexandre V. Entre 1425 e 1438, viveu retirado, retoman
 do o trabalho de pintura de frescos de quase todos os altares da igreja do 
 convento de Fiesole. Em 1436 deslocou-se para o convento de São Marcos, em 
 Florença onde deixou as suas obras impressas nos corredores, celas, bibliot
 ecas e claustros. A partir do ano 1435 esteve em Roma ao serviço dos Papas 
 Eugénio IV e Nicolau V. O Papa Nicolau V tentou sagrá-lo bispo de Florença,
  mas o beato João de Fiesole recusou indicando outro irmão dominicano.\nVol
 tou para Fiesole e em 1448 foi eleito prior do convento. Nomeou o seu irmão
  Bento como seu secretário e conseguiu que este fosse eleito seu sucessor n
 o ano de 1452.\nO beato João de Fiesole ou Fra Angélico nunca executou uma 
 obra, sem antes rezar uma oração. Desenvolveu um estilo único, caracterizad
 o por cores suaves, claras, formas elegantes, composições muito contrabalan
 çadas\nVoltou para Roma onde viria a falecer a 18 de fevereiro de 1455.\nAi
 nda hoje é possível ver obras do Beato João de Fiesole no claustro, salas e
  celas do Convento de S. Marcos, assim como na Capela Nicolina no Vaticano,
  no museu do Louvre em Paris, no museu do Prado em Madrid ou na National Ga
 llery em Londres.\nFoi beatificado pelo Papa João Paulo II a 3 de outubro d
 e 1982, passando a ser chamado Beato Fra Angelico. Fra é a palavra italiana
  para frei e é assim conhecido por ter ingressado primeiro na Congregação d
 e São Nicolau, como atrás foi escrito, assim como pela singeleza e genialid
 ade de sua figura.\n
DTSTAMP:20260419T213023Z
DTSTART;TZID=Europe/Lisbon;VALUE=DATE:20180218
DTEND;TZID=Europe/Lisbon;VALUE=DATE:20180219
SEQUENCE:0
RRULE:FREQ=YEARLY;COUNT=100;INTERVAL=1;BYYEARDAY=+49
TRANSP:OPAQUE
END:VEVENT
END:VCALENDAR