BEGIN:VCALENDAR
VERSION:2.0
PRODID:-//jEvents 2.0 for Joomla//EN
CALSCALE:GREGORIAN
METHOD:PUBLISH
BEGIN:VTIMEZONE
TZID:Europe/Lisbon
BEGIN:STANDARD
DTSTART:20170217T000000
RDATE:20170326T020000
TZOFFSETFROM:+0100
TZOFFSETTO:+0000
TZNAME:Europe/Lisbon WET
END:STANDARD
BEGIN:STANDARD
DTSTART:20171029T010000
RDATE:20180325T020000
TZOFFSETFROM:+0100
TZOFFSETTO:+0000
TZNAME:Europe/Lisbon WET
END:STANDARD
BEGIN:STANDARD
DTSTART:20181028T010000
RDATE:20190331T020000
TZOFFSETFROM:+0100
TZOFFSETTO:+0000
TZNAME:Europe/Lisbon WET
END:STANDARD
BEGIN:STANDARD
DTSTART:20191027T010000
RDATE:20200329T020000
TZOFFSETFROM:+0100
TZOFFSETTO:+0000
TZNAME:Europe/Lisbon WET
END:STANDARD
BEGIN:STANDARD
DTSTART:20201025T010000
RDATE:20210328T020000
TZOFFSETFROM:+0100
TZOFFSETTO:+0000
TZNAME:Europe/Lisbon WET
END:STANDARD
BEGIN:DAYLIGHT
DTSTART:20170326T020000
RDATE:20171029T010000
TZOFFSETFROM:+0000
TZOFFSETTO:+0100
TZNAME:Europe/Lisbon WEST
END:DAYLIGHT
BEGIN:DAYLIGHT
DTSTART:20180325T020000
RDATE:20181028T010000
TZOFFSETFROM:+0000
TZOFFSETTO:+0100
TZNAME:Europe/Lisbon WEST
END:DAYLIGHT
BEGIN:DAYLIGHT
DTSTART:20190331T020000
RDATE:20191027T010000
TZOFFSETFROM:+0000
TZOFFSETTO:+0100
TZNAME:Europe/Lisbon WEST
END:DAYLIGHT
BEGIN:DAYLIGHT
DTSTART:20200329T020000
RDATE:20201025T010000
TZOFFSETFROM:+0000
TZOFFSETTO:+0100
TZNAME:Europe/Lisbon WEST
END:DAYLIGHT
END:VTIMEZONE
BEGIN:VEVENT
UID:786eeff493250cfeefe28d8d5cbb5a5d
CATEGORIES:Santos
SUMMARY:São Teotónio
DESCRIPTION;ENCODING=QUOTED-PRINTABLE:\n\nSão Teotónio nasceu no ano de 1082 em Ganfei, Valença (Portugal) e fale
 ceu em Coimbra (Portugal) a 18 de fevereiro de 1162. Na infância estudou no
  mosteiro beneditino de Ganfei. Aos dez anos, mostrando inclinação religios
 a, foi entregue aos cuidados do seu tio Crescêncio, na época bispo de Coimb
 ra, que assumiu a sua educação.\nEm Coimbra, D. Crescêncio colocou o sobrin
 ho São Teotónio no colégio anexo à sua casa e sob a orientação espiritual d
 o arcediago (vigário-geral) D. Telo, São Teotónio aprendeu teologia e filos
 ofia. Com a morte do seu tio, o padre Telo enviou São Teotónio aos cuidados
  de um outro tio que era prior num mosteiro em Viseu, a fim de que o santo 
 completasse os estudos eclesiásticos.\nFoi ordenado sacerdote e no ano de 1
 112 sucedeu ao seu tio como prior do mosteiro de Viseu. Realizou uma primei
 ra peregrinação à Terra Santa onde lhe foi proposto o cargo de superior da 
 comunidade dos Cónegos Regrantes de Santo Agostinho da Terra Santa (conheci
 dos como os cónegos pretos), São Teotónio recusou o cargo e regressou a Por
 tugal recusando também o lugar de bispo de Viseu que, entretanto, lhe tinha
  sido oferecido.\nSão Teotónio realizou uma segunda peregrinação a Jerusalé
 m, onde pretendia ficar, contudo o seu antigo orientador o Padre Telo mando
 u chamá-lo porque precisava da sua ajuda para formar uma comunidade religio
 sa. São Teotónio regressou novamente a Portugal e tornou-se cofundador do m
 osteiro de Santa Cruz em Coimbra, junto com outros onze religiosos. O moste
 iro de Santa Cruz foi fundado em 1131 sob a Regra de Santo Agostinho, e tod
 os os fundadores receberam o hábito religioso. A pedido dos fundadores o Pa
 pa Inocêncio II tomou sob a sua proteção o mosteiro de Santa Cruz de Coimbr
 a com a Bula Desiderium quod, datada de 26 de maio de 1135.\nNo ano de 1139
  São Teotónio tornou-se um dos aliados de D. Afonso Henriques (primeiro rei
  de Portugal) na luta contra a sua mãe D. Teresa de Leão no contexto da ind
 ependência portuguesa em relação ao Reino de Leão. Mais tarde, São Teotónio
  tornou-se conselheiro do então já rei de Portugal, D. Afonso Henriques.\nA
 os setenta anos, renunciou ao cargo de prior, voltando a ser um simples rel
 igioso. Um ano mais tarde em 1153 o Papa Adriano IV quis consagrá-lo bispo 
 de Coimbra, mas São Teotónio voltou a recusar.\nFaleceu a 18 de fevereiro d
 e 1162.\nFoi canonizado pelo Papa Alexandre III um ano depois da sua morte 
 a 18 de fevereiro de 1163.\nSão Teotónio foi o primeiro santo português a s
 er canonizado.\n\n\n \n\n\nSão Teotónio rogai por nós!\n
DTSTAMP:20260419T215324Z
DTSTART;TZID=Europe/Lisbon;VALUE=DATE:20180218
DTEND;TZID=Europe/Lisbon;VALUE=DATE:20180219
SEQUENCE:0
RRULE:FREQ=YEARLY;COUNT=100;INTERVAL=1;BYYEARDAY=+49
TRANSP:OPAQUE
END:VEVENT
END:VCALENDAR