BEGIN:VCALENDAR
VERSION:2.0
PRODID:-//jEvents 2.0 for Joomla//EN
CALSCALE:GREGORIAN
METHOD:PUBLISH
BEGIN:VTIMEZONE
TZID:Europe/Lisbon
BEGIN:STANDARD
DTSTART:20170213T000000
RDATE:20170326T020000
TZOFFSETFROM:+0100
TZOFFSETTO:+0000
TZNAME:Europe/Lisbon WET
END:STANDARD
BEGIN:STANDARD
DTSTART:20171029T010000
RDATE:20180325T020000
TZOFFSETFROM:+0100
TZOFFSETTO:+0000
TZNAME:Europe/Lisbon WET
END:STANDARD
BEGIN:STANDARD
DTSTART:20181028T010000
RDATE:20190331T020000
TZOFFSETFROM:+0100
TZOFFSETTO:+0000
TZNAME:Europe/Lisbon WET
END:STANDARD
BEGIN:STANDARD
DTSTART:20191027T010000
RDATE:20200329T020000
TZOFFSETFROM:+0100
TZOFFSETTO:+0000
TZNAME:Europe/Lisbon WET
END:STANDARD
BEGIN:STANDARD
DTSTART:20201025T010000
RDATE:20210328T020000
TZOFFSETFROM:+0100
TZOFFSETTO:+0000
TZNAME:Europe/Lisbon WET
END:STANDARD
BEGIN:DAYLIGHT
DTSTART:20170326T020000
RDATE:20171029T010000
TZOFFSETFROM:+0000
TZOFFSETTO:+0100
TZNAME:Europe/Lisbon WEST
END:DAYLIGHT
BEGIN:DAYLIGHT
DTSTART:20180325T020000
RDATE:20181028T010000
TZOFFSETFROM:+0000
TZOFFSETTO:+0100
TZNAME:Europe/Lisbon WEST
END:DAYLIGHT
BEGIN:DAYLIGHT
DTSTART:20190331T020000
RDATE:20191027T010000
TZOFFSETFROM:+0000
TZOFFSETTO:+0100
TZNAME:Europe/Lisbon WEST
END:DAYLIGHT
BEGIN:DAYLIGHT
DTSTART:20200329T020000
RDATE:20201025T010000
TZOFFSETFROM:+0000
TZOFFSETTO:+0100
TZNAME:Europe/Lisbon WEST
END:DAYLIGHT
END:VTIMEZONE
BEGIN:VEVENT
UID:d7b1fdcde7fa0a982cab74429c2a981e
CATEGORIES:Santos
SUMMARY:São Metódio
DESCRIPTION;ENCODING=QUOTED-PRINTABLE:São Metódio nasceu no ano de 814 em Tessalónica (atual Grécia) e faleceu a 
 6 de abril de 885 em Velehrad, Checoslováquia. Era filho de Maria e do juiz
  grego Leão e irmão de São Cirilo (http://www.paroquia-almancil.pt/utilidad
 es/vida-dos-santos/icalrepeat.detail/2018/02/14/54990/-/s-cirilo.html) que 
 também celebramos hoje. São Metódio foi batizado como Miguel e era o mais v
 elho dos sete irmãos. Tinha vinte e seis anos e era prefeito de Constantino
 pla, quando o pai morreu. Com a morte do pai abandonou tudo e recolheu-se n
 um convento no monte Olímpio, tornando-se monge e trocando o nome para Metó
 dio. O seu irmão São Cirilo seguiu-o poucos anos depois.\nA missão apostóli
 ca dos dois irmãos começou em 861, quando foram enviados numa missão de con
 versão dos povos eslavos, de quem ambos tinham aprendido a língua e os cost
 umes. A sua evangelização gerou muitos frutos porque ensinaram o povo a rez
 ar, cantar e ler tudo na sua própria língua. Isto gerou uma grande divergên
 cia no meio eclesiástico, pois naquela época os ritos eram realizados em gr
 ego ou latim, apenas. Os dois foram então chamados a Roma, onde o papa Adri
 ano II, solenemente recebeu as relíquias de São Clemente, que eles transpor
 tavam. Conseguiram assim o apoio do Sumo Pontífice, que aprovava a evangeli
 zação e tiveram os Livros traduzidos abençoados.\nSão Metódio foi sagrado b
 ispo e voltou para a missão, mas, numa segunda viagem a Roma, em 885, quand
 o teve que defender pessoalmente outra vez o seu trabalho de "adaptação da 
 Fé à cultura local", acabou por morrer. \nÉ celebrado no dia da morte do se
 u irmão São Cirilo e considerado pela Igreja como &lsquo;apóstolos dos esla
 vos&rsquo;.\nEm 1980, o papa João Paulo II proclamou-os &lsquo;Patronos da 
 Europa&rsquo; ao lado de São Bento.\n \nSão Metódio rogai por nós!\n
DTSTAMP:20260419T211520Z
DTSTART;TZID=Europe/Lisbon;VALUE=DATE:20180214
DTEND;TZID=Europe/Lisbon;VALUE=DATE:20180215
SEQUENCE:0
RRULE:FREQ=YEARLY;COUNT=100;INTERVAL=1;BYYEARDAY=+45
TRANSP:OPAQUE
END:VEVENT
END:VCALENDAR