BEGIN:VCALENDAR
VERSION:2.0
PRODID:-//jEvents 2.0 for Joomla//EN
CALSCALE:GREGORIAN
METHOD:PUBLISH
BEGIN:VTIMEZONE
TZID:Europe/Lisbon
BEGIN:STANDARD
DTSTART:20130119T000000
RDATE:20130331T020000
TZOFFSETFROM:+0100
TZOFFSETTO:+0000
TZNAME:Europe/Lisbon WET
END:STANDARD
BEGIN:STANDARD
DTSTART:20131027T010000
RDATE:20140330T020000
TZOFFSETFROM:+0100
TZOFFSETTO:+0000
TZNAME:Europe/Lisbon WET
END:STANDARD
BEGIN:STANDARD
DTSTART:20141026T010000
RDATE:20150329T020000
TZOFFSETFROM:+0100
TZOFFSETTO:+0000
TZNAME:Europe/Lisbon WET
END:STANDARD
BEGIN:STANDARD
DTSTART:20151025T010000
RDATE:20160327T020000
TZOFFSETFROM:+0100
TZOFFSETTO:+0000
TZNAME:Europe/Lisbon WET
END:STANDARD
BEGIN:STANDARD
DTSTART:20161030T010000
RDATE:20170326T020000
TZOFFSETFROM:+0100
TZOFFSETTO:+0000
TZNAME:Europe/Lisbon WET
END:STANDARD
BEGIN:STANDARD
DTSTART:20171029T010000
RDATE:20180325T020000
TZOFFSETFROM:+0100
TZOFFSETTO:+0000
TZNAME:Europe/Lisbon WET
END:STANDARD
BEGIN:STANDARD
DTSTART:20181028T010000
RDATE:20190331T020000
TZOFFSETFROM:+0100
TZOFFSETTO:+0000
TZNAME:Europe/Lisbon WET
END:STANDARD
BEGIN:STANDARD
DTSTART:20191027T010000
RDATE:20200329T020000
TZOFFSETFROM:+0100
TZOFFSETTO:+0000
TZNAME:Europe/Lisbon WET
END:STANDARD
BEGIN:STANDARD
DTSTART:20201025T010000
RDATE:20210328T020000
TZOFFSETFROM:+0100
TZOFFSETTO:+0000
TZNAME:Europe/Lisbon WET
END:STANDARD
BEGIN:DAYLIGHT
DTSTART:20130331T020000
RDATE:20131027T010000
TZOFFSETFROM:+0000
TZOFFSETTO:+0100
TZNAME:Europe/Lisbon WEST
END:DAYLIGHT
BEGIN:DAYLIGHT
DTSTART:20140330T020000
RDATE:20141026T010000
TZOFFSETFROM:+0000
TZOFFSETTO:+0100
TZNAME:Europe/Lisbon WEST
END:DAYLIGHT
BEGIN:DAYLIGHT
DTSTART:20150329T020000
RDATE:20151025T010000
TZOFFSETFROM:+0000
TZOFFSETTO:+0100
TZNAME:Europe/Lisbon WEST
END:DAYLIGHT
BEGIN:DAYLIGHT
DTSTART:20160327T020000
RDATE:20161030T010000
TZOFFSETFROM:+0000
TZOFFSETTO:+0100
TZNAME:Europe/Lisbon WEST
END:DAYLIGHT
BEGIN:DAYLIGHT
DTSTART:20170326T020000
RDATE:20171029T010000
TZOFFSETFROM:+0000
TZOFFSETTO:+0100
TZNAME:Europe/Lisbon WEST
END:DAYLIGHT
BEGIN:DAYLIGHT
DTSTART:20180325T020000
RDATE:20181028T010000
TZOFFSETFROM:+0000
TZOFFSETTO:+0100
TZNAME:Europe/Lisbon WEST
END:DAYLIGHT
BEGIN:DAYLIGHT
DTSTART:20190331T020000
RDATE:20191027T010000
TZOFFSETFROM:+0000
TZOFFSETTO:+0100
TZNAME:Europe/Lisbon WEST
END:DAYLIGHT
BEGIN:DAYLIGHT
DTSTART:20200329T020000
RDATE:20201025T010000
TZOFFSETFROM:+0000
TZOFFSETTO:+0100
TZNAME:Europe/Lisbon WEST
END:DAYLIGHT
END:VTIMEZONE
BEGIN:VEVENT
UID:b845b12d90366ebd96caaeab475f9acd
CATEGORIES:Santos
SUMMARY:São Sebastião
DESCRIPTION;ENCODING=QUOTED-PRINTABLE:\n\nSão Sebastião nasceu no ano 256 em Narbonne, França e morreu no ano 286
  em Roma, Itália.\n\n\nSão Sebastião terá chegado a Roma através de caravan
 as de migração lentas pelas costas do mar mediterrâneo.\n\n\nSão Sebastião 
 era um soldado romano que se terá alistado no exército romano por volta do 
 ano 283 d.C., com a única intenção de afirmar o coração dos cristãos enfraq
 uecido diante das torturas que sofriam na altura. São Sebastião era querido
  pelos imperadores Diocleciano e Maximiano, que o queriam sempre próximo de
 les, ignorado o fato de São Sebastião ser cristão, e dessa forma, São Sebas
 tião foi designado capitão da guarda pessoal dos imperadores, a Guarda Pret
 oriana.\n\n\n Por volta do ano 286 d.C., a sua branda conduta para com os p
 risioneiros cristãos levou o imperador a julgá-lo sumariamente como traidor
 , tendo ordenado a sua execução por meio de flechas. \n\n\nApós ter sido at
 ingido pelas flechas, São Sebastião foi dado como morto e atirado ao rio, p
 orém São Sebastião não havia falecido. \n\n\nSanta Irene encontrou-o e soco
 rreu-o, e depois de socorrido, São Sebastião voltou a apresentar-se perante
  o imperador Diocleciano, que ordenou que São Sebastião fosse espancado até
  à morte. Depois disso, São Sebastião foi jogado no esgoto público de Roma,
  sendo que Santa Luciana, resgatou o seu corpo, limpou-o e sepultou-o nas c
 atacumbas.\n\n\n\n\n\nCuriosidade: Normalmente é representado atado a uma á
 rvore e com o corpo trespassado por três setas. É protetor da peste, da fom
 e e da guerra.\n\n\n \nOração a São SebastiãoGlorioso mártir São Sebastião,
  soldado de Cristo e exemplo de cristão, hoje vimos pedir a vossa intercess
 ão junto ao trono do Senhor Jesus, nosso Salvador, por Quem destes a vida. 
 Vós que vivestes a fé e perseverastes até o fim, pedi a Jesus por nós para 
 que sejamos testemunhas do amor de Deus. Vós que esperastes com firmeza nas
  palavras de Jesus, pedi-Lhe por nós, para que aumente a nossa esperança na
  ressurreição. Vós que vivestes a caridade para com os irmãos, pedi a Jesus
  para que aumente o nosso amor para com todos. \nEnfim, glorioso mártir São
  Sebastião, protegei-nos contra a peste, a fome e a guerra; defendei as nos
 sas plantações e os nossos rebanhos, que são dons de Deus para o nosso bem 
 e para o bem de todos. \nE defendei-nos do pecado, que é o maior de todos o
 s males. \nAssim seja.\n
DTSTAMP:20260420T203016Z
DTSTART;TZID=Europe/Lisbon;VALUE=DATE:20140120
DTEND;TZID=Europe/Lisbon;VALUE=DATE:20140121
SEQUENCE:0
RRULE:FREQ=YEARLY;COUNT=100;INTERVAL=1;BYYEARDAY=+20
TRANSP:OPAQUE
END:VEVENT
END:VCALENDAR