BEGIN:VCALENDAR
VERSION:2.0
PRODID:-//jEvents 2.0 for Joomla//EN
CALSCALE:GREGORIAN
METHOD:PUBLISH
BEGIN:VTIMEZONE
TZID:Europe/Lisbon
BEGIN:STANDARD
DTSTART:20130117T000000
RDATE:20130331T020000
TZOFFSETFROM:+0100
TZOFFSETTO:+0000
TZNAME:Europe/Lisbon WET
END:STANDARD
BEGIN:STANDARD
DTSTART:20131027T010000
RDATE:20140330T020000
TZOFFSETFROM:+0100
TZOFFSETTO:+0000
TZNAME:Europe/Lisbon WET
END:STANDARD
BEGIN:STANDARD
DTSTART:20141026T010000
RDATE:20150329T020000
TZOFFSETFROM:+0100
TZOFFSETTO:+0000
TZNAME:Europe/Lisbon WET
END:STANDARD
BEGIN:STANDARD
DTSTART:20151025T010000
RDATE:20160327T020000
TZOFFSETFROM:+0100
TZOFFSETTO:+0000
TZNAME:Europe/Lisbon WET
END:STANDARD
BEGIN:STANDARD
DTSTART:20161030T010000
RDATE:20170326T020000
TZOFFSETFROM:+0100
TZOFFSETTO:+0000
TZNAME:Europe/Lisbon WET
END:STANDARD
BEGIN:STANDARD
DTSTART:20171029T010000
RDATE:20180325T020000
TZOFFSETFROM:+0100
TZOFFSETTO:+0000
TZNAME:Europe/Lisbon WET
END:STANDARD
BEGIN:STANDARD
DTSTART:20181028T010000
RDATE:20190331T020000
TZOFFSETFROM:+0100
TZOFFSETTO:+0000
TZNAME:Europe/Lisbon WET
END:STANDARD
BEGIN:STANDARD
DTSTART:20191027T010000
RDATE:20200329T020000
TZOFFSETFROM:+0100
TZOFFSETTO:+0000
TZNAME:Europe/Lisbon WET
END:STANDARD
BEGIN:STANDARD
DTSTART:20201025T010000
RDATE:20210328T020000
TZOFFSETFROM:+0100
TZOFFSETTO:+0000
TZNAME:Europe/Lisbon WET
END:STANDARD
BEGIN:DAYLIGHT
DTSTART:20130331T020000
RDATE:20131027T010000
TZOFFSETFROM:+0000
TZOFFSETTO:+0100
TZNAME:Europe/Lisbon WEST
END:DAYLIGHT
BEGIN:DAYLIGHT
DTSTART:20140330T020000
RDATE:20141026T010000
TZOFFSETFROM:+0000
TZOFFSETTO:+0100
TZNAME:Europe/Lisbon WEST
END:DAYLIGHT
BEGIN:DAYLIGHT
DTSTART:20150329T020000
RDATE:20151025T010000
TZOFFSETFROM:+0000
TZOFFSETTO:+0100
TZNAME:Europe/Lisbon WEST
END:DAYLIGHT
BEGIN:DAYLIGHT
DTSTART:20160327T020000
RDATE:20161030T010000
TZOFFSETFROM:+0000
TZOFFSETTO:+0100
TZNAME:Europe/Lisbon WEST
END:DAYLIGHT
BEGIN:DAYLIGHT
DTSTART:20170326T020000
RDATE:20171029T010000
TZOFFSETFROM:+0000
TZOFFSETTO:+0100
TZNAME:Europe/Lisbon WEST
END:DAYLIGHT
BEGIN:DAYLIGHT
DTSTART:20180325T020000
RDATE:20181028T010000
TZOFFSETFROM:+0000
TZOFFSETTO:+0100
TZNAME:Europe/Lisbon WEST
END:DAYLIGHT
BEGIN:DAYLIGHT
DTSTART:20190331T020000
RDATE:20191027T010000
TZOFFSETFROM:+0000
TZOFFSETTO:+0100
TZNAME:Europe/Lisbon WEST
END:DAYLIGHT
BEGIN:DAYLIGHT
DTSTART:20200329T020000
RDATE:20201025T010000
TZOFFSETFROM:+0000
TZOFFSETTO:+0100
TZNAME:Europe/Lisbon WEST
END:DAYLIGHT
END:VTIMEZONE
BEGIN:VEVENT
UID:3ff31e9d5f35a7a5d911dcbedd06933d
CATEGORIES:Santos
SUMMARY:Santo Irmão Jaime Hilário
DESCRIPTION;ENCODING=QUOTED-PRINTABLE:Santo Irmão Jaime Hilário, nasceu a 2 de Janeiro de 1889 em Enviny, Lérida,
  Espanha e faleceu a 18 de Janeiro de 1937 em Tarragona, Espanha. Santo Irm
 ão Jaime Hilário foi batizado como Manuel Barban Cosan, morreu em nome da f
 é e figura na lista dos mártires da Igreja Católica.\nA infância de Santo I
 rmão Jaime Hilário foi vivida num ambiente muito cristão. Trabalhou na lavo
 ura e nas montanhas. Aos treze anos Santo Irmão Jaime Hilário ingressou no 
 Seminário Menor de Urgel. Porém, em virtude de uma doença auditiva grave, t
 eve de abandonar a carreira eclesiástica.\nNo ano de 1917, Santo Irmão Jaim
 e Hilário ingressou no Noviciado dos Irmãos das Escolas Cristãs, iniciando 
 os seus estudos e adotando o nome Irmão Jaime Hilário. Aí dedicou a sua vid
 a a educar e a catequisar, percorrendo várias cidades de Espanha. Mesmo com
  as suas limitações, causadas pela doença auditiva, Santo Irmão Jaime Hilár
 io, persistiu na sua missão.\nNo ano de 1936, Santo Irmão Jaime Hilário vis
 itou a sua família e enquanto se encontrava de visita, estorou a Guerra Civ
 il Espanholha, a 18 de Julho. Santo Irmão Hilário teve de se refugiar na ca
 sa de uma família amiga em Mollerussa para que não fosse morto, Mesmo assim
 , Santo Irmão Jaime Hilário foi preso e levado até ao Cárcere Público de Lé
 rida, sendo posteriormente enviado para Tarragona, onde ficou preso num "ba
 rco-prisão" com muitos outros religiosos, entre os quais os seus antigos ir
 mãos de Mollerussa.\nA 15 de janeiro de 1937 Santo Irmão Jaime Hilário comp
 areceu perante o tribunal. Por não ter negado a sua fé, Santo Irmão Jaime H
 ilário foi condenado, pelo fato de ser religioso. A 18 de janeiro de 1937, 
 pelas 15h30, foi fuzilado no Cemitério "La Oliva" em Tarragona. Mesmo após 
 vários disparos, Santo Irmão Jaime Hilário permanecia de pé. O chefe, então
  furioso, aproximou-se e matou-o, com um tiro à queima-roupa na cabeça. No 
 entanto, antes de morrer, Santo Irmão Jaime Hilário ainda conseguiu dizer: 
 \n"Morrer por Cristo é viver, meus rapazes!".\n\nFoi canonizado pelo Papa J
 oão Paulo II em 21 de Novembro de 1999.\n \nCuriosidade: Diz-se que terá mo
 rrido às 15h30 do dia 18 de Janeiro de 1937 perto do cemitério de Tarragona
 , Espanha\n\n
DTSTAMP:20260423T070249Z
DTSTART;TZID=Europe/Lisbon;VALUE=DATE:20140118
DTEND;TZID=Europe/Lisbon;VALUE=DATE:20140119
SEQUENCE:0
RRULE:FREQ=YEARLY;COUNT=100;INTERVAL=1;BYYEARDAY=+18
TRANSP:OPAQUE
END:VEVENT
END:VCALENDAR