BEGIN:VCALENDAR
VERSION:2.0
PRODID:-//jEvents 2.0 for Joomla//EN
CALSCALE:GREGORIAN
METHOD:PUBLISH
BEGIN:VTIMEZONE
TZID:Europe/Lisbon
BEGIN:STANDARD
DTSTART:20170316T000000
RDATE:20170326T020000
TZOFFSETFROM:+0100
TZOFFSETTO:+0000
TZNAME:Europe/Lisbon WET
END:STANDARD
BEGIN:STANDARD
DTSTART:20171029T010000
RDATE:20180325T020000
TZOFFSETFROM:+0100
TZOFFSETTO:+0000
TZNAME:Europe/Lisbon WET
END:STANDARD
BEGIN:STANDARD
DTSTART:20181028T010000
RDATE:20190331T020000
TZOFFSETFROM:+0100
TZOFFSETTO:+0000
TZNAME:Europe/Lisbon WET
END:STANDARD
BEGIN:STANDARD
DTSTART:20191027T010000
RDATE:20200329T020000
TZOFFSETFROM:+0100
TZOFFSETTO:+0000
TZNAME:Europe/Lisbon WET
END:STANDARD
BEGIN:STANDARD
DTSTART:20201025T010000
RDATE:20210328T020000
TZOFFSETFROM:+0100
TZOFFSETTO:+0000
TZNAME:Europe/Lisbon WET
END:STANDARD
BEGIN:DAYLIGHT
DTSTART:20170326T020000
RDATE:20171029T010000
TZOFFSETFROM:+0000
TZOFFSETTO:+0100
TZNAME:Europe/Lisbon WEST
END:DAYLIGHT
BEGIN:DAYLIGHT
DTSTART:20180325T020000
RDATE:20181028T010000
TZOFFSETFROM:+0000
TZOFFSETTO:+0100
TZNAME:Europe/Lisbon WEST
END:DAYLIGHT
BEGIN:DAYLIGHT
DTSTART:20190331T020000
RDATE:20191027T010000
TZOFFSETFROM:+0000
TZOFFSETTO:+0100
TZNAME:Europe/Lisbon WEST
END:DAYLIGHT
BEGIN:DAYLIGHT
DTSTART:20200329T020000
RDATE:20201025T010000
TZOFFSETFROM:+0000
TZOFFSETTO:+0100
TZNAME:Europe/Lisbon WEST
END:DAYLIGHT
END:VTIMEZONE
BEGIN:VEVENT
UID:c855935af255200c60db6014360f4c4c
CATEGORIES:Santos
SUMMARY:São Patrício
DESCRIPTION;ENCODING=QUOTED-PRINTABLE:São Patrício nasceu no ano 387 provavelmente em Banwen, País de Gales e fal
 eceu a 17 de março de 461 em Down, Irlanda. Sabe-se que São Patrício nasceu
  numa vila que pertencia ao seu pai Calpurnius e ficava numa região entre I
 nglaterra e a Escócia. O seu pai, Calpurnius, era cristão e o seu avô era p
 adre (nesse tempo, os padres podiam-se casar). \nPorém, apesar da influênci
 a religiosa, só na idade da adolescência São Patrício se começou a interess
 ar pela religião e pelos estudos.\nQuando tinha dezasseis anos, São Patríci
 o foi raptado por um grupo de piratas irlandeses sendo de seguida vendido c
 omo escravo. Levado à força para a Irlanda, São Patrício foi submetido a tr
 abalhos forçados num ambiente terrível, entre pessoas rudes, brutas e pagãs
 . São Patrício tentou fugir duas vezes sem sucesso. Seis anos depois São Pa
 trício conseguiu fugir e alcançou a libertação com que há tanto sonhava.\nO
  jovem Patrício conseguiu embarcar para a Grã-Bretanha indo depois para a F
 rança. Em França São Patrício viveu em vários mosteiros. Fixou-se depois no
  mosteiro de Ésir, sob a orientação de São Germano (http://www.paroquia-alm
 ancil.pt/utilidades/vida-dos-santos/icalrepeat.detail/2018/05/28/62954/-/s%
 C3%A3o-germano.html).\nSão Patrício começou juntamente com São Germano uma 
 grande missão apostólica nas terras da Grã-Bretanha, contudo o desejo de Sã
 o Patrício era evangelizar a Irlanda, aquele povo pagão, que o tinha escrav
 izado. No ano de 432 aquando da morte do Bispo Paládio (responsável pela mi
 ssão na Irlanda) São Patrício é sagrado bispo e enviado para a Irlanda pelo
  Papa Celestino I.\nSão Patrício viveu na Irlanda as três décadas seguintes
  e dedicou-se a evangelizar o povo. A missão de São Patrício levou à conver
 são de praticamente toda a Irlanda. O seu lema era respeitar para ser respe
 itado. Por causa da atitude respeitosa de São Patrício, não existiu repress
 ão contra os cristãos na Irlanda. O próprio rei Leogário, percebendo a sant
 idade de São Patrício, converteu-se e possibilitou que toda a sua corte se 
 convertesse. \nAlém de viver uma vida santa, que tocava os corações, São Pa
 trício era um homem de grande visão e dinamismo. São Patrício fundou inúmer
 os mosteiros pelo país, como centros de irradiação do cristianismo e da cul
 tura. Da Irlanda partiram vários monges missionários que peregrinaram por m
 uitas terras estrangeiras anunciando o Evangelho\nPara explicar como a Sant
 íssima Trindade é três e um, ao mesmo tempo, São Patrício utilizava o trevo
  de três folhas e por isso o mesmo tem papel importante na cultura Irlandes
 a. São Patrício foi ainda o incentivador do sacramento da confissão particu
 lar, tal como conhecemos hoje, visto que antes o mesmo era realizado de for
 ma pública. Um século mais tarde essa prática propagou-se para a restante E
 uropa.\nSão Patrício faleceu a 17 de março de 461, na cidade de Down (atual
  Downpatrick -Cidade de Patrício) em sua homenagem.  \nSão Patrício é co-pa
 droeiro da Irlanda.\n \nSão Patrício rogai por nós!\n
DTSTAMP:20260422T133756Z
DTSTART;TZID=Europe/Lisbon;VALUE=DATE:20180317
DTEND;TZID=Europe/Lisbon;VALUE=DATE:20180318
SEQUENCE:0
RRULE:FREQ=YEARLY;COUNT=100;INTERVAL=1;BYYEARDAY=-290
TRANSP:OPAQUE
END:VEVENT
END:VCALENDAR