BEGIN:VCALENDAR
VERSION:2.0
PRODID:-//jEvents 2.0 for Joomla//EN
CALSCALE:GREGORIAN
METHOD:PUBLISH
BEGIN:VTIMEZONE
TZID:Europe/Lisbon
BEGIN:STANDARD
DTSTART:20130117T000000
RDATE:20130331T020000
TZOFFSETFROM:+0100
TZOFFSETTO:+0000
TZNAME:Europe/Lisbon WET
END:STANDARD
BEGIN:STANDARD
DTSTART:20131027T010000
RDATE:20140330T020000
TZOFFSETFROM:+0100
TZOFFSETTO:+0000
TZNAME:Europe/Lisbon WET
END:STANDARD
BEGIN:STANDARD
DTSTART:20141026T010000
RDATE:20150329T020000
TZOFFSETFROM:+0100
TZOFFSETTO:+0000
TZNAME:Europe/Lisbon WET
END:STANDARD
BEGIN:STANDARD
DTSTART:20151025T010000
RDATE:20160327T020000
TZOFFSETFROM:+0100
TZOFFSETTO:+0000
TZNAME:Europe/Lisbon WET
END:STANDARD
BEGIN:STANDARD
DTSTART:20161030T010000
RDATE:20170326T020000
TZOFFSETFROM:+0100
TZOFFSETTO:+0000
TZNAME:Europe/Lisbon WET
END:STANDARD
BEGIN:STANDARD
DTSTART:20171029T010000
RDATE:20180325T020000
TZOFFSETFROM:+0100
TZOFFSETTO:+0000
TZNAME:Europe/Lisbon WET
END:STANDARD
BEGIN:STANDARD
DTSTART:20181028T010000
RDATE:20190331T020000
TZOFFSETFROM:+0100
TZOFFSETTO:+0000
TZNAME:Europe/Lisbon WET
END:STANDARD
BEGIN:STANDARD
DTSTART:20191027T010000
RDATE:20200329T020000
TZOFFSETFROM:+0100
TZOFFSETTO:+0000
TZNAME:Europe/Lisbon WET
END:STANDARD
BEGIN:STANDARD
DTSTART:20201025T010000
RDATE:20210328T020000
TZOFFSETFROM:+0100
TZOFFSETTO:+0000
TZNAME:Europe/Lisbon WET
END:STANDARD
BEGIN:DAYLIGHT
DTSTART:20130331T020000
RDATE:20131027T010000
TZOFFSETFROM:+0000
TZOFFSETTO:+0100
TZNAME:Europe/Lisbon WEST
END:DAYLIGHT
BEGIN:DAYLIGHT
DTSTART:20140330T020000
RDATE:20141026T010000
TZOFFSETFROM:+0000
TZOFFSETTO:+0100
TZNAME:Europe/Lisbon WEST
END:DAYLIGHT
BEGIN:DAYLIGHT
DTSTART:20150329T020000
RDATE:20151025T010000
TZOFFSETFROM:+0000
TZOFFSETTO:+0100
TZNAME:Europe/Lisbon WEST
END:DAYLIGHT
BEGIN:DAYLIGHT
DTSTART:20160327T020000
RDATE:20161030T010000
TZOFFSETFROM:+0000
TZOFFSETTO:+0100
TZNAME:Europe/Lisbon WEST
END:DAYLIGHT
BEGIN:DAYLIGHT
DTSTART:20170326T020000
RDATE:20171029T010000
TZOFFSETFROM:+0000
TZOFFSETTO:+0100
TZNAME:Europe/Lisbon WEST
END:DAYLIGHT
BEGIN:DAYLIGHT
DTSTART:20180325T020000
RDATE:20181028T010000
TZOFFSETFROM:+0000
TZOFFSETTO:+0100
TZNAME:Europe/Lisbon WEST
END:DAYLIGHT
BEGIN:DAYLIGHT
DTSTART:20190331T020000
RDATE:20191027T010000
TZOFFSETFROM:+0000
TZOFFSETTO:+0100
TZNAME:Europe/Lisbon WEST
END:DAYLIGHT
BEGIN:DAYLIGHT
DTSTART:20200329T020000
RDATE:20201025T010000
TZOFFSETFROM:+0000
TZOFFSETTO:+0100
TZNAME:Europe/Lisbon WEST
END:DAYLIGHT
END:VTIMEZONE
BEGIN:VEVENT
UID:bb9dc36201122c88c200146dc9ae8753
CATEGORIES:Santos
SUMMARY:Santa Margarida da Hungria
DESCRIPTION;ENCODING=QUOTED-PRINTABLE:Santa Margarida da Hungria, foi filha do rei Bela IV da Hungria e de Maria 
 Lascarina.\nOriunda de uma família de bons princípios, Santa Margarida era 
 sobrinha neta de Santa Edviges e sobrinha de Santa Isabel da Hungria, irmã 
 mais nova de Santa Cunegunda e da Beata Iolanda.\nSanta Margarida era a fil
 ha mais nova do casal real. Tinha sete irmãs. Na altura do nascimento de Sa
 nta Margarida, os seus pais viviam no exílio, na Croácia, devido às invasõe
 s mongóis (1241-1242). Os pais de Santa Margarida fizeram a promessa que ca
 so o seu País ficasse livre a sua filha seria religiosa. Assim, com apenas 
 quatro anos, Santa Margarida entrou no Convento dominicano de Veszprém. \nS
 eis anos mais tarde, Santa Margarida mudou-se para um convento, que os seus
  pais fundaram no rio Danúbio, em Nyulak Szigete, junto de Buda (hoje chama
 da de Ilha Margarida, em sua homenagem). Ai viveu toda a sua vida, com gran
 de devoção religiosa, e recusando as tentativas de seu pai para que se casa
 sse com o rei Otokar II da Boémia. \n\nNascimento: 27 de janeiro do ano de 
 1242 d.C., em Fortaleza de Klis, Klis, Croácia\nMorte: 18 de janeiro de 127
 1 d.C., em Ilha Margarida, Budapeste, Hungria\n
DTSTAMP:20260422T170319Z
DTSTART;TZID=Europe/Lisbon;VALUE=DATE:20140118
DTEND;TZID=Europe/Lisbon;VALUE=DATE:20140119
SEQUENCE:0
RRULE:FREQ=YEARLY;COUNT=100;INTERVAL=1;BYYEARDAY=+18
TRANSP:OPAQUE
END:VEVENT
END:VCALENDAR