BEGIN:VCALENDAR
VERSION:2.0
PRODID:-//jEvents 2.0 for Joomla//EN
CALSCALE:GREGORIAN
METHOD:PUBLISH
BEGIN:VTIMEZONE
TZID:Europe/Lisbon
BEGIN:STANDARD
DTSTART:20161228T000000
RDATE:20170326T020000
TZOFFSETFROM:+0100
TZOFFSETTO:+0000
TZNAME:Europe/Lisbon WET
END:STANDARD
BEGIN:STANDARD
DTSTART:20171029T010000
RDATE:20180325T020000
TZOFFSETFROM:+0100
TZOFFSETTO:+0000
TZNAME:Europe/Lisbon WET
END:STANDARD
BEGIN:STANDARD
DTSTART:20181028T010000
RDATE:20190331T020000
TZOFFSETFROM:+0100
TZOFFSETTO:+0000
TZNAME:Europe/Lisbon WET
END:STANDARD
BEGIN:STANDARD
DTSTART:20191027T010000
RDATE:20200329T020000
TZOFFSETFROM:+0100
TZOFFSETTO:+0000
TZNAME:Europe/Lisbon WET
END:STANDARD
BEGIN:STANDARD
DTSTART:20201025T010000
RDATE:20210328T020000
TZOFFSETFROM:+0100
TZOFFSETTO:+0000
TZNAME:Europe/Lisbon WET
END:STANDARD
BEGIN:DAYLIGHT
DTSTART:20170326T020000
RDATE:20171029T010000
TZOFFSETFROM:+0000
TZOFFSETTO:+0100
TZNAME:Europe/Lisbon WEST
END:DAYLIGHT
BEGIN:DAYLIGHT
DTSTART:20180325T020000
RDATE:20181028T010000
TZOFFSETFROM:+0000
TZOFFSETTO:+0100
TZNAME:Europe/Lisbon WEST
END:DAYLIGHT
BEGIN:DAYLIGHT
DTSTART:20190331T020000
RDATE:20191027T010000
TZOFFSETFROM:+0000
TZOFFSETTO:+0100
TZNAME:Europe/Lisbon WEST
END:DAYLIGHT
BEGIN:DAYLIGHT
DTSTART:20200329T020000
RDATE:20201025T010000
TZOFFSETFROM:+0000
TZOFFSETTO:+0100
TZNAME:Europe/Lisbon WEST
END:DAYLIGHT
END:VTIMEZONE
BEGIN:VEVENT
UID:72acdd5e7329da81134ea0053563e691
CATEGORIES:Santos
SUMMARY:São Tomás Becket
DESCRIPTION;ENCODING=QUOTED-PRINTABLE:\n\nSão Tomás Becket, também é conhecido como São Thomas Becket, São Tomás 
 de Cantuária ou São Tomás de Londres, nasceu por volta do ano 1118 em Londr
 es e faleceu a 29 de Dezembro de 1170, na Cantuária (Inglaterra). São Tomás
  Becket era filho de Gilbert de Thierceville e Rosea ou Matilda de Caen, um
 a família da classe média-alta da Normandia, França.\nSão Tomás Becket apre
 ndeu a cavalgar, a caçar, etiqueta, e a participar de desportos populares c
 omo as justas, ou torneios numa propriedade de Richer de L'aigle, amigo do 
 pai de São Tomás Becket e interessado nas irmãs do santo.\nDesde os 10 anos
  que São Tomás Becket recebeu uma excelente educação em lei canónica civil 
 no Priorado de Merton, na Inglaterra, e depois em Paris, Bolonha e Auxerre.
 \nAo regressar à Inglaterra, São Tomás Becket entrou para o serviço do arce
 bispo de Cantuária (Teobaldo de Bec), que lhe confiou várias missões import
 antes a Roma e por fim o recompensou com o arquidiaconado de Cantuária e a 
 reitoria da escola de Beverley. Distinguiu-se de tal modo pelo seu zelo e e
 ficiência que Teobaldo o recomendou ao rei Henrique II da Inglaterra para o
  importante cargo de chanceler, que manteve durante sete anos.\nO rei Henri
 que II desejava ser senhor absoluto dos seus domínios, tanto da Igreja como
  do Estado, e conseguiu encontrar um precedente nas tradições do reino para
  retirar privilégios especiais ao clero inglês, que considerava empecilhos 
 à sua autoridade.\nEnquanto chanceler, São Tomás Becket cobrou um imposto d
 e protecção do reino contra invasores, uma tradição medieval cobrada de tod
 os os proprietários de terras, incluindo igrejas e bispados, o que lhe crio
 u dificuldades e ressentimentos do clero inglês.\nSão Tomás Becket criou o 
 primogénito do rei (Henrique, o Jovem), de acordo com o costume da época de
  crianças nobres serem educadas em outras casas nobres.\nPosteriormente, es
 sa seria uma das razões por que este se revoltaria contra o pai, tendo form
 ado uma ligação emocional a Becket como figura parental. Conta-se que Henri
 que, o Jovem teria declarado que Becket lhe dera mais afecto paternal em um
  dia que o seu próprio pai durante toda a vida.\nEm 1162, São Tomás Becket 
 foi nomeado arcebispo de Cantuária, pelo rei que tencionava aumentar a sua 
 influência ditando as acções do seu fiel e nomeado vassalo, e diminuir a in
 dependência e a influência da Igreja na Inglaterra. Contudo, o carácter de 
 São Tomás Becket pareceu modificar-se imediatamente. Passou a viver uma vid
 a de simplicidade e pobreza e, apesar de anteriormente ter ajudado Henrique
  II a diminuir o poder dos bispos, passou a defender activamente os direito
 s da Igreja.\nPrimeiro confuso com a atitude de São Tomás Becket, e depois 
 sentindo-se traído o rei Henrique II viu o arcebispo afastar-se ainda mais 
 quando este abandonou o seu cargo de chanceler e manteve os rendimentos das
  terras da Cantuária sob o seu controle. Começaram assim uma série de confl
 itos legais sobre a jurisdição dos tribunais seculares sobre o clero inglês
 . Em Outubro de 1163, o rei tentou colocar a opinião e a influência dos out
 ros bispados contra São Tomás Becket em Westminster, com o objectivo de obt
 er a aprovação dos privilégios reais.\nEm 30 de Janeiro de 1164, o rei Henr
 ique II convocou uma assembleia no Palácio de Clarendon, em Wiltshire, onde
  apresentou as suas exigências, pretendendo diminuir a independência do cle
 ro e a influência de Roma na política inglesa. Henrique conseguiu negociar 
 e pressionar o consentimento de todos, inclusivamente de Richer de L'aigle 
 (amigo da família de S. Tomás Becket. Assim foi exigido a S. Tomás Becket q
 ue assinasse as cartas do rei, caso contrário enfrentaria repercussões polí
 ticas e legais. São Tomás Becket expressou a sua disponibilidade em concord
 ar com as exigências do rei mas quando chegou o momento da assinatura, recu
 sou-se o que conduziu a uma guerra entre os dois poderes. \nO rei Henrique 
 II perseguiu S. Tomás Becket que foi recebido e protegido pelo rei Luís VII
  de França (rival de Henrique II).\nApós dois anos na abadia cistercense de
  Pontigny, S. Tomás Becket foi obrigado por Henrique II a regressar a Sens.
 São Tomás Becket pediu então a excomunhão de Henrique II mas o Papa Alexand
 re III preferiu tentar uma solução mais diplomática. Gerou-se então no ano 
 de 1164 um desentendimento entre o santo e o Papa. \nEm 1170, o Henrique II
  eleva o seu filho a rei de Inglaterra, mantendo para si o poder imperial. 
 Uma vez que S. Tomás Becket estava no exílio, o arcebispo de York sagrou a 
 coroação. Furioso, o arcebispo da Cantuária ameaçou excomungar o rei e todo
 s os envolvidos na cerimónia. No entanto, seguiu-se uma débil reconciliação
  e Thomas voltou à Cantuária com a promessa de que poderia re-coroar o prín
 cipe. No entanto, assim que aportou em Sandwich, Kent, São Tomás Becket mos
 trou que continuaria inflexível como sempre, excomungando os bispos envolvi
 dos na coroação. Quando informado disto, o rei, furioso, terá dito qualquer
  coisa como "Não haverá ninguém capaz de me livrar deste padre turbulento?"
 .\nA maioria dos historiadores parece concordar que o rei não pretendia rea
 lmente o assassinato de Becket, apesar das suas duras palavras. Seja como f
 or, quatro dos cavaleiros presentes (Reginald Fitzurse, Hugh de Moreville, 
 William de Traci e Richard le Breton) terão interpretado isto como uma orde
 m. Responderam que sabiam como fazer isso e partiram para a Cantuária. Em 2
 9 de Dezembro de 1170, entraram na catedral e assassinaram Becket, quando o
 s monges cantavam as vésperas.\nFoi canonizado em 1173 pelo papa Alexandre 
 III.\n \nSão Tomás Becket rogai por nós!\n
DTSTAMP:20260420T053522Z
DTSTART;TZID=Europe/Lisbon;VALUE=DATE:20171229
DTEND;TZID=Europe/Lisbon;VALUE=DATE:20171230
SEQUENCE:0
RRULE:FREQ=YEARLY;COUNT=100;INTERVAL=1;BYYEARDAY=-3
TRANSP:OPAQUE
END:VEVENT
END:VCALENDAR