BEGIN:VCALENDAR
VERSION:2.0
PRODID:-//jEvents 2.0 for Joomla//EN
CALSCALE:GREGORIAN
METHOD:PUBLISH
BEGIN:VTIMEZONE
TZID:Europe/Lisbon
BEGIN:STANDARD
DTSTART:20161225T000000
RDATE:20170326T020000
TZOFFSETFROM:+0100
TZOFFSETTO:+0000
TZNAME:Europe/Lisbon WET
END:STANDARD
BEGIN:STANDARD
DTSTART:20171029T010000
RDATE:20180325T020000
TZOFFSETFROM:+0100
TZOFFSETTO:+0000
TZNAME:Europe/Lisbon WET
END:STANDARD
BEGIN:STANDARD
DTSTART:20181028T010000
RDATE:20190331T020000
TZOFFSETFROM:+0100
TZOFFSETTO:+0000
TZNAME:Europe/Lisbon WET
END:STANDARD
BEGIN:STANDARD
DTSTART:20191027T010000
RDATE:20200329T020000
TZOFFSETFROM:+0100
TZOFFSETTO:+0000
TZNAME:Europe/Lisbon WET
END:STANDARD
BEGIN:STANDARD
DTSTART:20201025T010000
RDATE:20210328T020000
TZOFFSETFROM:+0100
TZOFFSETTO:+0000
TZNAME:Europe/Lisbon WET
END:STANDARD
BEGIN:DAYLIGHT
DTSTART:20170326T020000
RDATE:20171029T010000
TZOFFSETFROM:+0000
TZOFFSETTO:+0100
TZNAME:Europe/Lisbon WEST
END:DAYLIGHT
BEGIN:DAYLIGHT
DTSTART:20180325T020000
RDATE:20181028T010000
TZOFFSETFROM:+0000
TZOFFSETTO:+0100
TZNAME:Europe/Lisbon WEST
END:DAYLIGHT
BEGIN:DAYLIGHT
DTSTART:20190331T020000
RDATE:20191027T010000
TZOFFSETFROM:+0000
TZOFFSETTO:+0100
TZNAME:Europe/Lisbon WEST
END:DAYLIGHT
BEGIN:DAYLIGHT
DTSTART:20200329T020000
RDATE:20201025T010000
TZOFFSETFROM:+0000
TZOFFSETTO:+0100
TZNAME:Europe/Lisbon WEST
END:DAYLIGHT
END:VTIMEZONE
BEGIN:VEVENT
UID:11cb8fffe33781b8f62bd29087f80334
CATEGORIES:Santos
SUMMARY:Santo Estêvão
DESCRIPTION;ENCODING=QUOTED-PRINTABLE:\n\nSanto Estêvão nasceu na Palestina em data incerta e morreu em Jerusalém
  entre o ano 33 e 40 d.C., conforme narrado pelo livro bíblico dos Actos do
 s Apóstolos (capítulos 6 e 7). Santo Estêvão foi o primeiro mártir do crist
 ianismo, e por isso mesmo é chamado protomártir (primeiro mártir cristão nu
 m determinado país).O seu nome vem do grego &Sigma;&tau;έ&phi;&alpha;&nu;&o
 micron;&sigmaf; (Stéphanos), o qual se traduz para aramaico como Kelil, que
  significa coroa - e Santo Estêvão é, de resto, representado com a coroa de
  martírio da cristandade.Santo Estêvão foi um dos primeiros diáconos da igr
 eja conjuntamente com Estêvão, Filipe, Prócoro, Nicanor, Timão, Parmenas e 
 Nicolau. Estes sete diáconos foram líderes eleitos para pregar para as pess
 oas de Jerusalém, logo após a morte e ressurreição de Jesus. Santo Estêvão 
 pertencia a um grupo de cristãos que pregavam uma mensagem mais radical, um
  grupo que ficou conhecido como os helenistas, uma vez que os seus membros 
 tinham nomes gregos e eram educados na cultura grega e que separou do grupo
  dos doze apóstolos. Certo dia, Santo Estêvão foi detido pelas autoridades 
 judaicas, levado diante do Sinédrio, onde foi condenado por blasfémia, send
 o sentenciado a ser apedrejado.Recordemos o excerto do livro dos Actos dos 
 Apóstolos, que se escuta no dia de hoje:Actos 6, 8-10; 7, 54-59Naqueles dia
 s, Estêvão, cheio de graça e fortaleza, fazia grandes prodígios e milagres 
 entre o povo.Entretanto, alguns membros da sinagoga chamada dos Libertos, o
 riundos de Cirene, de Alexandria, da Cilícia e da Ásia, vieram discutir com
  Estêvão, mas não eram capazes de resistir à sabedoria e ao Espírito Santo 
 com que ele falava.Ao ouvirem as suas palavras, estremeciam de raiva em seu
  coração e rangiam os dentes contra Estêvão. Mas Estêvão, cheio do Espírito
  Santo, de olhos fitos no Céu, viu a glória de Deus e Jesus de pé à sua dir
 eita e exclamou:«Vejo o Céu aberto e o Filho do homem de pé à direita de De
 us».Então levantaram um grande clamor e taparam os ouvidos; depois atiraram
 -se contra ele, empurraram-no para fora da cidade e começaram a apedrejá-lo
 .As testemunhas colocaram os mantos aos pés de um jovem chamado Saulo.Enqua
 nto o apedrejavam, Estêvão orava, dizendo: «Senhor Jesus, recebe o meu espí
 rito».Santo Estêvão, rogai por nós!\n
DTSTAMP:20260420T162553Z
DTSTART;TZID=Europe/Lisbon;VALUE=DATE:20171226
DTEND;TZID=Europe/Lisbon;VALUE=DATE:20171227
SEQUENCE:0
RRULE:FREQ=YEARLY;COUNT=100;INTERVAL=1;BYYEARDAY=-6
TRANSP:OPAQUE
END:VEVENT
END:VCALENDAR