BEGIN:VCALENDAR
VERSION:2.0
PRODID:-//jEvents 2.0 for Joomla//EN
CALSCALE:GREGORIAN
METHOD:PUBLISH
BEGIN:VTIMEZONE
TZID:Europe/Lisbon
BEGIN:STANDARD
DTSTART:20161215T000000
RDATE:20170326T020000
TZOFFSETFROM:+0100
TZOFFSETTO:+0000
TZNAME:Europe/Lisbon WET
END:STANDARD
BEGIN:STANDARD
DTSTART:20171029T010000
RDATE:20180325T020000
TZOFFSETFROM:+0100
TZOFFSETTO:+0000
TZNAME:Europe/Lisbon WET
END:STANDARD
BEGIN:STANDARD
DTSTART:20181028T010000
RDATE:20190331T020000
TZOFFSETFROM:+0100
TZOFFSETTO:+0000
TZNAME:Europe/Lisbon WET
END:STANDARD
BEGIN:STANDARD
DTSTART:20191027T010000
RDATE:20200329T020000
TZOFFSETFROM:+0100
TZOFFSETTO:+0000
TZNAME:Europe/Lisbon WET
END:STANDARD
BEGIN:STANDARD
DTSTART:20201025T010000
RDATE:20210328T020000
TZOFFSETFROM:+0100
TZOFFSETTO:+0000
TZNAME:Europe/Lisbon WET
END:STANDARD
BEGIN:DAYLIGHT
DTSTART:20170326T020000
RDATE:20171029T010000
TZOFFSETFROM:+0000
TZOFFSETTO:+0100
TZNAME:Europe/Lisbon WEST
END:DAYLIGHT
BEGIN:DAYLIGHT
DTSTART:20180325T020000
RDATE:20181028T010000
TZOFFSETFROM:+0000
TZOFFSETTO:+0100
TZNAME:Europe/Lisbon WEST
END:DAYLIGHT
BEGIN:DAYLIGHT
DTSTART:20190331T020000
RDATE:20191027T010000
TZOFFSETFROM:+0000
TZOFFSETTO:+0100
TZNAME:Europe/Lisbon WEST
END:DAYLIGHT
BEGIN:DAYLIGHT
DTSTART:20200329T020000
RDATE:20201025T010000
TZOFFSETFROM:+0000
TZOFFSETTO:+0100
TZNAME:Europe/Lisbon WEST
END:DAYLIGHT
END:VTIMEZONE
BEGIN:VEVENT
UID:37a00078e06c380ec0710423a756eca9
CATEGORIES:Santos
SUMMARY:Beata Maria dos Anjos
DESCRIPTION;ENCODING=QUOTED-PRINTABLE:\n\n\nBeata Maria dos Anjos nasceu em Turim (Itália) a 7 de Janeiro de 1661
  e faleceu a 16 de Dezembro de 1717. Era filha do Conde João Donato Fontane
 lla e de Maria Tana de Santena, parente da mãe exemplar de São Luís de Gonz
 aga (http://www.paroquia-almancil.pt/utilidades/vida-dos-santos/icalrepeat.
 detail/2017/06/21/47856/-/s%C3%A3o-lu%C3%ADs-gonzaga.html) , dos Condes de 
 Chieri. Beata Maria dos Anjos tinha 10 irmãos, sendo a filha mais nova do c
 asal. Foi baptizada com 4 dias na igreja paroquial de São Simão e São Judas
  em Turim, com o nome Mariana Fontanella e recebeu dos seus pais uma boa ed
 ucação religiosa. Beata Maria dos Anjos era devota de Nossa Senhora e de Sã
 o José.\nBeata Maria dos Anjos cresceu tendo diante dos olhos e no coração 
 São Luís Gonzaga como modelo e intercessor. A Beata Maria dos Anjos imitava
  São Luís Gonzaga na fé, na caridade, na ilibada pureza, na dedicação a Jes
 us. Fez a primeira comunhão a 15 de Agosto de 1672, recebendo Jesus Sacrame
 ntado das mãos do primeiro pároco da freguesia, Pe. Emílio Malliano.\nAinda
  criança, Beata Maria dos Anjos encontrou no sótão um crucifixo sem braços 
 e imediatamente jogou fora a sua boneca e substituiu-a por Cristo na cruz, 
 que a partir de então se tornou o objeto das suas efusões de carinho.\nO Pe
 . Malliano guiava-a habilmente numa vida de oração intensa, moderou os seus
  desejos de penitência e ensinou-a gradualmente a temer-se a si mesma e a s
 eparar-se das frivolidades da vida da sociedade.\nEm 1673 Beata Maria dos A
 njos entrou como pensionista no Mosteiro das Clarissas de Santa Maria da Es
 trela, em Rifreddo de Saluzzo, ali permanecendo um ano e meio, voltando par
 a junto da família a 5 de Janeiro de 1675.\nQuando a Beata Maria dos Anjos 
 tinha 14 anos, ficou órfã de pai ficando a administração da família nas mão
 s do irmão mais velho da Beata. João Baptista, irmão mais velho da Beata Ma
 ria dos Anjos, pediu-lhe que cuidasse da direção da casa. Apesar de muito j
 ovem, ela mostrou grande equilíbrio, sabedoria, prudência, delicadeza e per
 spicácia.\nCada vez mais atraída por Jesus Crucificado, Beata Maria dos Anj
 os quis dar-lhe toda a sua vida. Falou com a mãe, que lhe propôs um bom cas
 amento. Mariana (Beata Maria dos Anjos) respondeu que o seu coração agora p
 ertencia somente a Deus e que não se envolveria com qualquer criatura tão n
 obre e boa que pudesse ser. A mãe acabou por aceitar a vocação da filha, e 
 iniciou conversações com as cistercienses de Saluzzo para que a aceitassem 
 no mosteiro, onde já era monja professa outra irmã de Mariana, Clara Cecíli
 a.\nPor volta do ano de 1675, ocorreu em Turim uma exposição do Santo Sudár
 io. Beata Maria dos Anjos foi venerá-lo e encontrou um velho carmelita desc
 alço que percebendo a sua vocação lhe falou sobre as carmelitas do Carmelo 
 de Santa Cristina. Mariana escutou-o com interesse e compreendeu que era pa
 ra ali que o Senhor a chamava. De volta a casa, declarou a todos que se far
 ia carmelita e nessa mesma noite escreveu ao convento de Saluzzo para anunc
 iar a sua decisão.    \nBeata Maria dos Anjos ingressou no Carmelo de Santa
  Cristina no dia 19 de Novembro de 1676. A 26 de Dezembro de 1677, fez a su
 a profissão religiosa. A Irmã Maria dos Anjos prestava um generoso serviço 
 à comunidade, mostrando sempre uma dedicação exemplar. Sofreu de provações 
 interiores, acompanhado por graças místicas extraordinárias que duraram cer
 ca de quatorze anos.\nNo fim de 1691 cessaram as dolorosas provações interi
 ores e Beata Maria dos Anjos adquiriu um perfeito equilíbrio interior que b
 rilha em todo o seu comportamento. Os superiores confiaram-lhe a educação d
 as noviças, embora tivesse apenas 30 anos.\nEm 1694, após pedirem, sem o se
 u conhecimento, dispensa à Santa Sé, elegeram-na Priora.\nAs graças mística
 s das quais era depositária vão-se tornando cada vez mais sublimes e são de
 masiado evidentes para permanecerem escondidas. A fama da sua santidade esp
 alhou-se pela cidade, suscitando grande interesse em torno de sua pessoa. A
 lgumas curas milagrosas atribuídas à sua intercessão faziam chover mais e m
 ais pedidos de orações no mosteiro.\nBeata Maria dos Anjos deseja fundar um
  novo Carmelo que pudesse acolher as jovens que não podiam ser recebidas em
  Santa Cristina por falta de espaço e inicia negociações com os superiores.
  A 16 de Setembro de 1703, vencendo múltiplas dificuldades, o Carmelo de Mo
 ncalieri foi solenemente inaugurado na presença da Madre Maria dos Anjos; a
 o mosteiro foi dado o nome de São José. Por outro lado, a família Saboia fa
 zia pressão sobre os seus superiores religiosos para impedir que a Madre de
 ixasse Turim.\nPartiram de Santa Catarina três irmãs, uma das quais, a Madr
 e Maria Vitória da Santíssima Anunciada, ocuparia o cargo de Priora com o t
 ítulo de &ldquo;vigária&rdquo;, para significar que a verdadeira priora do 
 mosteiro era a Madre Maria dos Anjos. Desde Turim, Beata Maria dos Anjos co
 ntinuou a prover as freiras de Moncalieri do necessário, cuidando da formaç
 ão espiritual destas através de correspondência, velando com coração de mãe
  pelo bom funcionamento da comunidade. \nFaleceu a 16 de Dezembro de 1717 n
 o Mosteiro de Santa Cristina.     \nFoi beatificada pelo Papa Pio IX a 25 d
 e Abril de 1865.\n
DTSTAMP:20260420T163224Z
DTSTART;TZID=Europe/Lisbon;VALUE=DATE:20171216
DTEND;TZID=Europe/Lisbon;VALUE=DATE:20171217
SEQUENCE:0
RRULE:FREQ=YEARLY;COUNT=100;INTERVAL=1;BYYEARDAY=-16
TRANSP:OPAQUE
END:VEVENT
END:VCALENDAR