BEGIN:VCALENDAR
VERSION:2.0
PRODID:-//jEvents 2.0 for Joomla//EN
CALSCALE:GREGORIAN
METHOD:PUBLISH
BEGIN:VTIMEZONE
TZID:Europe/Lisbon
BEGIN:STANDARD
DTSTART:20161222T000000
RDATE:20170326T020000
TZOFFSETFROM:+0100
TZOFFSETTO:+0000
TZNAME:Europe/Lisbon WET
END:STANDARD
BEGIN:STANDARD
DTSTART:20171029T010000
RDATE:20180325T020000
TZOFFSETFROM:+0100
TZOFFSETTO:+0000
TZNAME:Europe/Lisbon WET
END:STANDARD
BEGIN:STANDARD
DTSTART:20181028T010000
RDATE:20190331T020000
TZOFFSETFROM:+0100
TZOFFSETTO:+0000
TZNAME:Europe/Lisbon WET
END:STANDARD
BEGIN:STANDARD
DTSTART:20191027T010000
RDATE:20200329T020000
TZOFFSETFROM:+0100
TZOFFSETTO:+0000
TZNAME:Europe/Lisbon WET
END:STANDARD
BEGIN:STANDARD
DTSTART:20201025T010000
RDATE:20210328T020000
TZOFFSETFROM:+0100
TZOFFSETTO:+0000
TZNAME:Europe/Lisbon WET
END:STANDARD
BEGIN:DAYLIGHT
DTSTART:20170326T020000
RDATE:20171029T010000
TZOFFSETFROM:+0000
TZOFFSETTO:+0100
TZNAME:Europe/Lisbon WEST
END:DAYLIGHT
BEGIN:DAYLIGHT
DTSTART:20180325T020000
RDATE:20181028T010000
TZOFFSETFROM:+0000
TZOFFSETTO:+0100
TZNAME:Europe/Lisbon WEST
END:DAYLIGHT
BEGIN:DAYLIGHT
DTSTART:20190331T020000
RDATE:20191027T010000
TZOFFSETFROM:+0000
TZOFFSETTO:+0100
TZNAME:Europe/Lisbon WEST
END:DAYLIGHT
BEGIN:DAYLIGHT
DTSTART:20200329T020000
RDATE:20201025T010000
TZOFFSETFROM:+0000
TZOFFSETTO:+0100
TZNAME:Europe/Lisbon WEST
END:DAYLIGHT
END:VTIMEZONE
BEGIN:VEVENT
UID:2d05ecc46fd823eacae032998f5c977f
CATEGORIES:Santos
SUMMARY:São João de Quenty (Câncio)
DESCRIPTION;ENCODING=QUOTED-PRINTABLE:\n\nSão João de Quenty (Câncio) também conhecido como São João Câncio nasce
 u a 23 de Junho de 1390, no povoado de Quenty, Cracóvia (Polónia). Faleceu 
 a 24 de Dezembro de 1473 em Cracóvia.\nSão João de Quenty (Câncio) estudou 
 na Universidade de Cracóvia e lá se formou. Depois foi professor na mesma u
 niversidade até à data da sua morte. A grande preocupação de São João de Qu
 enty (Câncio) era transmitir aos alunos os conhecimentos "não à luz de uma 
 ciência fria e anônima, mas como irradiação da ciência suprema que tem sua 
 fonte em Deus".\nMesmo depois de ser ordenado sacerdote, São João de Quenty
  continuou a cultivar a ciência, ao mesmo tempo que fazia seu trabalho past
 oral como vigário da paróquia de Olkusz, sob o lema "Mais para o alto!", pr
 ocurando dar à sua vida sempre o sentido para Deus.\nHomem de profunda vida
  interior, São João de Quenty jejuava e penitenciava-se semanalmente, ao me
 smo tempo que espalhava o amor pelo próximo entre os estudantes e os pobres
  da cidade. Era um homem sério, humilde e generoso para com os pobres, dorm
 ia pouco, não comia carne e jejuava com frequência. \nSão João de Quenty fo
 i como peregrino a Jerusalém e desejava ser martirizado pelos turcos. Fez q
 uatro peregrinações a Roma carregando sua bagagem nas costas. Por várias ve
 zes São João de Quenty foi avisado sobre a sua saúde, mas dizia que os Mong
 es do Deserto tinham vida longa em condições que nenhum médico recomendaria
 , mas tinham a presença de Deus.  \nNuma dessas viagens, São João de Quenty
  foi assaltado, os bandidos exigiram que lhes desse tudo que tinha, depois 
 perguntaram ainda se não estava escondendo mais nada. Ele afirmou que não. 
 Depois dos ladrões partirem, o santo lembrou-se que ainda tinha algumas moe
 das no forro do manto. Achou-as, correu atrás dos bandidos, deu-lhes as moe
 das e ainda pediu desculpa pelo esquecimento.\nAnos depois, ao perceber a p
 roximidade da morte, distribuiu os poucos bens que possuía aos pobres, fale
 cendo às vésperas do Natal de 1473. \n \nFoi canonizado pelo Papa Clemente 
 XIII a 16 de Julho de 1767.\n \nSão João de Quenty rogai por nós!\n
DTSTAMP:20260420T180443Z
DTSTART;TZID=Europe/Lisbon;VALUE=DATE:20171223
DTEND;TZID=Europe/Lisbon;VALUE=DATE:20171224
SEQUENCE:0
RRULE:FREQ=YEARLY;COUNT=100;INTERVAL=1;BYYEARDAY=-9
TRANSP:OPAQUE
END:VEVENT
END:VCALENDAR