BEGIN:VCALENDAR
VERSION:2.0
PRODID:-//jEvents 2.0 for Joomla//EN
CALSCALE:GREGORIAN
METHOD:PUBLISH
BEGIN:VTIMEZONE
TZID:Europe/Lisbon
BEGIN:STANDARD
DTSTART:20161220T000000
RDATE:20170326T020000
TZOFFSETFROM:+0100
TZOFFSETTO:+0000
TZNAME:Europe/Lisbon WET
END:STANDARD
BEGIN:STANDARD
DTSTART:20171029T010000
RDATE:20180325T020000
TZOFFSETFROM:+0100
TZOFFSETTO:+0000
TZNAME:Europe/Lisbon WET
END:STANDARD
BEGIN:STANDARD
DTSTART:20181028T010000
RDATE:20190331T020000
TZOFFSETFROM:+0100
TZOFFSETTO:+0000
TZNAME:Europe/Lisbon WET
END:STANDARD
BEGIN:STANDARD
DTSTART:20191027T010000
RDATE:20200329T020000
TZOFFSETFROM:+0100
TZOFFSETTO:+0000
TZNAME:Europe/Lisbon WET
END:STANDARD
BEGIN:STANDARD
DTSTART:20201025T010000
RDATE:20210328T020000
TZOFFSETFROM:+0100
TZOFFSETTO:+0000
TZNAME:Europe/Lisbon WET
END:STANDARD
BEGIN:DAYLIGHT
DTSTART:20170326T020000
RDATE:20171029T010000
TZOFFSETFROM:+0000
TZOFFSETTO:+0100
TZNAME:Europe/Lisbon WEST
END:DAYLIGHT
BEGIN:DAYLIGHT
DTSTART:20180325T020000
RDATE:20181028T010000
TZOFFSETFROM:+0000
TZOFFSETTO:+0100
TZNAME:Europe/Lisbon WEST
END:DAYLIGHT
BEGIN:DAYLIGHT
DTSTART:20190331T020000
RDATE:20191027T010000
TZOFFSETFROM:+0000
TZOFFSETTO:+0100
TZNAME:Europe/Lisbon WEST
END:DAYLIGHT
BEGIN:DAYLIGHT
DTSTART:20200329T020000
RDATE:20201025T010000
TZOFFSETFROM:+0000
TZOFFSETTO:+0100
TZNAME:Europe/Lisbon WEST
END:DAYLIGHT
END:VTIMEZONE
BEGIN:VEVENT
UID:f6104bfe308ed0f72bc1654b6348c981
CATEGORIES:Santos
SUMMARY:São Pedro Canísio
DESCRIPTION;ENCODING=QUOTED-PRINTABLE:\n\nSão Pedro Canísio, (Pieter Kanis) nasceu a 8 de Maio de 1521 em Nimega 
 (actual Países Baixos) e faleceu a 21 de Dezembro de 1597 em Friburgo (Suiç
 a).\nEra filho de Jacob Kanis, burgo mestre de Nimega (Presidente da Câmara
 ) e de Ægidia van Houweningen. Ficou órfão de mãe ainda bébé. Estudou na Un
 iversidade de Colónia, onde terminou o mestrado com apenas 19 anos. Aí conh
 eceu Pedro Fabro (http://www.paroquia-almancil.pt/utilidades/vida-dos-santo
 s/icalrepeat.detail/2017/08/02/48027/-/b-pedro-fabro.html) e em 1543, torno
 u-se o primeiro holandês a juntar-se à ordem dos jesuítas.\nSão Pedro Canís
 io exerceu forte influência sobre Fernando I, o imperador do Sacro Império 
 Romano-Germânico, lembrando-o incessantemente do perigo iminente para sua a
 lma caso ele concedesse mais direitos aos protestantes em troca de apoio mi
 litar. Quando percebeu que o filho e herdeiro de Fernando, Maximiliano, pod
 eria se declarar abertamente protestante, convenceu o imperador a ameaçá-lo
  de deserdação caso abandonasse a fé católica\nSão Pedro Canísio foi um edu
 cador e pregador influente. Foi-lhe oferecido o posto de bispo de Viena, po
 rém São Pedro Canísio recusou-o para que pudesse continuar com as suas viag
 ens e pregações. No entanto, foi administrador apostólico da Diocese de Vie
 na de 1554 a 1555 até que um bispo pudesse assumir. Mudou-se depois para a 
 Alemanha e lá tornou-se um dos principais teólogos católicos durante o Coló
 quio de Worms em 1557, servindo depois como principal pregador da Catedral 
 de Augsburgo de 1559 a 1568, onde diz-se que confessava sua fé católica de 
 forma contundente pelo menos três ou quatro vezes por semana. Dizia-se que 
 sua pregação era tão convincente que atraiu centenas de protestantes de vol
 ta para a velha fé.\nSão Pedro Canísio lutou contra a disseminação do prote
 stantismo na Alemanha, Áustria, Boémia, Morávia e Suíça. A restauração da I
 greja Católica na Alemanha depois da Reforma Protestante é atribuída ao tra
 balho da Companhia de Jesus, que S. Pedro Canísio liderava. Quando deixou a
  Alemanha, em 1590, a ordem dos jesuítas havia evoluído de quase nada para 
 uma ferramenta poderosa da Contrarreforma.\nSão Pedro Canísio passou os últ
 imos vinte anos de sua vida em Friburgo, onde fundou uma escola preparatóri
 a jesuíta, o Collège Saint Michel.\nSão Pedro Canísio ensinava que, apesar 
 de existirem muitos caminhos que conduzem a Jesus Cristo, a veneração da Vi
 rgem Maria é o melhor, como atestam seus sermões e cartas. Explica a Ave Ma
 ria como a base para a piedade católica mariana. A frase "Santa Maria, Mãe 
 de Deus, orai por nós pecadores.", que aparece na oração da Ave Maria apare
 ceu pela primeira vez no catecismo de São Pedro Canísio datado de 1555. Onz
 e anos depois, a sentença foi incluída no "Catecismo do Concílio de Trento"
  de 1566.\nAos setenta anos, São Pedro Canísio sofreu um derrame que o deix
 ou parcialmente paralisado, no entanto isso não o impediu de continuar a pr
 egar e a escrever, com a ajuda de um secretário, até o dia de sua morte, a 
 21 de Dezembro de 1597.\nFoi canonizado e declarado Doutor da Igreja a 21 d
 e Maio de 1925 pelo Papa Pio XI.\n \nSão Pedro Canísio rogai por nós!\n
DTSTAMP:20260419T222714Z
DTSTART;TZID=Europe/Lisbon;VALUE=DATE:20171221
DTEND;TZID=Europe/Lisbon;VALUE=DATE:20171222
SEQUENCE:0
RRULE:FREQ=YEARLY;COUNT=100;INTERVAL=1;BYYEARDAY=-11
TRANSP:OPAQUE
END:VEVENT
END:VCALENDAR