BEGIN:VCALENDAR
VERSION:2.0
PRODID:-//jEvents 2.0 for Joomla//EN
CALSCALE:GREGORIAN
METHOD:PUBLISH
BEGIN:VTIMEZONE
TZID:Europe/Lisbon
BEGIN:STANDARD
DTSTART:20161216T000000
RDATE:20170326T020000
TZOFFSETFROM:+0100
TZOFFSETTO:+0000
TZNAME:Europe/Lisbon WET
END:STANDARD
BEGIN:STANDARD
DTSTART:20171029T010000
RDATE:20180325T020000
TZOFFSETFROM:+0100
TZOFFSETTO:+0000
TZNAME:Europe/Lisbon WET
END:STANDARD
BEGIN:STANDARD
DTSTART:20181028T010000
RDATE:20190331T020000
TZOFFSETFROM:+0100
TZOFFSETTO:+0000
TZNAME:Europe/Lisbon WET
END:STANDARD
BEGIN:STANDARD
DTSTART:20191027T010000
RDATE:20200329T020000
TZOFFSETFROM:+0100
TZOFFSETTO:+0000
TZNAME:Europe/Lisbon WET
END:STANDARD
BEGIN:STANDARD
DTSTART:20201025T010000
RDATE:20210328T020000
TZOFFSETFROM:+0100
TZOFFSETTO:+0000
TZNAME:Europe/Lisbon WET
END:STANDARD
BEGIN:DAYLIGHT
DTSTART:20170326T020000
RDATE:20171029T010000
TZOFFSETFROM:+0000
TZOFFSETTO:+0100
TZNAME:Europe/Lisbon WEST
END:DAYLIGHT
BEGIN:DAYLIGHT
DTSTART:20180325T020000
RDATE:20181028T010000
TZOFFSETFROM:+0000
TZOFFSETTO:+0100
TZNAME:Europe/Lisbon WEST
END:DAYLIGHT
BEGIN:DAYLIGHT
DTSTART:20190331T020000
RDATE:20191027T010000
TZOFFSETFROM:+0000
TZOFFSETTO:+0100
TZNAME:Europe/Lisbon WEST
END:DAYLIGHT
BEGIN:DAYLIGHT
DTSTART:20200329T020000
RDATE:20201025T010000
TZOFFSETFROM:+0000
TZOFFSETTO:+0100
TZNAME:Europe/Lisbon WEST
END:DAYLIGHT
END:VTIMEZONE
BEGIN:VEVENT
UID:d2baa218cc313675dc3fb63e4f3ba4b1
CATEGORIES:Santos
SUMMARY:São João da Mata
DESCRIPTION;ENCODING=QUOTED-PRINTABLE:\n\n\nSão João da Mata também é conhecido como S. Jean de Matha, nasceu a 2
 3 de Junho de 1160, em Faucon-de-Barcelonnette, França e faleceu a 17 de De
 zembro de 1213 em Roma, Itália. Era filho de Euphème de Matha, um nobre esp
 anhol, conde de Barcelona e de Provença, e de Martha.\nS. João da Mata mudo
 u-se com a família para Marselha, onde começou os estudos. A sua mãe foi ta
 mbém sua professora na infância, introduzindo-o desde cedo aos círculos dos
  conventos e hospitais. A educação da mãe influenciou fortemente São João d
 a Mata. Desde pequeno, São João da Mata mostrou preocupação para com os inj
 ustiçados. \nSão João da Mata estudou na Universidade d'Aix, e depois na Un
 iversidade de Paris, onde obteve o grau de doutor em Teologia. O bispo de P
 aris na altura, Maurice de Sully, incentivou São João da Mata a tornar-se s
 acerdote.\nEm 1193, São João da Mata conhece Félix de Valois (http://www.pa
 roquia-almancil.pt/utilidades/vida-dos-santos/icalrepeat.detail/2017/11/20/
 39559/-/s-f%C3%A9lix-de-val%C3%B3is.html) e retira-se para a floresta torna
 ndo-se discípulo de São Félix.\nJoão da Mata teve uma visão no dia em que c
 elebrou a sua primeira missa em que ele e São Félix teriam sido chamados a 
 criar uma ordem cuja missão seria resgatar cristãos presos pelos turcos. Ju
 nto com São Félix, São João da Mata monta então uma pequena congregação na 
 floresta. A Ordem da Santíssima Trindade e da Redenção dos cativos, ou Padr
 es Trinitários, como são conhecidos, foi fundada em 1197 e aprovada pelo Pa
 pa Inocêncio III a 17 de Dezembro de 1198. \nApesar da ordem ter sido criad
 a em França, os primeiros membros a serem admitidos não foram franceses, ma
 s os ingleses Roger Dees e João, o Inglês, e um escocês, Guilherme Scot, an
 tigos condiscípulos de João da Mata.\nConstruíram um mosteiro em Cerfroi (a
 ctual Brumetz), nos arredores de Paris, que depois se tornou a Casa-mãe da 
 Ordem dos Trinitários. Em seguida conseguiram ajuda para construir um moste
 iro em Paris, perto da capela atualmente dedicada a São joão de Matha. De l
 á os sacerdotes missionários formados passaram a soltar os cativos, levando
 -os, em triunfo, a Paris. O próprio João da Mata organizou uma expedição à 
 África, onde resgatou, pessoalmente, um grande número de cristãos em cative
 iro. Em uma segunda viagem, caiu nas mãos dos muçulmanos, foi espancado e d
 eixado a sangrar nas ruas de Túnis, na Tunísia.\nSão João da Mata recuperou
 -se, reuniu os cristãos e embarcaram num navio que devia levá-los a Roma. O
  barco foi atacado, as velas rasgadas e o leme partido. Os registros e a tr
 adição contam que João da Mata tirou o manto, rezou, transformou-o numa vel
 a, pediu a Deus que guiasse o navio e, assim, chegaram ao porto da cidade i
 taliana de Óstia. \nFaleceu no dia 17 de Dezembro de 1213, em Roma\nFoi can
 onizado pelo papa Alexandre VII a 21 de Outubro de 1666.\n \nSão João da Ma
 ta rogai por nós!\n
DTSTAMP:20260420T180622Z
DTSTART;TZID=Europe/Lisbon;VALUE=DATE:20171217
DTEND;TZID=Europe/Lisbon;VALUE=DATE:20171218
SEQUENCE:0
RRULE:FREQ=YEARLY;COUNT=100;INTERVAL=1;BYYEARDAY=-15
TRANSP:OPAQUE
END:VEVENT
END:VCALENDAR