BEGIN:VCALENDAR
VERSION:2.0
PRODID:-//jEvents 2.0 for Joomla//EN
CALSCALE:GREGORIAN
METHOD:PUBLISH
BEGIN:VTIMEZONE
TZID:Europe/Lisbon
BEGIN:STANDARD
DTSTART:20161214T000000
RDATE:20170326T020000
TZOFFSETFROM:+0100
TZOFFSETTO:+0000
TZNAME:Europe/Lisbon WET
END:STANDARD
BEGIN:STANDARD
DTSTART:20171029T010000
RDATE:20180325T020000
TZOFFSETFROM:+0100
TZOFFSETTO:+0000
TZNAME:Europe/Lisbon WET
END:STANDARD
BEGIN:STANDARD
DTSTART:20181028T010000
RDATE:20190331T020000
TZOFFSETFROM:+0100
TZOFFSETTO:+0000
TZNAME:Europe/Lisbon WET
END:STANDARD
BEGIN:STANDARD
DTSTART:20191027T010000
RDATE:20200329T020000
TZOFFSETFROM:+0100
TZOFFSETTO:+0000
TZNAME:Europe/Lisbon WET
END:STANDARD
BEGIN:STANDARD
DTSTART:20201025T010000
RDATE:20210328T020000
TZOFFSETFROM:+0100
TZOFFSETTO:+0000
TZNAME:Europe/Lisbon WET
END:STANDARD
BEGIN:DAYLIGHT
DTSTART:20170326T020000
RDATE:20171029T010000
TZOFFSETFROM:+0000
TZOFFSETTO:+0100
TZNAME:Europe/Lisbon WEST
END:DAYLIGHT
BEGIN:DAYLIGHT
DTSTART:20180325T020000
RDATE:20181028T010000
TZOFFSETFROM:+0000
TZOFFSETTO:+0100
TZNAME:Europe/Lisbon WEST
END:DAYLIGHT
BEGIN:DAYLIGHT
DTSTART:20190331T020000
RDATE:20191027T010000
TZOFFSETFROM:+0000
TZOFFSETTO:+0100
TZNAME:Europe/Lisbon WEST
END:DAYLIGHT
BEGIN:DAYLIGHT
DTSTART:20200329T020000
RDATE:20201025T010000
TZOFFSETFROM:+0000
TZOFFSETTO:+0100
TZNAME:Europe/Lisbon WEST
END:DAYLIGHT
END:VTIMEZONE
BEGIN:VEVENT
UID:c3f9a20a863fa2abc51e0a2205048cd8
CATEGORIES:Santos
SUMMARY:Beato Carlos Steeb
DESCRIPTION;ENCODING=QUOTED-PRINTABLE:\n\n\n\n Beato Carlos Steeb nasceu a 18 de Dezembro de 1773 na antiga cidad
 e alemã de Tubinga e faleceu a 15 de Dezembro de 1856. O seu nome de nascim
 ento era João Henrique Carlos Steeb e nasceu no seio duma família de lutera
 nos convictos e praticantes. O pai era um administrador de empresas, concei
 tuado e muito competente, que geria os bens do duque de Wurttenberg.\nA fam
 ília deu-lhe uma sólida instrução, numa boa e tradicional escola da cidade.
  Aos dezesseis anos foi para Paris, aprender francês. Após dois anos, segui
 u para Verona, onde aprendeu italiano e prática comercial.\nCarlos era um r
 apaz reservado, amadurecido para a idade, que se dedicava totalmente aos es
 tudos e ao trabalho. Era um protestante devoto e praticante como todos na f
 amília, mas aos poucos foi apreciando as conversas profundas que mantinha c
 om os sacerdotes e leigos católicos. Aprofundou a doutrina e converteu-se, 
 em Setembro de 1792. Foi ordenado sacerdote quatro anos depois, conta a von
 tade da sua família que o deserdou. Contudo a morte da sua irmã Guilhermina
  fez com que todos os bens paternos passassem para Carlos Steeb.\nDesde ent
 ão, dedicou-se com fé inabalável à Virgem Maria, no auxilio aos católicos e
 nfermos vitimados durante a guerra que ocorria naquele tempo. Organizou gru
 pos missionários entre a população, exercícios espirituais para os irmãos l
 eigos e sacerdotes e centros catequizadores. \nBeato Carlos Steeb dedicou a
  sua vida aliviando o sofrimento dos enfermos, sendo sempre encontrado no h
 ospital, ou no asilo, onde residia com eles. Foi exatamente no Hospital dos
  Militares que Padre Carlos teve a inspiração para fundar uma Congregação d
 e religiosas, destinadas a servir nos hospitais.\nEm 1840, contraiu o tifo.
  Depois de recuperado, fundou a Congregação das Irmãs da Misericórdia, dest
 inada ao atendimento de qualquer tipo de doenças do corpo ou da alma, em ho
 spitais e casas de saúde. \nA Obra começou com apenas dois quartos, e com o
  auxílio de Luisa Poloni, depois Irmã Vincenza, de quem Padre Carlos era co
 nfessor. Aliás, ele era o confessor de todos os habitantes de Verona, que o
  amavam como se fosse a "mãe dos doentes". Depois a Congregação espalhou-se
  por quase toda a Europa, América Latina e África.\n Foi beatificado em 197
 5 pelo Papa Paulo VI.\n
DTSTAMP:20260419T181908Z
DTSTART;TZID=Europe/Lisbon;VALUE=DATE:20171215
DTEND;TZID=Europe/Lisbon;VALUE=DATE:20171216
SEQUENCE:0
RRULE:FREQ=YEARLY;COUNT=100;INTERVAL=1;BYYEARDAY=-17
TRANSP:OPAQUE
END:VEVENT
END:VCALENDAR