BEGIN:VCALENDAR
VERSION:2.0
PRODID:-//jEvents 2.0 for Joomla//EN
CALSCALE:GREGORIAN
METHOD:PUBLISH
BEGIN:VTIMEZONE
TZID:Europe/Lisbon
BEGIN:STANDARD
DTSTART:20130115T000000
RDATE:20130331T020000
TZOFFSETFROM:+0100
TZOFFSETTO:+0000
TZNAME:Europe/Lisbon WET
END:STANDARD
BEGIN:STANDARD
DTSTART:20131027T010000
RDATE:20140330T020000
TZOFFSETFROM:+0100
TZOFFSETTO:+0000
TZNAME:Europe/Lisbon WET
END:STANDARD
BEGIN:STANDARD
DTSTART:20141026T010000
RDATE:20150329T020000
TZOFFSETFROM:+0100
TZOFFSETTO:+0000
TZNAME:Europe/Lisbon WET
END:STANDARD
BEGIN:STANDARD
DTSTART:20151025T010000
RDATE:20160327T020000
TZOFFSETFROM:+0100
TZOFFSETTO:+0000
TZNAME:Europe/Lisbon WET
END:STANDARD
BEGIN:STANDARD
DTSTART:20161030T010000
RDATE:20170326T020000
TZOFFSETFROM:+0100
TZOFFSETTO:+0000
TZNAME:Europe/Lisbon WET
END:STANDARD
BEGIN:STANDARD
DTSTART:20171029T010000
RDATE:20180325T020000
TZOFFSETFROM:+0100
TZOFFSETTO:+0000
TZNAME:Europe/Lisbon WET
END:STANDARD
BEGIN:STANDARD
DTSTART:20181028T010000
RDATE:20190331T020000
TZOFFSETFROM:+0100
TZOFFSETTO:+0000
TZNAME:Europe/Lisbon WET
END:STANDARD
BEGIN:STANDARD
DTSTART:20191027T010000
RDATE:20200329T020000
TZOFFSETFROM:+0100
TZOFFSETTO:+0000
TZNAME:Europe/Lisbon WET
END:STANDARD
BEGIN:STANDARD
DTSTART:20201025T010000
RDATE:20210328T020000
TZOFFSETFROM:+0100
TZOFFSETTO:+0000
TZNAME:Europe/Lisbon WET
END:STANDARD
BEGIN:DAYLIGHT
DTSTART:20130331T020000
RDATE:20131027T010000
TZOFFSETFROM:+0000
TZOFFSETTO:+0100
TZNAME:Europe/Lisbon WEST
END:DAYLIGHT
BEGIN:DAYLIGHT
DTSTART:20140330T020000
RDATE:20141026T010000
TZOFFSETFROM:+0000
TZOFFSETTO:+0100
TZNAME:Europe/Lisbon WEST
END:DAYLIGHT
BEGIN:DAYLIGHT
DTSTART:20150329T020000
RDATE:20151025T010000
TZOFFSETFROM:+0000
TZOFFSETTO:+0100
TZNAME:Europe/Lisbon WEST
END:DAYLIGHT
BEGIN:DAYLIGHT
DTSTART:20160327T020000
RDATE:20161030T010000
TZOFFSETFROM:+0000
TZOFFSETTO:+0100
TZNAME:Europe/Lisbon WEST
END:DAYLIGHT
BEGIN:DAYLIGHT
DTSTART:20170326T020000
RDATE:20171029T010000
TZOFFSETFROM:+0000
TZOFFSETTO:+0100
TZNAME:Europe/Lisbon WEST
END:DAYLIGHT
BEGIN:DAYLIGHT
DTSTART:20180325T020000
RDATE:20181028T010000
TZOFFSETFROM:+0000
TZOFFSETTO:+0100
TZNAME:Europe/Lisbon WEST
END:DAYLIGHT
BEGIN:DAYLIGHT
DTSTART:20190331T020000
RDATE:20191027T010000
TZOFFSETFROM:+0000
TZOFFSETTO:+0100
TZNAME:Europe/Lisbon WEST
END:DAYLIGHT
BEGIN:DAYLIGHT
DTSTART:20200329T020000
RDATE:20201025T010000
TZOFFSETFROM:+0000
TZOFFSETTO:+0100
TZNAME:Europe/Lisbon WEST
END:DAYLIGHT
END:VTIMEZONE
BEGIN:VEVENT
UID:14b399f74342377bb046550d8a15ed21
CATEGORIES:Santos
SUMMARY:São Honorato de Arles
DESCRIPTION;ENCODING=QUOTED-PRINTABLE:São Honorato era filho de uma nobre família romana, tendo vivido em Roma em
  meados do século IV, São Honorato recebeu educação elevada, mas ao contrár
 io do que a sua família esperava, São Honorato usou a sua educação para se 
 firmar líder da Igreja como monge e pastor. São Honorato converteu-se depoi
 s de adulto, mesmo tendo sido pressionado pelos seus pais para que abandona
 sse a sua fé. São Honorato, conseguiu converter também o seu irmão, de nome
  Venâncio.\nAssim que os pais morreram, São Honorato e Venâncio, seu irmão,
  desfizeram-se de todos os bens, doando tudo aos necessitados e transforman
 do-se em pregadores. São Honorato e o seu irmão, viajaram pela Síria, Gréci
 a e outras terras espalhando o catolicismo.\nQuando Venâncio morreu, São Ho
 norato resolveu regressar a Itália, onde foi ordenado sacerdote.\nMais tard
 e São Honorato, fixou-se em Lerins, uma ilha desabitada que viria a ficar c
 onhecida como "Ilha Feliz". Tudo isso, porque São Honorato ali fundou um mo
 steiro de elevada inspiração espiritual e intelectual, que rapidamente se t
 ornou uma venerada escola de monges. O mosteiro resistiu e semeou a fé até 
 à Revolução Francesa , quando os monges foram desterrados e a construção co
 nfiscada. Apenas 50 anos depois é que o bispo de Fréjus conseguiu reconstru
 í-lo.\nQuanto a São Honorato, teve que deixá-lo quando foi eleito bispo de 
 Arles.\n\nMorte: ano 429 d.C.\n\nCuriosidade: São Honorato costumava dizer 
 aos seus discípulos "quem é virtuoso não precisa estar triste".\n
DTSTAMP:20260421T043737Z
DTSTART;TZID=Europe/Lisbon;VALUE=DATE:20140116
DTEND;TZID=Europe/Lisbon;VALUE=DATE:20140117
SEQUENCE:0
RRULE:FREQ=YEARLY;COUNT=100;INTERVAL=1;BYYEARDAY=+16
TRANSP:OPAQUE
END:VEVENT
END:VCALENDAR