BEGIN:VCALENDAR
VERSION:2.0
PRODID:-//jEvents 2.0 for Joomla//EN
CALSCALE:GREGORIAN
METHOD:PUBLISH
BEGIN:VTIMEZONE
TZID:Europe/Lisbon
BEGIN:STANDARD
DTSTART:20161209T000000
RDATE:20170326T020000
TZOFFSETFROM:+0100
TZOFFSETTO:+0000
TZNAME:Europe/Lisbon WET
END:STANDARD
BEGIN:STANDARD
DTSTART:20171029T010000
RDATE:20180325T020000
TZOFFSETFROM:+0100
TZOFFSETTO:+0000
TZNAME:Europe/Lisbon WET
END:STANDARD
BEGIN:STANDARD
DTSTART:20181028T010000
RDATE:20190331T020000
TZOFFSETFROM:+0100
TZOFFSETTO:+0000
TZNAME:Europe/Lisbon WET
END:STANDARD
BEGIN:STANDARD
DTSTART:20191027T010000
RDATE:20200329T020000
TZOFFSETFROM:+0100
TZOFFSETTO:+0000
TZNAME:Europe/Lisbon WET
END:STANDARD
BEGIN:STANDARD
DTSTART:20201025T010000
RDATE:20210328T020000
TZOFFSETFROM:+0100
TZOFFSETTO:+0000
TZNAME:Europe/Lisbon WET
END:STANDARD
BEGIN:DAYLIGHT
DTSTART:20170326T020000
RDATE:20171029T010000
TZOFFSETFROM:+0000
TZOFFSETTO:+0100
TZNAME:Europe/Lisbon WEST
END:DAYLIGHT
BEGIN:DAYLIGHT
DTSTART:20180325T020000
RDATE:20181028T010000
TZOFFSETFROM:+0000
TZOFFSETTO:+0100
TZNAME:Europe/Lisbon WEST
END:DAYLIGHT
BEGIN:DAYLIGHT
DTSTART:20190331T020000
RDATE:20191027T010000
TZOFFSETFROM:+0000
TZOFFSETTO:+0100
TZNAME:Europe/Lisbon WEST
END:DAYLIGHT
BEGIN:DAYLIGHT
DTSTART:20200329T020000
RDATE:20201025T010000
TZOFFSETFROM:+0000
TZOFFSETTO:+0100
TZNAME:Europe/Lisbon WEST
END:DAYLIGHT
END:VTIMEZONE
BEGIN:VEVENT
UID:6f4c1f865ce57b9095626ac4d8f66ed8
CATEGORIES:Santos
SUMMARY:Santa Eulália
DESCRIPTION;ENCODING=QUOTED-PRINTABLE:\n\n\nSanta Eulália nasceu por volta do ano de 290 na cidade de Mérida (Esp
 anha) e veio a falecer no ano de 304 na mesma cidade. \nNão se sabe muito s
 obre a curta vida de Santa Eulália. Segundo o escritor cristão Prudêncio (3
 48-410), Santa Eulália terá sido uma virgem cristã muito devota, cuja mãe f
 oi sequestrada em casa no ano 304 por causa da perseguição de Diocleciano, 
 onde era exigido que os cristãos cumprissem as práticas religiosas antigas,
  adorando os deuses romanos. Depois desse episódio, Santa Eulália terá corr
 ido para a corte de Públio Daciano e apresentando-se diante do tribunal con
 fessou ser uma cristã, ofendeu os deuses pagãos e o imperador romano Maximi
 ano desafiando o imperador a martirizá-la. O juiz tentou suborná-la com din
 heiro e elogios, mas fracassou.\nSanta Eulália foi então despida pelos sold
 ados, torturada com ganchos e tochas e queimada na estaca, sufocando devido
  à inalação de fumos. Enquanto era martirizada, Santa Eulália provocou os t
 orturadores o tempo todo e, quando expirou, uma pomba voou da boca de Santa
  Eulália, o que assustou os soldados e permitiu que uma neve milagrosa cobr
 isse a sua nudez com uma brancura indicativa de sua santidade.\nUm santuári
 o foi logo erguido sobre seu túmulo e a veneração de Eulália já era muito p
 opular entre os cristãos por volta do ano 350. \nFoi canonizada logo no ano
  da sua morte.\n \nSanta Eulália rogai por nós!\n
DTSTAMP:20260423T215336Z
DTSTART;TZID=Europe/Lisbon;VALUE=DATE:20171210
DTEND;TZID=Europe/Lisbon;VALUE=DATE:20171211
SEQUENCE:0
RRULE:FREQ=YEARLY;COUNT=100;INTERVAL=1;BYYEARDAY=-22
TRANSP:OPAQUE
END:VEVENT
END:VCALENDAR