BEGIN:VCALENDAR
VERSION:2.0
PRODID:-//jEvents 2.0 for Joomla//EN
CALSCALE:GREGORIAN
METHOD:PUBLISH
BEGIN:VTIMEZONE
TZID:Europe/Lisbon
BEGIN:STANDARD
DTSTART:20161205T000000
RDATE:20170326T020000
TZOFFSETFROM:+0100
TZOFFSETTO:+0000
TZNAME:Europe/Lisbon WET
END:STANDARD
BEGIN:STANDARD
DTSTART:20171029T010000
RDATE:20180325T020000
TZOFFSETFROM:+0100
TZOFFSETTO:+0000
TZNAME:Europe/Lisbon WET
END:STANDARD
BEGIN:STANDARD
DTSTART:20181028T010000
RDATE:20190331T020000
TZOFFSETFROM:+0100
TZOFFSETTO:+0000
TZNAME:Europe/Lisbon WET
END:STANDARD
BEGIN:STANDARD
DTSTART:20191027T010000
RDATE:20200329T020000
TZOFFSETFROM:+0100
TZOFFSETTO:+0000
TZNAME:Europe/Lisbon WET
END:STANDARD
BEGIN:STANDARD
DTSTART:20201025T010000
RDATE:20210328T020000
TZOFFSETFROM:+0100
TZOFFSETTO:+0000
TZNAME:Europe/Lisbon WET
END:STANDARD
BEGIN:DAYLIGHT
DTSTART:20170326T020000
RDATE:20171029T010000
TZOFFSETFROM:+0000
TZOFFSETTO:+0100
TZNAME:Europe/Lisbon WEST
END:DAYLIGHT
BEGIN:DAYLIGHT
DTSTART:20180325T020000
RDATE:20181028T010000
TZOFFSETFROM:+0000
TZOFFSETTO:+0100
TZNAME:Europe/Lisbon WEST
END:DAYLIGHT
BEGIN:DAYLIGHT
DTSTART:20190331T020000
RDATE:20191027T010000
TZOFFSETFROM:+0000
TZOFFSETTO:+0100
TZNAME:Europe/Lisbon WEST
END:DAYLIGHT
BEGIN:DAYLIGHT
DTSTART:20200329T020000
RDATE:20201025T010000
TZOFFSETFROM:+0000
TZOFFSETTO:+0100
TZNAME:Europe/Lisbon WEST
END:DAYLIGHT
END:VTIMEZONE
BEGIN:VEVENT
UID:c073dcc77d34d298930ed317fa4c9e4f
CATEGORIES:Santos
SUMMARY:São Nicolau
DESCRIPTION;ENCODING=QUOTED-PRINTABLE:\n\n\nSão Nicolau nasceu no século III, pensa-se que por volta do ano 275 n
 a cidade de Patara (Turquia). São três as datas apontadas para o seu faleci
 mento (6 de Dezembro de 326; 6 de Dezembro de 342 e 6 de Dezembro de 350). 
 S. Nicolau faleceu na cidade de Patara. É também conhecido como São Nicolau
  de Mira e São Nicolau de Bari. \nS. Nicolau era filho de nobres, muito ric
 os e extremamente religiosos. Era uma criança com inclinação à virtuosidade
  espiritual, nas quartas e nas sextas-feiras rejeitava o leite materno, pra
 ticando jejum voluntário. Quando jovem, desprezava os divertimentos e vaida
 des, preferindo frequentar a igreja. Costumava fazer doações anónimas em mo
 edas de ouro, roupas e comida às viúvas e aos pobres. Dizem que S. Nicolau 
 colocava os presentes das crianças em sacos e os jogava dentro das chaminés
  à noite, para serem encontrados por elas pela manhã. Dessa tradição veio a
  sua fama de amigo das crianças. Mais tarde, ele foi incluído nos rituais n
 atalinos no dia 25 de dezembro, ligando Nicolau ao nascimento do Menino Jes
 us.\nFoi consagrado bispo de Mira, atual Turquia, quando ainda era muito jo
 vem e desenvolveu seu apostolado também na Palestina e no Egito. Mais tarde
 , durante as perseguições do imperador Diocleciano, foi preso até a época e
 m que foi decretado o Edito de Constantino, que concedia a liberdade religi
 osa. S. Nicolau foi então libertado. Segundo alguns historiadores, o bispo 
 Nicolau esteve presente no primeiro Concílio, em Nicéia, no ano 325.\nMais 
 tarde, quando já era bispo, um pai, não tendo o dinheiro para constituir o 
 dote de suas três filhas e poder bem casá-las, decidiu mandá-las prostituir
 -se. S. Nicolau tomou conhecimento dessa intenção, encheu três saquinhos co
 m moedas de ouro, o dote de cada uma das jovens, para salvar-lhes a pureza.
  Durante três noites seguidas, foi à porta da casa daquele pai, onde deixav
 a o dote para uma delas. \nSão Nicolau ao receber por herança uma grande qu
 antia de dinheiro, partilhou-a livremente com os necessitados. \nDepois, ma
 is de sete séculos passados da sua morte, &ldquo;Nicolau de Mira&rdquo; tor
 nou-se &ldquo;Nicolau de Bari&rdquo;. Em 1087, a cidade de Bari, em Puglia,
  na Itália, sofria a subjugação dos normandos. Setenta marinheiros italiano
 s desembarcaram na cidade de Mira e apoderaram-se das relíquias mortais de 
 S. Nicolau, transferindo-as para Bari. O corpo de S. Nicolau foi acolhido, 
 triunfalmente, pela população de Bari, que o elegeu seu padroeiro celestial
 . Por intercessão de S. Nicolau os prodígios e milagres ocorriam com grande
  frequência. \n \nS. Nicolau rogai por nós!\n
DTSTAMP:20260420T054423Z
DTSTART;TZID=Europe/Lisbon;VALUE=DATE:20171206
DTEND;TZID=Europe/Lisbon;VALUE=DATE:20171207
SEQUENCE:0
RRULE:FREQ=YEARLY;COUNT=100;INTERVAL=1;BYYEARDAY=-26
TRANSP:OPAQUE
END:VEVENT
END:VCALENDAR