BEGIN:VCALENDAR
VERSION:2.0
PRODID:-//jEvents 2.0 for Joomla//EN
CALSCALE:GREGORIAN
METHOD:PUBLISH
BEGIN:VTIMEZONE
TZID:Europe/Lisbon
BEGIN:STANDARD
DTSTART:20161130T000000
RDATE:20170326T020000
TZOFFSETFROM:+0100
TZOFFSETTO:+0000
TZNAME:Europe/Lisbon WET
END:STANDARD
BEGIN:STANDARD
DTSTART:20171029T010000
RDATE:20180325T020000
TZOFFSETFROM:+0100
TZOFFSETTO:+0000
TZNAME:Europe/Lisbon WET
END:STANDARD
BEGIN:STANDARD
DTSTART:20181028T010000
RDATE:20190331T020000
TZOFFSETFROM:+0100
TZOFFSETTO:+0000
TZNAME:Europe/Lisbon WET
END:STANDARD
BEGIN:STANDARD
DTSTART:20191027T010000
RDATE:20200329T020000
TZOFFSETFROM:+0100
TZOFFSETTO:+0000
TZNAME:Europe/Lisbon WET
END:STANDARD
BEGIN:STANDARD
DTSTART:20201025T010000
RDATE:20210328T020000
TZOFFSETFROM:+0100
TZOFFSETTO:+0000
TZNAME:Europe/Lisbon WET
END:STANDARD
BEGIN:DAYLIGHT
DTSTART:20170326T020000
RDATE:20171029T010000
TZOFFSETFROM:+0000
TZOFFSETTO:+0100
TZNAME:Europe/Lisbon WEST
END:DAYLIGHT
BEGIN:DAYLIGHT
DTSTART:20180325T020000
RDATE:20181028T010000
TZOFFSETFROM:+0000
TZOFFSETTO:+0100
TZNAME:Europe/Lisbon WEST
END:DAYLIGHT
BEGIN:DAYLIGHT
DTSTART:20190331T020000
RDATE:20191027T010000
TZOFFSETFROM:+0000
TZOFFSETTO:+0100
TZNAME:Europe/Lisbon WEST
END:DAYLIGHT
BEGIN:DAYLIGHT
DTSTART:20200329T020000
RDATE:20201025T010000
TZOFFSETFROM:+0000
TZOFFSETTO:+0100
TZNAME:Europe/Lisbon WEST
END:DAYLIGHT
END:VTIMEZONE
BEGIN:VEVENT
UID:c1e913c57764ccb469aee6fa7189a48d
CATEGORIES:Santos
SUMMARY:Beato João Vercelli
DESCRIPTION;ENCODING=QUOTED-PRINTABLE:\n\n\nBeato João de Vercelli terá nascido por volta do ano 1205 em Mosso (I
 tália) e faleceu a 2 de Dezembro de 1283 em Montpellier (França).\nAinda ba
 stante novo foi enviado para estudar na Universidade de Paris, onde se form
 ou, e se tornou Mestre leccionando Direito Romano e Direito Canónico.\nPor 
 influência de Jordão de Saxónia, futuro mestre-geral da Ordem dos Pregadore
 s, igualmente estudante em Paris, ingressou na ordem, fazendo o seu novicia
 do na cidade de Bolonha. Mais tarde foi enviado a Mosso para ali fundar um 
 convento do qual veio a ser prior. Como vigário do mestre-geral desempenhou
  diversas missões na Hungria, até que foi eleito prior do Convento de Bolon
 ha e, mais tarde, prior provincial da Lombardia (região italiana).\nEleito 
 mestre-geral da ordem, desempenhou tais funções por mais de 20 anos, apesar
  dos seus pedidos para ser dispensado de tal cargo. João de Vercelli foi co
 nselheiro de diversos Papas.\nNo convento de Bolonha mandou erguer um monum
 ental memorial a São Domingos sob o seu túmulo, apesar do seu carácter por 
 todos reconhecido de despojamento pessoal, simplicidade de vida e rigor no 
 cumprimento da pobreza e regular observância. Era grande defensor da doutri
 na de São Tomás de Aquino (http://www.paroquia-almancil.pt/utilidades/vida-
 dos-santos/icalrepeat.detail/2019/01/28/7077/-/s%C3%A3o-tom%C3%A1s-de-aquin
 o.html), e tornou de leitura e estudo obrigatório em toda a Ordem, a doutri
 na do mesmo.\nFoi beatificado no Século XIX pelo Papa Pio X. \n
DTSTAMP:20260423T064617Z
DTSTART;TZID=Europe/Lisbon;VALUE=DATE:20171201
DTEND;TZID=Europe/Lisbon;VALUE=DATE:20171202
SEQUENCE:0
RRULE:FREQ=YEARLY;COUNT=100;INTERVAL=1;BYYEARDAY=-31
TRANSP:OPAQUE
END:VEVENT
END:VCALENDAR