BEGIN:VCALENDAR
VERSION:2.0
PRODID:-//jEvents 2.0 for Joomla//EN
CALSCALE:GREGORIAN
METHOD:PUBLISH
BEGIN:VTIMEZONE
TZID:Europe/Lisbon
BEGIN:STANDARD
DTSTART:20161130T000000
RDATE:20170326T020000
TZOFFSETFROM:+0100
TZOFFSETTO:+0000
TZNAME:Europe/Lisbon WET
END:STANDARD
BEGIN:STANDARD
DTSTART:20171029T010000
RDATE:20180325T020000
TZOFFSETFROM:+0100
TZOFFSETTO:+0000
TZNAME:Europe/Lisbon WET
END:STANDARD
BEGIN:STANDARD
DTSTART:20181028T010000
RDATE:20190331T020000
TZOFFSETFROM:+0100
TZOFFSETTO:+0000
TZNAME:Europe/Lisbon WET
END:STANDARD
BEGIN:STANDARD
DTSTART:20191027T010000
RDATE:20200329T020000
TZOFFSETFROM:+0100
TZOFFSETTO:+0000
TZNAME:Europe/Lisbon WET
END:STANDARD
BEGIN:STANDARD
DTSTART:20201025T010000
RDATE:20210328T020000
TZOFFSETFROM:+0100
TZOFFSETTO:+0000
TZNAME:Europe/Lisbon WET
END:STANDARD
BEGIN:DAYLIGHT
DTSTART:20170326T020000
RDATE:20171029T010000
TZOFFSETFROM:+0000
TZOFFSETTO:+0100
TZNAME:Europe/Lisbon WEST
END:DAYLIGHT
BEGIN:DAYLIGHT
DTSTART:20180325T020000
RDATE:20181028T010000
TZOFFSETFROM:+0000
TZOFFSETTO:+0100
TZNAME:Europe/Lisbon WEST
END:DAYLIGHT
BEGIN:DAYLIGHT
DTSTART:20190331T020000
RDATE:20191027T010000
TZOFFSETFROM:+0000
TZOFFSETTO:+0100
TZNAME:Europe/Lisbon WEST
END:DAYLIGHT
BEGIN:DAYLIGHT
DTSTART:20200329T020000
RDATE:20201025T010000
TZOFFSETFROM:+0000
TZOFFSETTO:+0100
TZNAME:Europe/Lisbon WEST
END:DAYLIGHT
END:VTIMEZONE
BEGIN:VEVENT
UID:ff770838a5d9267c2c6b2dce832184b6
CATEGORIES:Santos
SUMMARY:São Elígio (Elói)
DESCRIPTION;ENCODING=QUOTED-PRINTABLE:\n\n\nSanto Elígio também é conhecido como Santo Elói nasceu no ano de 588 
 e faleceu a 1 de Dezembro de 660 (ou 659). Era um nobre da família galo-rom
 ana.\nEm Paris tinha trabalhado como aprendiz junto com o superintendente d
 e confecções de moedas reais, e Santo Elígio empenhou-se tanto e com tamanh
 a honestidade que, com o precioso metal (ouro) que lhe foi fornecido para f
 azer um trono para o rei Clotário II, ele fez dois tronos. Esse acto valeu-
 lhe a promoção de diretor da casa da moeda e ourives do rei. \nNo tempo do 
 rei Dagoberto II, filho e sucessor de Clotário II, Santo Elígio foi um dos 
 conselheiros mais influentes do rei. Diz-se que os enviados dos príncipes e
 strangeiros se avistavam previamente com ele, antes de serem recebidos ofic
 ialmente pelo soberano. Era diplomata hábil e por mais de uma vez conseguiu
  evitar a guerra. Gozava de tanta confiança junto do rei, que não só se per
 mitia fazer-lhe reparos sobre a indumentária descuidada, mas também sobre a
  sua vida privada.\nO tempo que sobrava a este homem da corte, dos seus neg
 ócios e orações, de acudir aos pobres, remir cativos ou libertar escravos, 
 empregava-o em honrar com a sua arte as relíquias dos santos. Fundou mostei
 ros em Limousin perto de Solignac, outro dedicado a S. Martinho de Noyon e 
 ainda outro a seis milhas de Arrás, numa colina que depois se chamou Monte 
 de Santo Elói (Santo Elígio).\nEm 639, morto o rei, demitiu-se de todos os 
 cargos, para entrar na vida eclesiástica, tendo sido ordenado sacerdote por
  Deodato, Bispo de Mans. Foi sagrado Bispo em Ruão, no dia 14 de Maio de 64
 1, e ocupou desde então a Sé Episcopal de Noyon. \n
DTSTAMP:20260420T203207Z
DTSTART;TZID=Europe/Lisbon;VALUE=DATE:20171201
DTEND;TZID=Europe/Lisbon;VALUE=DATE:20171202
SEQUENCE:0
RRULE:FREQ=YEARLY;COUNT=100;INTERVAL=1;BYYEARDAY=-31
TRANSP:OPAQUE
END:VEVENT
END:VCALENDAR