BEGIN:VCALENDAR
VERSION:2.0
PRODID:-//jEvents 2.0 for Joomla//EN
CALSCALE:GREGORIAN
METHOD:PUBLISH
BEGIN:VTIMEZONE
TZID:Europe/Lisbon
BEGIN:STANDARD
DTSTART:20161130T000000
RDATE:20170326T020000
TZOFFSETFROM:+0100
TZOFFSETTO:+0000
TZNAME:Europe/Lisbon WET
END:STANDARD
BEGIN:STANDARD
DTSTART:20171029T010000
RDATE:20180325T020000
TZOFFSETFROM:+0100
TZOFFSETTO:+0000
TZNAME:Europe/Lisbon WET
END:STANDARD
BEGIN:STANDARD
DTSTART:20181028T010000
RDATE:20190331T020000
TZOFFSETFROM:+0100
TZOFFSETTO:+0000
TZNAME:Europe/Lisbon WET
END:STANDARD
BEGIN:STANDARD
DTSTART:20191027T010000
RDATE:20200329T020000
TZOFFSETFROM:+0100
TZOFFSETTO:+0000
TZNAME:Europe/Lisbon WET
END:STANDARD
BEGIN:STANDARD
DTSTART:20201025T010000
RDATE:20210328T020000
TZOFFSETFROM:+0100
TZOFFSETTO:+0000
TZNAME:Europe/Lisbon WET
END:STANDARD
BEGIN:DAYLIGHT
DTSTART:20170326T020000
RDATE:20171029T010000
TZOFFSETFROM:+0000
TZOFFSETTO:+0100
TZNAME:Europe/Lisbon WEST
END:DAYLIGHT
BEGIN:DAYLIGHT
DTSTART:20180325T020000
RDATE:20181028T010000
TZOFFSETFROM:+0000
TZOFFSETTO:+0100
TZNAME:Europe/Lisbon WEST
END:DAYLIGHT
BEGIN:DAYLIGHT
DTSTART:20190331T020000
RDATE:20191027T010000
TZOFFSETFROM:+0000
TZOFFSETTO:+0100
TZNAME:Europe/Lisbon WEST
END:DAYLIGHT
BEGIN:DAYLIGHT
DTSTART:20200329T020000
RDATE:20201025T010000
TZOFFSETFROM:+0000
TZOFFSETTO:+0100
TZNAME:Europe/Lisbon WEST
END:DAYLIGHT
END:VTIMEZONE
BEGIN:VEVENT
UID:0b4f2a8b406858ee4d3fa0b20e13e697
CATEGORIES:Santos
SUMMARY:Beata Maria Clara do Menino Jesus
DESCRIPTION;ENCODING=QUOTED-PRINTABLE:\n\n\nA Beata Maria Clara do Menino Jesus nasceu no dia 15 de Junho de 1843
  na cidade da Amadora (Portugal) e faleceu a 1 de Dezembro de 1899. Foi bap
 tizada na Igreja de Nossa Senhora do Amparo, em Benfica, a 2 de Setembro de
  1843 com o nome Libânia do Carmo Galvão Mexia de Moura Telles e Albuquerqu
 e. Era sobrinha de D. Rodrigo de Moura Teles (bispo de Guarda e Arcebispo d
 e Braga). Ficou órfã de mãe em Maio de 1856 e de pai em 1857.\nAssim com ap
 enas 14 anos, acabou por entrar no Internato da Ajuda, destinado a órfãs de
  famílias nobres, em Outubro de 1857. Em 1862, deixou a referida instituiçã
 o e foi acolhida como dama de companhia na família dos Marqueses de Valada,
  seus parentes.\n     Em 1867, intuindo no seu íntimo o chamamento do Senho
 r para a vida religiosa, transferiu-se para o pensionato de São Patrício, e
 m Lisboa, junto às Terceiras Capuchinhas de Nossa Senhora da Conceição e em
  1869, vestiu o hábito de terceira e assumiu o nome de Maria Clara do Menin
 o Jesus.\nFoi enviada para a cidade de Calais, em França, a 10 de Fevereiro
  de 1870, para fazer o Noviciado, na intenção de vir a fundar em Portugal u
 ma nova Congregação. Realizou a profissão religiosa a 14 de Abril de 1871, 
 regressando a Portugal em 1 de Maio desse ano. Fundou a primeira Comunidade
  em São Patrício, Lisboa, a 3 de Maio de 1871 e, cinco anos depois, a 27 de
  Março de 1876, a Congregação das Irmãs Franciscanas Hospitaleiras da Imacu
 lada Conceição seria aprovada pela Santa Sé.\nA partir daí, abriu grande nú
 mero de casas para recolher pobres e necessitados, em Portugal continental,
  e enviou Irmãs para Angola, Índia, Guiné e Cabo Verde.\nFoi beatificada a 
 21 de Maio de 2011. \n
DTSTAMP:20260423T025558Z
DTSTART;TZID=Europe/Lisbon;VALUE=DATE:20171201
DTEND;TZID=Europe/Lisbon;VALUE=DATE:20171202
SEQUENCE:0
RRULE:FREQ=YEARLY;COUNT=100;INTERVAL=1;BYYEARDAY=-31
TRANSP:OPAQUE
END:VEVENT
END:VCALENDAR