BEGIN:VCALENDAR
VERSION:2.0
PRODID:-//jEvents 2.0 for Joomla//EN
CALSCALE:GREGORIAN
METHOD:PUBLISH
BEGIN:VTIMEZONE
TZID:Europe/Lisbon
BEGIN:STANDARD
DTSTART:20130114T000000
RDATE:20130331T020000
TZOFFSETFROM:+0100
TZOFFSETTO:+0000
TZNAME:Europe/Lisbon WET
END:STANDARD
BEGIN:STANDARD
DTSTART:20131027T010000
RDATE:20140330T020000
TZOFFSETFROM:+0100
TZOFFSETTO:+0000
TZNAME:Europe/Lisbon WET
END:STANDARD
BEGIN:STANDARD
DTSTART:20141026T010000
RDATE:20150329T020000
TZOFFSETFROM:+0100
TZOFFSETTO:+0000
TZNAME:Europe/Lisbon WET
END:STANDARD
BEGIN:STANDARD
DTSTART:20151025T010000
RDATE:20160327T020000
TZOFFSETFROM:+0100
TZOFFSETTO:+0000
TZNAME:Europe/Lisbon WET
END:STANDARD
BEGIN:STANDARD
DTSTART:20161030T010000
RDATE:20170326T020000
TZOFFSETFROM:+0100
TZOFFSETTO:+0000
TZNAME:Europe/Lisbon WET
END:STANDARD
BEGIN:STANDARD
DTSTART:20171029T010000
RDATE:20180325T020000
TZOFFSETFROM:+0100
TZOFFSETTO:+0000
TZNAME:Europe/Lisbon WET
END:STANDARD
BEGIN:STANDARD
DTSTART:20181028T010000
RDATE:20190331T020000
TZOFFSETFROM:+0100
TZOFFSETTO:+0000
TZNAME:Europe/Lisbon WET
END:STANDARD
BEGIN:STANDARD
DTSTART:20191027T010000
RDATE:20200329T020000
TZOFFSETFROM:+0100
TZOFFSETTO:+0000
TZNAME:Europe/Lisbon WET
END:STANDARD
BEGIN:STANDARD
DTSTART:20201025T010000
RDATE:20210328T020000
TZOFFSETFROM:+0100
TZOFFSETTO:+0000
TZNAME:Europe/Lisbon WET
END:STANDARD
BEGIN:DAYLIGHT
DTSTART:20130331T020000
RDATE:20131027T010000
TZOFFSETFROM:+0000
TZOFFSETTO:+0100
TZNAME:Europe/Lisbon WEST
END:DAYLIGHT
BEGIN:DAYLIGHT
DTSTART:20140330T020000
RDATE:20141026T010000
TZOFFSETFROM:+0000
TZOFFSETTO:+0100
TZNAME:Europe/Lisbon WEST
END:DAYLIGHT
BEGIN:DAYLIGHT
DTSTART:20150329T020000
RDATE:20151025T010000
TZOFFSETFROM:+0000
TZOFFSETTO:+0100
TZNAME:Europe/Lisbon WEST
END:DAYLIGHT
BEGIN:DAYLIGHT
DTSTART:20160327T020000
RDATE:20161030T010000
TZOFFSETFROM:+0000
TZOFFSETTO:+0100
TZNAME:Europe/Lisbon WEST
END:DAYLIGHT
BEGIN:DAYLIGHT
DTSTART:20170326T020000
RDATE:20171029T010000
TZOFFSETFROM:+0000
TZOFFSETTO:+0100
TZNAME:Europe/Lisbon WEST
END:DAYLIGHT
BEGIN:DAYLIGHT
DTSTART:20180325T020000
RDATE:20181028T010000
TZOFFSETFROM:+0000
TZOFFSETTO:+0100
TZNAME:Europe/Lisbon WEST
END:DAYLIGHT
BEGIN:DAYLIGHT
DTSTART:20190331T020000
RDATE:20191027T010000
TZOFFSETFROM:+0000
TZOFFSETTO:+0100
TZNAME:Europe/Lisbon WEST
END:DAYLIGHT
BEGIN:DAYLIGHT
DTSTART:20200329T020000
RDATE:20201025T010000
TZOFFSETFROM:+0000
TZOFFSETTO:+0100
TZNAME:Europe/Lisbon WEST
END:DAYLIGHT
END:VTIMEZONE
BEGIN:VEVENT
UID:cd0845838b5a7905be1eb2099181799a
CATEGORIES:Santos
SUMMARY:Beato Luís Variara
DESCRIPTION;ENCODING=QUOTED-PRINTABLE:O Beato Luís Variara nasceu em Viaregi, na província de Asti, Itália, em 18
 75. A família do Beato Luís Variara é profundamente cristã.\nO seu pai, tin
 ha ouvido falar de Dom Bosco em 1856 quando se deslocara ao povoado para pr
 egar uma missão. Então, decidiu o Beato a Valdocco para que continuasse ali
  os seus estudos. Dom Bosco morreu quatro meses depois de conhecer Luís Var
 iara, no entanto esse espaço de tempo bastou para marcar o Beato Luís Varia
 ra para toda a vida.\nO Beato Luís Variara entrou para o noviciado em 17 de
  agosto de 1891. Luís Variara estudou filosofia em Valsalice, onde conheceu
  o Padre André Beltrami.\nO Beato Luís Variara trabalhou a partir de 6 de a
 gosto de 1894, num leprosário com 2 mil habitantes, dos quais 800 era lepro
 sos e rapidamente se tornou a alma dos doentes em principal das crianças. O
 rganizou uma banda musical no leprosário.\nVeio a ser ordenado sacerdote no
  ano de 1898 e revelou-se um excelente diretor espiritual.\n Foi beatificad
 o pelo Papa João Paulo II a 14 de abril de 2002.\n \nNascimento: 15 de jane
 iro do ano 1875 d.C., em Viaregi, Asti, Itália\nMorte: 01 de fevereiro de 1
 923 d.C: em Cucuta, Colômbia\n\n \n
DTSTAMP:20260420T121940Z
DTSTART;TZID=Europe/Lisbon;VALUE=DATE:20140115
DTEND;TZID=Europe/Lisbon;VALUE=DATE:20140116
SEQUENCE:0
RRULE:FREQ=YEARLY;COUNT=100;INTERVAL=1;BYYEARDAY=+15
TRANSP:OPAQUE
END:VEVENT
END:VCALENDAR