BEGIN:VCALENDAR
VERSION:2.0
PRODID:-//jEvents 2.0 for Joomla//EN
CALSCALE:GREGORIAN
METHOD:PUBLISH
BEGIN:VTIMEZONE
TZID:Europe/Lisbon
BEGIN:STANDARD
DTSTART:20161129T000000
RDATE:20170326T020000
TZOFFSETFROM:+0100
TZOFFSETTO:+0000
TZNAME:Europe/Lisbon WET
END:STANDARD
BEGIN:STANDARD
DTSTART:20171029T010000
RDATE:20180325T020000
TZOFFSETFROM:+0100
TZOFFSETTO:+0000
TZNAME:Europe/Lisbon WET
END:STANDARD
BEGIN:STANDARD
DTSTART:20181028T010000
RDATE:20190331T020000
TZOFFSETFROM:+0100
TZOFFSETTO:+0000
TZNAME:Europe/Lisbon WET
END:STANDARD
BEGIN:STANDARD
DTSTART:20191027T010000
RDATE:20200329T020000
TZOFFSETFROM:+0100
TZOFFSETTO:+0000
TZNAME:Europe/Lisbon WET
END:STANDARD
BEGIN:STANDARD
DTSTART:20201025T010000
RDATE:20210328T020000
TZOFFSETFROM:+0100
TZOFFSETTO:+0000
TZNAME:Europe/Lisbon WET
END:STANDARD
BEGIN:DAYLIGHT
DTSTART:20170326T020000
RDATE:20171029T010000
TZOFFSETFROM:+0000
TZOFFSETTO:+0100
TZNAME:Europe/Lisbon WEST
END:DAYLIGHT
BEGIN:DAYLIGHT
DTSTART:20180325T020000
RDATE:20181028T010000
TZOFFSETFROM:+0000
TZOFFSETTO:+0100
TZNAME:Europe/Lisbon WEST
END:DAYLIGHT
BEGIN:DAYLIGHT
DTSTART:20190331T020000
RDATE:20191027T010000
TZOFFSETFROM:+0000
TZOFFSETTO:+0100
TZNAME:Europe/Lisbon WEST
END:DAYLIGHT
BEGIN:DAYLIGHT
DTSTART:20200329T020000
RDATE:20201025T010000
TZOFFSETFROM:+0000
TZOFFSETTO:+0100
TZNAME:Europe/Lisbon WEST
END:DAYLIGHT
END:VTIMEZONE
BEGIN:VEVENT
UID:3d39e8b5b8ef71830806a4033d9a6336
CATEGORIES:Santos
SUMMARY:Santo André
DESCRIPTION;ENCODING=QUOTED-PRINTABLE:\n\n\nSanto André era natural de Betsaida, cidade da Galileia às margens do
  lago de Genesaré. Era filho de Jonas, pescador local, e irmão de Simão Ped
 ro. Não se sabe qual dos dois seria o mais velho, se Santo André se S. Pedr
 o. Tinham uma casa em Cafarnaum, onde Jesus se costumava hospedar quando pr
 egava na cidade.\nEntre os doze Apóstolos de Cristo, André foi o primeiro a
  ser seu discípulo. Era também apontado pelos apóstolos &ldquo;número dois&
 rdquo;, somente depois de Pedro.\nQuando São João Baptista iniciou a sua pr
 egação de penitência, André tornou-se seu discípulo, e encontrava-se com S.
  João Baptista, quando este (S. João) vendo Jesus passar, depois de ser por
  ele batizado, disse a célebre frase: &ldquo;Eis o Cordeiro de Deus, que ti
 ra o pecado do mundo&rdquo;.\nAndré, começou então a seguir Jesus. Depois, 
 levou o irmão Simão-Pedro a conhecer Jesus, afirmando: &ldquo;Encontramos o
  Messias&rdquo;. Assim, tornou-se, também, o primeiro dos apóstolos a recru
 tar novos discípulos para o Senhor. Aparece no episódio da multiplicação do
 s pães: depois da resposta de Filipe, André indica a Jesus um jovem que pos
 suía os únicos alimentos ali presentes: cinco pães e dois peixes.\nPouco an
 tes da morte do Salvador, aparece o discípulo André ao lado de Filipe, como
  um de grande autoridade, pois é a ele que Filipe se dirige quando certos g
 regos pedem para ver o Senhor, e ambos contaram a Jesus.\nAndré participou 
 da vida pública de Jesus, estava presente na última ceia, viu Cristo Ressus
 citado, testemunhou a Ascensão e recebeu o primeiro Pentecostes. Ajudou a s
 edimentar a Igreja de Cristo a partir da Palestina, mas as localidades e re
 giões por onde pregou não sabemos com exatidão.\nSanto André foi crucificad
 o e ficou dois dias pregado numa cruz em forma de &ldquo;X&rdquo;; antes, p
 orém de morrer, despojou-se de suas vestes e bens, doando-os aos carrascos.
  Conta a tradição que, um pouco antes de Santo André morrer, foi possível v
 er uma grande luz envolvendo-o e apagando-se a seguir. Tudo ocorreu sob o i
 mpério de Nero, em 30 de novembro do ano 60.\n \nSanto André rogai por nós!
 \n
DTSTAMP:20260423T235115Z
DTSTART;TZID=Europe/Lisbon;VALUE=DATE:20171130
DTEND;TZID=Europe/Lisbon;VALUE=DATE:20171201
SEQUENCE:0
RRULE:FREQ=YEARLY;COUNT=100;INTERVAL=1;BYYEARDAY=-32
TRANSP:OPAQUE
END:VEVENT
END:VCALENDAR