BEGIN:VCALENDAR
VERSION:2.0
PRODID:-//jEvents 2.0 for Joomla//EN
CALSCALE:GREGORIAN
METHOD:PUBLISH
BEGIN:VTIMEZONE
TZID:Europe/Lisbon
BEGIN:STANDARD
DTSTART:20161128T000000
RDATE:20170326T020000
TZOFFSETFROM:+0100
TZOFFSETTO:+0000
TZNAME:Europe/Lisbon WET
END:STANDARD
BEGIN:STANDARD
DTSTART:20171029T010000
RDATE:20180325T020000
TZOFFSETFROM:+0100
TZOFFSETTO:+0000
TZNAME:Europe/Lisbon WET
END:STANDARD
BEGIN:STANDARD
DTSTART:20181028T010000
RDATE:20190331T020000
TZOFFSETFROM:+0100
TZOFFSETTO:+0000
TZNAME:Europe/Lisbon WET
END:STANDARD
BEGIN:STANDARD
DTSTART:20191027T010000
RDATE:20200329T020000
TZOFFSETFROM:+0100
TZOFFSETTO:+0000
TZNAME:Europe/Lisbon WET
END:STANDARD
BEGIN:STANDARD
DTSTART:20201025T010000
RDATE:20210328T020000
TZOFFSETFROM:+0100
TZOFFSETTO:+0000
TZNAME:Europe/Lisbon WET
END:STANDARD
BEGIN:DAYLIGHT
DTSTART:20170326T020000
RDATE:20171029T010000
TZOFFSETFROM:+0000
TZOFFSETTO:+0100
TZNAME:Europe/Lisbon WEST
END:DAYLIGHT
BEGIN:DAYLIGHT
DTSTART:20180325T020000
RDATE:20181028T010000
TZOFFSETFROM:+0000
TZOFFSETTO:+0100
TZNAME:Europe/Lisbon WEST
END:DAYLIGHT
BEGIN:DAYLIGHT
DTSTART:20190331T020000
RDATE:20191027T010000
TZOFFSETFROM:+0000
TZOFFSETTO:+0100
TZNAME:Europe/Lisbon WEST
END:DAYLIGHT
BEGIN:DAYLIGHT
DTSTART:20200329T020000
RDATE:20201025T010000
TZOFFSETFROM:+0000
TZOFFSETTO:+0100
TZNAME:Europe/Lisbon WEST
END:DAYLIGHT
END:VTIMEZONE
BEGIN:VEVENT
UID:d146f6288aea3468e06048814ba86797
CATEGORIES:Santos
SUMMARY:Beato Avelino Rodriguez e Companheiros
DESCRIPTION;ENCODING=QUOTED-PRINTABLE:\n\n\nO Beato Avelino Rodríguez Alonso nasceu em 9 de Novembro de 1879 em S
 antiago Millas (Espanha) e faleceu a 28 de Novembro de 1936. Era filho de B
 ernardo e Maria da Conceição. Beato Avelino Rodriguez foi baptizado a 10 de
  Novembro de 1879, apenas com um dia de vida. \nAvelino Rodriguez estudou v
 ários anos no seminário de Astorga. Fez o noviciado nos agostinianos do Rea
 l Mosteiro de San Lorenzo de El Escorial, a 45 km de Madrid, onde professou
  em 1897. Realizou estudos eclesiásticos no Mosteiro Real e foi ordenado sa
 cerdote em 1904. \nBeato Avelino Rodríguez era licenciado em Direito, e ded
 icou-se ao apostolado do ensino, de 1904 a 1930, no Colégio Real de Alfonso
  XII, em Ronda (Málaga) e no Colégio Real Maria Cristina, de El Escorial. E
 m 1933 foi eleito provincial, residente em Madrid.\nEm 18 de Julho de 1936,
  o Pe. Avelino foi preso. Como superior responsável por outros religiosos p
 resos com ele, rejeitou a liberdade oferecida por um primo, alegando que só
  iria quando todos os seus súditos deixassem. \nEm 14 de Novembro, Beato Av
 elino Rodríguez foi transferido para a prisão de San Antón, em Madrid, onde
  foi condenado à morte por ser religioso. Em 28 de novembro de 1936, muito 
 cedo pela manhã, chamaram-no para matá-lo. Foi levado para Paracuellos de J
 arama, lugar do martírio, juntamente com outros onze religiosos agostiniano
 s.\nDiante da realidade que se aproximava, o Pe. Avelino tomou a determinaç
 ão energética de falar com o responsável: pediu permissão para dizer adeus 
 aos seus companheiros, abraçou os onze, dando-lhes a absolvição sacramental
  e dirigindo-se a quem os assassinaria. Disse o Beato Avelino Rodríguez: " 
 Sabemos que nos matam por sermos católicos e religiosos. Nós os perdoamos a
  todos. Viva Cristo Rei! "\nConjuntamente com Beato Avelino Rodríguez foram
  martirizados: \n- Benito Mayor González, nascido em 1883 em Villayermo (Bu
 rgos), sacerdote, dedicou sua vida ao apostolado do ensino. \n- Bernardino 
 Álvarez Melcón, nascido em 1903 em Rosales (Leão), sacerdote, professor, su
 perior e professor de jovens professos em El Escorial. \n- Manuel Álvarez R
 ego de Seves, nascido em 1908 em Sésamo (León), sacerdote, dedicou-se ao ap
 ostolado do ensino. \n-Juan Baldajos Pérez, nascido em Valência em1872, jog
 ou em Ronda e El Escorial os escritórios de porteiro e mordomo. \n- Senén G
 arcía González, nascido em Villarín (León) em 1905, sacerdote ordenado em 1
 8-7-1936. \n- Samuel Pajares García, nascido em Roscales (Valência) em 1907
 , sacerdote, licenciado em teologia em Roma, professor em Madrid e El Escor
 ial. \n- José Peque Iglesias, nascido em Rosinos de Vidriales (Zamora) em 1
 915, veio estudar filosofia e começou a teologia. \n- Marcos Pérez Andrés, 
 nascido em Villasarracino (Palência) em 1917, era um irmão aspirante, já no
  período de pós-aposentadoria; Na prisão distinguiu-se pela sua ânsia de se
 rvir os anciãos. \n- Luciano Ruiz Valtierra, nascido em Villanueva de Odra 
 (Burgos) em 1915, veio estudar cursos de filosofia.\n- Balbino Villarroel V
 illarroel, nascido em Tejerina (Leão) em 1910, sacerdote ordenado em 13-8-1
 933.\n- Sabino Rodrigo Fierro, nascido em Cerezal (Leão) em 1874, sacerdote
 , licenciou em Ciências Naturais e dedicou-se ao ensino.\n
DTSTAMP:20260422T233506Z
DTSTART;TZID=Europe/Lisbon;VALUE=DATE:20171129
DTEND;TZID=Europe/Lisbon;VALUE=DATE:20171130
SEQUENCE:0
RRULE:FREQ=YEARLY;COUNT=100;INTERVAL=1;BYYEARDAY=-33
TRANSP:OPAQUE
END:VEVENT
END:VCALENDAR